BEGIN:VCALENDAR
VERSION:2.0
PRODID:-//SC State Beekeepers Association - ECPv6.15.20//NONSGML v1.0//EN
CALSCALE:GREGORIAN
METHOD:PUBLISH
X-ORIGINAL-URL:https://scstatebeekeepers.com
X-WR-CALDESC:Events for SC State Beekeepers Association
REFRESH-INTERVAL;VALUE=DURATION:PT1H
X-Robots-Tag:noindex
X-PUBLISHED-TTL:PT1H
BEGIN:VTIMEZONE
TZID:America/New_York
BEGIN:DAYLIGHT
TZOFFSETFROM:-0500
TZOFFSETTO:-0400
TZNAME:EDT
DTSTART:20230312T070000
END:DAYLIGHT
BEGIN:STANDARD
TZOFFSETFROM:-0400
TZOFFSETTO:-0500
TZNAME:EST
DTSTART:20231105T060000
END:STANDARD
BEGIN:DAYLIGHT
TZOFFSETFROM:-0500
TZOFFSETTO:-0400
TZNAME:EDT
DTSTART:20240310T070000
END:DAYLIGHT
BEGIN:STANDARD
TZOFFSETFROM:-0400
TZOFFSETTO:-0500
TZNAME:EST
DTSTART:20241103T060000
END:STANDARD
BEGIN:DAYLIGHT
TZOFFSETFROM:-0500
TZOFFSETTO:-0400
TZNAME:EDT
DTSTART:20250309T070000
END:DAYLIGHT
BEGIN:STANDARD
TZOFFSETFROM:-0400
TZOFFSETTO:-0500
TZNAME:EST
DTSTART:20251102T060000
END:STANDARD
END:VTIMEZONE
BEGIN:VEVENT
DTSTART;VALUE=DATE:20240718
DTEND;VALUE=DATE:20240721
DTSTAMP:20260420T073844
CREATED:20240117T173717Z
LAST-MODIFIED:20240518T022457Z
UID:10003233-1721260800-1721519999@scstatebeekeepers.com
SUMMARY:2024 Summer Conference:  Charleston\, SC
DESCRIPTION:
URL:https://scstatebeekeepers.com/event/2024-summer-conference-charleston-sc/
LOCATION:Trident Technical College\, 7000 Rivers Ave\, North Charleston\, SC\, 29406\, United States
CATEGORIES:Summer Conference
GEO:32.9271316;-80.0312506
X-APPLE-STRUCTURED-LOCATION;VALUE=URI;X-ADDRESS=Trident Technical College 7000 Rivers Ave North Charleston SC 29406 United States;X-APPLE-RADIUS=500;X-TITLE=7000 Rivers Ave:geo:-80.0312506,32.9271316
END:VEVENT
BEGIN:VEVENT
DTSTART;TZID=America/New_York:20240720T090000
DTEND;TZID=America/New_York:20240720T110000
DTSTAMP:20260420T073844
CREATED:20210810T195342Z
LAST-MODIFIED:20250424T031155Z
UID:10003414-1721466000-1721473200@scstatebeekeepers.com
SUMMARY:Dorchester Bee & Garden Club
DESCRIPTION:
URL:https://scstatebeekeepers.com/event/dorchester-beekeepers-and-gardeners/2024-07-20/
LOCATION:Dorchester Beekeepers & Gardeners\, 507 School House Rd\, Dorchester\, SC\, 29437\, United States
GEO:33.1486588;-80.3880463
X-APPLE-STRUCTURED-LOCATION;VALUE=URI;X-ADDRESS=Dorchester Beekeepers & Gardeners 507 School House Rd Dorchester SC 29437 United States;X-APPLE-RADIUS=500;X-TITLE=507 School House Rd:geo:-80.3880463,33.1486588
END:VEVENT
END:VCALENDAR