BEGIN:VCALENDAR
VERSION:2.0
PRODID:-//SC State Beekeepers Association - ECPv6.15.20//NONSGML v1.0//EN
CALSCALE:GREGORIAN
METHOD:PUBLISH
X-WR-CALNAME:SC State Beekeepers Association
X-ORIGINAL-URL:https://scstatebeekeepers.com
X-WR-CALDESC:Events for SC State Beekeepers Association
REFRESH-INTERVAL;VALUE=DURATION:PT1H
X-Robots-Tag:noindex
X-PUBLISHED-TTL:PT1H
BEGIN:VTIMEZONE
TZID:UTC
BEGIN:STANDARD
TZOFFSETFROM:+0000
TZOFFSETTO:+0000
TZNAME:UTC
DTSTART:20210101T000000
END:STANDARD
END:VTIMEZONE
BEGIN:VTIMEZONE
TZID:America/New_York
BEGIN:DAYLIGHT
TZOFFSETFROM:-0500
TZOFFSETTO:-0400
TZNAME:EDT
DTSTART:20210314T070000
END:DAYLIGHT
BEGIN:STANDARD
TZOFFSETFROM:-0400
TZOFFSETTO:-0500
TZNAME:EST
DTSTART:20211107T060000
END:STANDARD
BEGIN:DAYLIGHT
TZOFFSETFROM:-0500
TZOFFSETTO:-0400
TZNAME:EDT
DTSTART:20220313T070000
END:DAYLIGHT
BEGIN:STANDARD
TZOFFSETFROM:-0400
TZOFFSETTO:-0500
TZNAME:EST
DTSTART:20221106T060000
END:STANDARD
BEGIN:DAYLIGHT
TZOFFSETFROM:-0500
TZOFFSETTO:-0400
TZNAME:EDT
DTSTART:20230312T070000
END:DAYLIGHT
BEGIN:STANDARD
TZOFFSETFROM:-0400
TZOFFSETTO:-0500
TZNAME:EST
DTSTART:20231105T060000
END:STANDARD
END:VTIMEZONE
BEGIN:VEVENT
DTSTART;TZID=UTC:20220425T190000
DTEND;TZID=UTC:20220425T203000
DTSTAMP:20260420T201217
CREATED:20180228T221115Z
LAST-MODIFIED:20240518T033644Z
UID:10003471-1650913200-1650918600@scstatebeekeepers.com
SUMMARY:Fort Mill Bee Club Monthly Meeting
DESCRIPTION:
URL:https://scstatebeekeepers.com/event/fort-mill-bee-club-monthly-meeting/2022-04-25/
LOCATION:Fort Mill Bee Club\, 3187 Colonel Springs Way\, Fort Mill\, SC\, 29708
GEO:35.02526;-80.097688
X-APPLE-STRUCTURED-LOCATION;VALUE=URI;X-ADDRESS=Fort Mill Bee Club 3187 Colonel Springs Way Fort Mill SC 29708;X-APPLE-RADIUS=500;X-TITLE=3187 Colonel Springs Way:geo:-80.097688,35.02526
END:VEVENT
BEGIN:VEVENT
DTSTART;TZID=America/New_York:20220421T190000
DTEND;TZID=America/New_York:20220421T203000
DTSTAMP:20260420T201217
CREATED:20210120T155517Z
LAST-MODIFIED:20240518T040714Z
UID:10002871-1650567600-1650573000@scstatebeekeepers.com
SUMMARY:Lowcountry Beekeepers Association Monthly Meeting
DESCRIPTION:Meetings are every third Thursday. We begin at 7:00 P.M. with a meal included.
URL:https://scstatebeekeepers.com/event/lowcountry-beekeepers-association-monthly-meeting-2/2022-04-21/
LOCATION:Lowcountry Beekeepers Association\, 1066 Holly Ridge Lane\, Cottageville\, SC\, 29435\, United States
GEO:33.048138;-80.438762
X-APPLE-STRUCTURED-LOCATION;VALUE=URI;X-ADDRESS=Lowcountry Beekeepers Association 1066 Holly Ridge Lane Cottageville SC 29435 United States;X-APPLE-RADIUS=500;X-TITLE=1066 Holly Ridge Lane:geo:-80.438762,33.048138
END:VEVENT
BEGIN:VEVENT
DTSTART;TZID=America/New_York:20220421T184500
DTEND;TZID=America/New_York:20220421T200000
DTSTAMP:20260420T201217
CREATED:20211206T162614Z
LAST-MODIFIED:20250424T033250Z
UID:10003031-1650566700-1650571200@scstatebeekeepers.com
SUMMARY:Monthly Meeting - Pee Dee Beekeepers Association
DESCRIPTION:
URL:https://scstatebeekeepers.com/event/monthly-meeting-pee-dee-beekeepers-association/2022-04-21/
LOCATION:Pee Dee Beekeepers Association\, 2101 North Williston Road\, Florence\, SC\, 29506\, United States
GEO:34.23818348;-79.68999
X-APPLE-STRUCTURED-LOCATION;VALUE=URI;X-ADDRESS=Pee Dee Beekeepers Association 2101 North Williston Road Florence SC 29506 United States;X-APPLE-RADIUS=500;X-TITLE=2101 North Williston Road:geo:-79.68999,34.23818348
END:VEVENT
BEGIN:VEVENT
DTSTART;TZID=UTC:20220419T190000
DTEND;TZID=UTC:20220419T210000
DTSTAMP:20260420T201217
CREATED:20180228T223728Z
LAST-MODIFIED:20240519T010610Z
UID:10002285-1650394800-1650402000@scstatebeekeepers.com
SUMMARY:Piedmont Beekeepers Association Monthly Meeting
DESCRIPTION:
URL:https://scstatebeekeepers.com/event/piedmont-beekeepers-association-monthly-meeting/2022-04-19/
LOCATION:Piedmont Beekeepers Association\, 1300 Reid School Road\, Taylor\, SC\, 29687\, United States
GEO:34.93994;-82.33459
X-APPLE-STRUCTURED-LOCATION;VALUE=URI;X-ADDRESS=Piedmont Beekeepers Association 1300 Reid School Road Taylor SC 29687 United States;X-APPLE-RADIUS=500;X-TITLE=1300 Reid School Road:geo:-82.33459,34.93994
END:VEVENT
BEGIN:VEVENT
DTSTART;TZID=UTC:20220419T190000
DTEND;TZID=UTC:20220419T210000
DTSTAMP:20260420T201217
CREATED:20180228T214107Z
LAST-MODIFIED:20240518T024436Z
UID:10003323-1650394800-1650402000@scstatebeekeepers.com
SUMMARY:Beaufort / Jasper Beekeepers Association Monthly Meeting
DESCRIPTION:
URL:https://scstatebeekeepers.com/event/beaufort-jasper-beekeepers-association-monthly-meeting/2022-04-19/
LOCATION:Beaufort / Jasper Beekeepers Association\, 70 Honey Horn Drive\, Hilton Head Island\, SC\, 29926\, United States
GEO:32.21156;-80.74404
X-APPLE-STRUCTURED-LOCATION;VALUE=URI;X-ADDRESS=Beaufort / Jasper Beekeepers Association 70 Honey Horn Drive Hilton Head Island SC 29926 United States;X-APPLE-RADIUS=500;X-TITLE=70 Honey Horn Drive:geo:-80.74404,32.21156
END:VEVENT
BEGIN:VEVENT
DTSTART;TZID=America/New_York:20220416T090000
DTEND;TZID=America/New_York:20220416T110000
DTSTAMP:20260420T201217
CREATED:20210810T195342Z
LAST-MODIFIED:20250424T031155Z
UID:10002931-1650099600-1650106800@scstatebeekeepers.com
SUMMARY:Dorchester Bee & Garden Club
DESCRIPTION:
URL:https://scstatebeekeepers.com/event/dorchester-beekeepers-and-gardeners/2022-04-16/
LOCATION:Dorchester Beekeepers & Gardeners\, 507 School House Rd\, Dorchester\, SC\, 29437\, United States
GEO:33.1486588;-80.3880463
X-APPLE-STRUCTURED-LOCATION;VALUE=URI;X-ADDRESS=Dorchester Beekeepers & Gardeners 507 School House Rd Dorchester SC 29437 United States;X-APPLE-RADIUS=500;X-TITLE=507 School House Rd:geo:-80.3880463,33.1486588
END:VEVENT
BEGIN:VEVENT
DTSTART;TZID=UTC:20220414T183000
DTEND;TZID=UTC:20220414T203000
DTSTAMP:20260420T201217
CREATED:20180228T223947Z
LAST-MODIFIED:20250424T032336Z
UID:10002355-1649961000-1649968200@scstatebeekeepers.com
SUMMARY:Spartanburg County Beekeepers Association
DESCRIPTION:2nd Thursday of each month except May (annual picnic) and Dec (annual Christmas party)\nCome early at 6:30pm for meet and greet – Meeting starts at 7:00pm
URL:https://scstatebeekeepers.com/event/spartanburg-county-beekeepers-association/2022-04-14/
LOCATION:Spartanburg County Beekeepers Association\, 107 Community College Drive\, Spartanburg\, SC\, 29303\, United States
GEO:34.97662;-81.9933
X-APPLE-STRUCTURED-LOCATION;VALUE=URI;X-ADDRESS=Spartanburg County Beekeepers Association 107 Community College Drive Spartanburg SC 29303 United States;X-APPLE-RADIUS=500;X-TITLE=107 Community College Drive:geo:-81.9933,34.97662
END:VEVENT
BEGIN:VEVENT
DTSTART;TZID=UTC:20220414T183000
DTEND;TZID=UTC:20220414T200000
DTSTAMP:20260420T201217
CREATED:20180305T183354Z
LAST-MODIFIED:20240518T030228Z
UID:10002609-1649961000-1649966400@scstatebeekeepers.com
SUMMARY:Charleston Community Bee Gardens Monthly Meeting
DESCRIPTION:
URL:https://scstatebeekeepers.com/event/charleston-community-bee-gardens-monthly-meeting/2022-04-14/
LOCATION:Charleston Community Bee Gardens\, 65 Fairchild Street\, Charleston\, SC\, 29492\, United States
GEO:32.86534;-79.90806
X-APPLE-STRUCTURED-LOCATION;VALUE=URI;X-ADDRESS=Charleston Community Bee Gardens 65 Fairchild Street Charleston SC 29492 United States;X-APPLE-RADIUS=500;X-TITLE=65 Fairchild Street:geo:-79.90806,32.86534
END:VEVENT
BEGIN:VEVENT
DTSTART;TZID=America/New_York:20220414T180000
DTEND;TZID=America/New_York:20220414T200000
DTSTAMP:20260420T201217
CREATED:20210729T125333Z
LAST-MODIFIED:20250424T033423Z
UID:10005105-1649959200-1649966400@scstatebeekeepers.com
SUMMARY:Oconee County Beekeepers Monthly Meeting
DESCRIPTION:
URL:https://scstatebeekeepers.com/event/oconee-county-beekeepers-monthly-meeting/2022-04-14/
LOCATION:Oconee County Beekeepers Association\, 223 Kenneth Street\, Walhalla\, SC\, 29691\, United States
GEO:34.7580492;-83.0553507
X-APPLE-STRUCTURED-LOCATION;VALUE=URI;X-ADDRESS=Oconee County Beekeepers Association 223 Kenneth Street Walhalla SC 29691 United States;X-APPLE-RADIUS=500;X-TITLE=223 Kenneth Street:geo:-83.0553507,34.7580492
END:VEVENT
BEGIN:VEVENT
DTSTART;TZID=America/New_York:20220412T173000
DTEND;TZID=America/New_York:20220412T200000
DTSTAMP:20260420T201217
CREATED:20191127T125506Z
LAST-MODIFIED:20250424T032427Z
UID:10003679-1649784600-1649793600@scstatebeekeepers.com
SUMMARY:Sumter Beekeepers Association Monthly Meeting
DESCRIPTION:
URL:https://scstatebeekeepers.com/event/sumter-beekeepers-association-monthly-meeting/2022-04-12/
LOCATION:Sumter Beekeepers Association\, 1770 US-15 South\, Sumter\, SC\, 29153\, United States
GEO:33.869541197012;-80.357097459933
X-APPLE-STRUCTURED-LOCATION;VALUE=URI;X-ADDRESS=Sumter Beekeepers Association 1770 US-15 South Sumter SC 29153 United States;X-APPLE-RADIUS=500;X-TITLE=1770 US-15 South:geo:-80.357097459933,33.869541197012
END:VEVENT
BEGIN:VEVENT
DTSTART;TZID=America/New_York:20220409T090000
DTEND;TZID=America/New_York:20220409T110000
DTSTAMP:20260420T201217
CREATED:20220113T151313Z
LAST-MODIFIED:20240518T025800Z
UID:10003178-1649494800-1649502000@scstatebeekeepers.com
SUMMARY:Charleston Area Beekeepers Association Monthly Meeting
DESCRIPTION:
URL:https://scstatebeekeepers.com/event/charleston-area-beekeepers-association-monthly-meeting-2/2022-04-09/
LOCATION:Charleston Area Beekeepers Association\, 901 Orange Grove Road\, Charleston\, SC\, 29407\, United States
GEO:32.82296;-79.98047
X-APPLE-STRUCTURED-LOCATION;VALUE=URI;X-ADDRESS=Charleston Area Beekeepers Association 901 Orange Grove Road Charleston SC 29407 United States;X-APPLE-RADIUS=500;X-TITLE=901 Orange Grove Road:geo:-79.98047,32.82296
END:VEVENT
BEGIN:VEVENT
DTSTART;TZID=America/New_York:20220407T190000
DTEND;TZID=America/New_York:20220407T210000
DTSTAMP:20260420T201217
CREATED:20211210T215235Z
LAST-MODIFIED:20250424T033020Z
UID:10003105-1649358000-1649365200@scstatebeekeepers.com
SUMMARY:Lancaster Beekeepers Association Monthly Meeting
DESCRIPTION:
URL:https://scstatebeekeepers.com/event/lancaster-beekeepers-association-monthly-meeting/2022-04-07/
LOCATION:Lancaster County Beekeepers Association\, 346 Shiloh Unity Road\, Lancaster\, SC\, 29720\, United States
GEO:34.77418;-80.78159
X-APPLE-STRUCTURED-LOCATION;VALUE=URI;X-ADDRESS=Lancaster County Beekeepers Association 346 Shiloh Unity Road Lancaster SC 29720 United States;X-APPLE-RADIUS=500;X-TITLE=346 Shiloh Unity Road:geo:-80.78159,34.77418
END:VEVENT
BEGIN:VEVENT
DTSTART;TZID=America/New_York:20220407T183000
DTEND;TZID=America/New_York:20220407T203000
DTSTAMP:20260420T201217
CREATED:20201230T183920Z
LAST-MODIFIED:20250424T032719Z
UID:10002829-1649356200-1649363400@scstatebeekeepers.com
SUMMARY:Wateree Beekeepers Association Monthly Meeting
DESCRIPTION:The WBA continues to meet the first Thursday of every month at 6:30 PM\, except July\, when it meets the second Thursday of the month.
URL:https://scstatebeekeepers.com/event/wateree-beekeepers-association-monthly-meeting-2/2022-04-07/
LOCATION:Wateree Beekeepers Association\, 634 Dekalb Street\, Camden\, SC\, 29020\, United States
GEO:34.246512;-80.6086523
X-APPLE-STRUCTURED-LOCATION;VALUE=URI;X-ADDRESS=Wateree Beekeepers Association 634 Dekalb Street Camden SC 29020 United States;X-APPLE-RADIUS=500;X-TITLE=634 Dekalb Street:geo:-80.6086523,34.246512
END:VEVENT
BEGIN:VEVENT
DTSTART;TZID=UTC:20220407T180000
DTEND;TZID=UTC:20220407T200000
DTSTAMP:20260420T201217
CREATED:20180228T222131Z
LAST-MODIFIED:20250424T031600Z
UID:10002110-1649354400-1649361600@scstatebeekeepers.com
SUMMARY:Laurens County Beekeepers Association Monthly Meeting
DESCRIPTION:
URL:https://scstatebeekeepers.com/event/laurens-county-beekeepers-association-monthly-meeting/2022-04-07/
LOCATION:Laurens County Beekeepers Association\, 110 Scout Creek Ct\, Laurens\, SC\, 29360-2668\, United States
GEO:34.4994578;-82.0165948
X-APPLE-STRUCTURED-LOCATION;VALUE=URI;X-ADDRESS=Laurens County Beekeepers Association 110 Scout Creek Ct Laurens SC 29360-2668 United States;X-APPLE-RADIUS=500;X-TITLE=110 Scout Creek Ct:geo:-82.0165948,34.4994578
END:VEVENT
BEGIN:VEVENT
DTSTART;TZID=UTC:20220405T183000
DTEND;TZID=UTC:20220405T203000
DTSTAMP:20260420T201217
CREATED:20180228T224212Z
LAST-MODIFIED:20250424T032519Z
UID:10002426-1649183400-1649190600@scstatebeekeepers.com
SUMMARY:Union County Beekeepers Association Monthly Meeting
DESCRIPTION:
URL:https://scstatebeekeepers.com/event/union-county-beekeepers-association-monthly-meeting/2022-04-05/
LOCATION:Union County Beekeepers Association\, 120 Kirby Street\, Union\, SC\, 29379\, United States
GEO:34.7264322;-81.6384482
X-APPLE-STRUCTURED-LOCATION;VALUE=URI;X-ADDRESS=Union County Beekeepers Association 120 Kirby Street Union SC 29379 United States;X-APPLE-RADIUS=500;X-TITLE=120 Kirby Street:geo:-81.6384482,34.7264322
END:VEVENT
BEGIN:VEVENT
DTSTART;TZID=America/New_York:20220405T183000
DTEND;TZID=America/New_York:20220405T200000
DTSTAMP:20260420T201217
CREATED:20211207T124419Z
LAST-MODIFIED:20250424T031852Z
UID:10003057-1649183400-1649188800@scstatebeekeepers.com
SUMMARY:Midstate Beekeepers Association Monthly Meeting
DESCRIPTION:
URL:https://scstatebeekeepers.com/event/midstate-beekeepers-association-monthly-meeting-2/2022-04-05/
LOCATION:Midstate Beekeepers Association\, 3215 Platt Springs Rd\, West Columbia\, SC\, 29170\, United States
GEO:33.95689;-81.11415
X-APPLE-STRUCTURED-LOCATION;VALUE=URI;X-ADDRESS=Midstate Beekeepers Association 3215 Platt Springs Rd West Columbia SC 29170 United States;X-APPLE-RADIUS=500;X-TITLE=3215 Platt Springs Rd:geo:-81.11415,33.95689
END:VEVENT
BEGIN:VEVENT
DTSTART;TZID=America/New_York:20220404T190000
DTEND;TZID=America/New_York:20220404T203000
DTSTAMP:20260420T201217
CREATED:20220216T133454Z
LAST-MODIFIED:20250424T031331Z
UID:10003142-1649098800-1649104200@scstatebeekeepers.com
SUMMARY:Lake Wylie Bee Club Monthly Meeting
DESCRIPTION:
URL:https://scstatebeekeepers.com/event/lake-wylie-bee-club-monthly-meeting-2/2022-04-04/
LOCATION:Lake Wylie Bee Club\, 5766 Charlotte Hwy\, Lake Wylie\, SC\, 29710\, United States
GEO:35.09866;-81.09396
X-APPLE-STRUCTURED-LOCATION;VALUE=URI;X-ADDRESS=Lake Wylie Bee Club 5766 Charlotte Hwy Lake Wylie SC 29710 United States;X-APPLE-RADIUS=500;X-TITLE=5766 Charlotte Hwy:geo:-81.09396,35.09866
END:VEVENT
BEGIN:VEVENT
DTSTART;TZID=UTC:20220328T190000
DTEND;TZID=UTC:20220328T203000
DTSTAMP:20260420T201217
CREATED:20180228T221115Z
LAST-MODIFIED:20240518T033644Z
UID:10003470-1648494000-1648499400@scstatebeekeepers.com
SUMMARY:Fort Mill Bee Club Monthly Meeting
DESCRIPTION:
URL:https://scstatebeekeepers.com/event/fort-mill-bee-club-monthly-meeting/2022-03-28/
LOCATION:Fort Mill Bee Club\, 3187 Colonel Springs Way\, Fort Mill\, SC\, 29708
GEO:35.02526;-80.097688
X-APPLE-STRUCTURED-LOCATION;VALUE=URI;X-ADDRESS=Fort Mill Bee Club 3187 Colonel Springs Way Fort Mill SC 29708;X-APPLE-RADIUS=500;X-TITLE=3187 Colonel Springs Way:geo:-80.097688,35.02526
END:VEVENT
BEGIN:VEVENT
DTSTART;TZID=America/New_York:20220319T090000
DTEND;TZID=America/New_York:20220319T110000
DTSTAMP:20260420T201217
CREATED:20210810T195342Z
LAST-MODIFIED:20250424T031155Z
UID:10002930-1647680400-1647687600@scstatebeekeepers.com
SUMMARY:Dorchester Bee & Garden Club
DESCRIPTION:
URL:https://scstatebeekeepers.com/event/dorchester-beekeepers-and-gardeners/2022-03-19/
LOCATION:Dorchester Beekeepers & Gardeners\, 507 School House Rd\, Dorchester\, SC\, 29437\, United States
GEO:33.1486588;-80.3880463
X-APPLE-STRUCTURED-LOCATION;VALUE=URI;X-ADDRESS=Dorchester Beekeepers & Gardeners 507 School House Rd Dorchester SC 29437 United States;X-APPLE-RADIUS=500;X-TITLE=507 School House Rd:geo:-80.3880463,33.1486588
END:VEVENT
BEGIN:VEVENT
DTSTART;TZID=America/New_York:20220317T190000
DTEND;TZID=America/New_York:20220317T203000
DTSTAMP:20260420T201217
CREATED:20210120T155517Z
LAST-MODIFIED:20240518T040714Z
UID:10002870-1647543600-1647549000@scstatebeekeepers.com
SUMMARY:Lowcountry Beekeepers Association Monthly Meeting
DESCRIPTION:Meetings are every third Thursday. We begin at 7:00 P.M. with a meal included.
URL:https://scstatebeekeepers.com/event/lowcountry-beekeepers-association-monthly-meeting-2/2022-03-17/
LOCATION:Lowcountry Beekeepers Association\, 1066 Holly Ridge Lane\, Cottageville\, SC\, 29435\, United States
GEO:33.048138;-80.438762
X-APPLE-STRUCTURED-LOCATION;VALUE=URI;X-ADDRESS=Lowcountry Beekeepers Association 1066 Holly Ridge Lane Cottageville SC 29435 United States;X-APPLE-RADIUS=500;X-TITLE=1066 Holly Ridge Lane:geo:-80.438762,33.048138
END:VEVENT
BEGIN:VEVENT
DTSTART;TZID=America/New_York:20220317T184500
DTEND;TZID=America/New_York:20220317T200000
DTSTAMP:20260420T201217
CREATED:20211206T162614Z
LAST-MODIFIED:20250424T033250Z
UID:10003030-1647542700-1647547200@scstatebeekeepers.com
SUMMARY:Monthly Meeting - Pee Dee Beekeepers Association
DESCRIPTION:
URL:https://scstatebeekeepers.com/event/monthly-meeting-pee-dee-beekeepers-association/2022-03-17/
LOCATION:Pee Dee Beekeepers Association\, 2101 North Williston Road\, Florence\, SC\, 29506\, United States
GEO:34.23818348;-79.68999
X-APPLE-STRUCTURED-LOCATION;VALUE=URI;X-ADDRESS=Pee Dee Beekeepers Association 2101 North Williston Road Florence SC 29506 United States;X-APPLE-RADIUS=500;X-TITLE=2101 North Williston Road:geo:-79.68999,34.23818348
END:VEVENT
BEGIN:VEVENT
DTSTART;TZID=UTC:20220315T190000
DTEND;TZID=UTC:20220315T210000
DTSTAMP:20260420T201217
CREATED:20180228T223728Z
LAST-MODIFIED:20240519T010610Z
UID:10002284-1647370800-1647378000@scstatebeekeepers.com
SUMMARY:Piedmont Beekeepers Association Monthly Meeting
DESCRIPTION:
URL:https://scstatebeekeepers.com/event/piedmont-beekeepers-association-monthly-meeting/2022-03-15/
LOCATION:Piedmont Beekeepers Association\, 1300 Reid School Road\, Taylor\, SC\, 29687\, United States
GEO:34.93994;-82.33459
X-APPLE-STRUCTURED-LOCATION;VALUE=URI;X-ADDRESS=Piedmont Beekeepers Association 1300 Reid School Road Taylor SC 29687 United States;X-APPLE-RADIUS=500;X-TITLE=1300 Reid School Road:geo:-82.33459,34.93994
END:VEVENT
BEGIN:VEVENT
DTSTART;TZID=UTC:20220315T190000
DTEND;TZID=UTC:20220315T210000
DTSTAMP:20260420T201217
CREATED:20180228T214107Z
LAST-MODIFIED:20240518T024436Z
UID:10003322-1647370800-1647378000@scstatebeekeepers.com
SUMMARY:Beaufort / Jasper Beekeepers Association Monthly Meeting
DESCRIPTION:
URL:https://scstatebeekeepers.com/event/beaufort-jasper-beekeepers-association-monthly-meeting/2022-03-15/
LOCATION:Beaufort / Jasper Beekeepers Association\, 70 Honey Horn Drive\, Hilton Head Island\, SC\, 29926\, United States
GEO:32.21156;-80.74404
X-APPLE-STRUCTURED-LOCATION;VALUE=URI;X-ADDRESS=Beaufort / Jasper Beekeepers Association 70 Honey Horn Drive Hilton Head Island SC 29926 United States;X-APPLE-RADIUS=500;X-TITLE=70 Honey Horn Drive:geo:-80.74404,32.21156
END:VEVENT
BEGIN:VEVENT
DTSTART;TZID=America/New_York:20220315T183000
DTEND;TZID=America/New_York:20220315T203000
DTSTAMP:20260420T201217
CREATED:20211123T130322Z
LAST-MODIFIED:20211123T130322Z
UID:10003027-1647369000-1647376200@scstatebeekeepers.com
SUMMARY:SC Certified BK Class
DESCRIPTION:
URL:https://scstatebeekeepers.com/event/sc-certified-bk-class/2022-03-15/
LOCATION:Chester County Beekeepers Association\, 116 Columbia Street\, Chester\, SC\, 29706\, United States
GEO:34.7039566;-81.2130524
X-APPLE-STRUCTURED-LOCATION;VALUE=URI;X-ADDRESS=Chester County Beekeepers Association 116 Columbia Street Chester SC 29706 United States;X-APPLE-RADIUS=500;X-TITLE=116 Columbia Street:geo:-81.2130524,34.7039566
END:VEVENT
BEGIN:VEVENT
DTSTART;TZID=America/New_York:20220312T090000
DTEND;TZID=America/New_York:20220312T110000
DTSTAMP:20260420T201217
CREATED:20220113T151313Z
LAST-MODIFIED:20240518T025800Z
UID:10003177-1647075600-1647082800@scstatebeekeepers.com
SUMMARY:Charleston Area Beekeepers Association Monthly Meeting
DESCRIPTION:
URL:https://scstatebeekeepers.com/event/charleston-area-beekeepers-association-monthly-meeting-2/2022-03-12/
LOCATION:Charleston Area Beekeepers Association\, 901 Orange Grove Road\, Charleston\, SC\, 29407\, United States
GEO:32.82296;-79.98047
X-APPLE-STRUCTURED-LOCATION;VALUE=URI;X-ADDRESS=Charleston Area Beekeepers Association 901 Orange Grove Road Charleston SC 29407 United States;X-APPLE-RADIUS=500;X-TITLE=901 Orange Grove Road:geo:-79.98047,32.82296
END:VEVENT
BEGIN:VEVENT
DTSTART;TZID=UTC:20220310T183000
DTEND;TZID=UTC:20220310T203000
DTSTAMP:20260420T201217
CREATED:20180228T223947Z
LAST-MODIFIED:20250424T032336Z
UID:10002354-1646937000-1646944200@scstatebeekeepers.com
SUMMARY:Spartanburg County Beekeepers Association
DESCRIPTION:2nd Thursday of each month except May (annual picnic) and Dec (annual Christmas party)\nCome early at 6:30pm for meet and greet – Meeting starts at 7:00pm
URL:https://scstatebeekeepers.com/event/spartanburg-county-beekeepers-association/2022-03-10/
LOCATION:Spartanburg County Beekeepers Association\, 107 Community College Drive\, Spartanburg\, SC\, 29303\, United States
GEO:34.97662;-81.9933
X-APPLE-STRUCTURED-LOCATION;VALUE=URI;X-ADDRESS=Spartanburg County Beekeepers Association 107 Community College Drive Spartanburg SC 29303 United States;X-APPLE-RADIUS=500;X-TITLE=107 Community College Drive:geo:-81.9933,34.97662
END:VEVENT
BEGIN:VEVENT
DTSTART;TZID=UTC:20220310T183000
DTEND;TZID=UTC:20220310T200000
DTSTAMP:20260420T201217
CREATED:20180305T183354Z
LAST-MODIFIED:20240518T030228Z
UID:10002608-1646937000-1646942400@scstatebeekeepers.com
SUMMARY:Charleston Community Bee Gardens Monthly Meeting
DESCRIPTION:
URL:https://scstatebeekeepers.com/event/charleston-community-bee-gardens-monthly-meeting/2022-03-10/
LOCATION:Charleston Community Bee Gardens\, 65 Fairchild Street\, Charleston\, SC\, 29492\, United States
GEO:32.86534;-79.90806
X-APPLE-STRUCTURED-LOCATION;VALUE=URI;X-ADDRESS=Charleston Community Bee Gardens 65 Fairchild Street Charleston SC 29492 United States;X-APPLE-RADIUS=500;X-TITLE=65 Fairchild Street:geo:-79.90806,32.86534
END:VEVENT
BEGIN:VEVENT
DTSTART;TZID=America/New_York:20220310T180000
DTEND;TZID=America/New_York:20220310T200000
DTSTAMP:20260420T201217
CREATED:20210729T125333Z
LAST-MODIFIED:20250424T033423Z
UID:10005104-1646935200-1646942400@scstatebeekeepers.com
SUMMARY:Oconee County Beekeepers Monthly Meeting
DESCRIPTION:
URL:https://scstatebeekeepers.com/event/oconee-county-beekeepers-monthly-meeting/2022-03-10/
LOCATION:Oconee County Beekeepers Association\, 223 Kenneth Street\, Walhalla\, SC\, 29691\, United States
GEO:34.7580492;-83.0553507
X-APPLE-STRUCTURED-LOCATION;VALUE=URI;X-ADDRESS=Oconee County Beekeepers Association 223 Kenneth Street Walhalla SC 29691 United States;X-APPLE-RADIUS=500;X-TITLE=223 Kenneth Street:geo:-83.0553507,34.7580492
END:VEVENT
BEGIN:VEVENT
DTSTART;TZID=America/New_York:20220308T183000
DTEND;TZID=America/New_York:20220308T203000
DTSTAMP:20260420T201217
CREATED:20211123T130322Z
LAST-MODIFIED:20211123T130322Z
UID:10003026-1646764200-1646771400@scstatebeekeepers.com
SUMMARY:SC Certified BK Class
DESCRIPTION:
URL:https://scstatebeekeepers.com/event/sc-certified-bk-class/2022-03-08/
LOCATION:Chester County Beekeepers Association\, 116 Columbia Street\, Chester\, SC\, 29706\, United States
GEO:34.7039566;-81.2130524
X-APPLE-STRUCTURED-LOCATION;VALUE=URI;X-ADDRESS=Chester County Beekeepers Association 116 Columbia Street Chester SC 29706 United States;X-APPLE-RADIUS=500;X-TITLE=116 Columbia Street:geo:-81.2130524,34.7039566
END:VEVENT
BEGIN:VEVENT
DTSTART;TZID=America/New_York:20220308T173000
DTEND;TZID=America/New_York:20220308T200000
DTSTAMP:20260420T201217
CREATED:20191127T125506Z
LAST-MODIFIED:20250424T032427Z
UID:10003678-1646760600-1646769600@scstatebeekeepers.com
SUMMARY:Sumter Beekeepers Association Monthly Meeting
DESCRIPTION:
URL:https://scstatebeekeepers.com/event/sumter-beekeepers-association-monthly-meeting/2022-03-08/
LOCATION:Sumter Beekeepers Association\, 1770 US-15 South\, Sumter\, SC\, 29153\, United States
GEO:33.869541197012;-80.357097459933
X-APPLE-STRUCTURED-LOCATION;VALUE=URI;X-ADDRESS=Sumter Beekeepers Association 1770 US-15 South Sumter SC 29153 United States;X-APPLE-RADIUS=500;X-TITLE=1770 US-15 South:geo:-80.357097459933,33.869541197012
END:VEVENT
END:VCALENDAR