BEGIN:VCALENDAR
VERSION:2.0
PRODID:-//SC State Beekeepers Association - ECPv6.15.20//NONSGML v1.0//EN
CALSCALE:GREGORIAN
METHOD:PUBLISH
X-ORIGINAL-URL:https://scstatebeekeepers.com
X-WR-CALDESC:Events for SC State Beekeepers Association
REFRESH-INTERVAL;VALUE=DURATION:PT1H
X-Robots-Tag:noindex
X-PUBLISHED-TTL:PT1H
BEGIN:VTIMEZONE
TZID:America/New_York
BEGIN:DAYLIGHT
TZOFFSETFROM:-0500
TZOFFSETTO:-0400
TZNAME:EDT
DTSTART:20210314T070000
END:DAYLIGHT
BEGIN:STANDARD
TZOFFSETFROM:-0400
TZOFFSETTO:-0500
TZNAME:EST
DTSTART:20211107T060000
END:STANDARD
BEGIN:DAYLIGHT
TZOFFSETFROM:-0500
TZOFFSETTO:-0400
TZNAME:EDT
DTSTART:20220313T070000
END:DAYLIGHT
BEGIN:STANDARD
TZOFFSETFROM:-0400
TZOFFSETTO:-0500
TZNAME:EST
DTSTART:20221106T060000
END:STANDARD
BEGIN:DAYLIGHT
TZOFFSETFROM:-0500
TZOFFSETTO:-0400
TZNAME:EDT
DTSTART:20230312T070000
END:DAYLIGHT
BEGIN:STANDARD
TZOFFSETFROM:-0400
TZOFFSETTO:-0500
TZNAME:EST
DTSTART:20231105T060000
END:STANDARD
END:VTIMEZONE
BEGIN:VTIMEZONE
TZID:UTC
BEGIN:STANDARD
TZOFFSETFROM:+0000
TZOFFSETTO:+0000
TZNAME:UTC
DTSTART:20210101T000000
END:STANDARD
END:VTIMEZONE
BEGIN:VEVENT
DTSTART;TZID=America/New_York:20221101T183000
DTEND;TZID=America/New_York:20221101T200000
DTSTAMP:20260420T094709
CREATED:20211207T124419Z
LAST-MODIFIED:20250424T031852Z
UID:10003064-1667327400-1667332800@scstatebeekeepers.com
SUMMARY:Midstate Beekeepers Association Monthly Meeting
DESCRIPTION:
URL:https://scstatebeekeepers.com/event/midstate-beekeepers-association-monthly-meeting-2/2022-11-01/
LOCATION:Midstate Beekeepers Association\, 3215 Platt Springs Rd\, West Columbia\, SC\, 29170\, United States
GEO:33.95689;-81.11415
X-APPLE-STRUCTURED-LOCATION;VALUE=URI;X-ADDRESS=Midstate Beekeepers Association 3215 Platt Springs Rd West Columbia SC 29170 United States;X-APPLE-RADIUS=500;X-TITLE=3215 Platt Springs Rd:geo:-81.11415,33.95689
END:VEVENT
BEGIN:VEVENT
DTSTART;TZID=UTC:20221101T183000
DTEND;TZID=UTC:20221101T203000
DTSTAMP:20260420T094710
CREATED:20180228T224212Z
LAST-MODIFIED:20250424T032519Z
UID:10002433-1667327400-1667334600@scstatebeekeepers.com
SUMMARY:Union County Beekeepers Association Monthly Meeting
DESCRIPTION:
URL:https://scstatebeekeepers.com/event/union-county-beekeepers-association-monthly-meeting/2022-11-01/
LOCATION:Union County Beekeepers Association\, 120 Kirby Street\, Union\, SC\, 29379\, United States
GEO:34.7264322;-81.6384482
X-APPLE-STRUCTURED-LOCATION;VALUE=URI;X-ADDRESS=Union County Beekeepers Association 120 Kirby Street Union SC 29379 United States;X-APPLE-RADIUS=500;X-TITLE=120 Kirby Street:geo:-81.6384482,34.7264322
END:VEVENT
BEGIN:VEVENT
DTSTART;TZID=UTC:20221103T180000
DTEND;TZID=UTC:20221103T200000
DTSTAMP:20260420T094710
CREATED:20180228T222131Z
LAST-MODIFIED:20250424T031600Z
UID:10002117-1667498400-1667505600@scstatebeekeepers.com
SUMMARY:Laurens County Beekeepers Association Monthly Meeting
DESCRIPTION:
URL:https://scstatebeekeepers.com/event/laurens-county-beekeepers-association-monthly-meeting/2022-11-03/
LOCATION:Laurens County Beekeepers Association\, 110 Scout Creek Ct\, Laurens\, SC\, 29360-2668\, United States
GEO:34.4994578;-82.0165948
X-APPLE-STRUCTURED-LOCATION;VALUE=URI;X-ADDRESS=Laurens County Beekeepers Association 110 Scout Creek Ct Laurens SC 29360-2668 United States;X-APPLE-RADIUS=500;X-TITLE=110 Scout Creek Ct:geo:-82.0165948,34.4994578
END:VEVENT
BEGIN:VEVENT
DTSTART;TZID=America/New_York:20221103T183000
DTEND;TZID=America/New_York:20221103T203000
DTSTAMP:20260420T094710
CREATED:20201230T183920Z
LAST-MODIFIED:20250424T032719Z
UID:10002836-1667500200-1667507400@scstatebeekeepers.com
SUMMARY:Wateree Beekeepers Association Monthly Meeting
DESCRIPTION:The WBA continues to meet the first Thursday of every month at 6:30 PM\, except July\, when it meets the second Thursday of the month.
URL:https://scstatebeekeepers.com/event/wateree-beekeepers-association-monthly-meeting-2/2022-11-03/
LOCATION:Wateree Beekeepers Association\, 634 Dekalb Street\, Camden\, SC\, 29020\, United States
GEO:34.246512;-80.6086523
X-APPLE-STRUCTURED-LOCATION;VALUE=URI;X-ADDRESS=Wateree Beekeepers Association 634 Dekalb Street Camden SC 29020 United States;X-APPLE-RADIUS=500;X-TITLE=634 Dekalb Street:geo:-80.6086523,34.246512
END:VEVENT
BEGIN:VEVENT
DTSTART;TZID=America/New_York:20221103T190000
DTEND;TZID=America/New_York:20221103T210000
DTSTAMP:20260420T094710
CREATED:20211210T215235Z
LAST-MODIFIED:20250424T033020Z
UID:10003112-1667502000-1667509200@scstatebeekeepers.com
SUMMARY:Lancaster Beekeepers Association Monthly Meeting
DESCRIPTION:
URL:https://scstatebeekeepers.com/event/lancaster-beekeepers-association-monthly-meeting/2022-11-03/
LOCATION:Lancaster County Beekeepers Association\, 346 Shiloh Unity Road\, Lancaster\, SC\, 29720\, United States
GEO:34.77418;-80.78159
X-APPLE-STRUCTURED-LOCATION;VALUE=URI;X-ADDRESS=Lancaster County Beekeepers Association 346 Shiloh Unity Road Lancaster SC 29720 United States;X-APPLE-RADIUS=500;X-TITLE=346 Shiloh Unity Road:geo:-80.78159,34.77418
END:VEVENT
BEGIN:VEVENT
DTSTART;TZID=America/New_York:20221107T190000
DTEND;TZID=America/New_York:20221107T203000
DTSTAMP:20260420T094710
CREATED:20220216T133454Z
LAST-MODIFIED:20250424T031331Z
UID:10003149-1667847600-1667853000@scstatebeekeepers.com
SUMMARY:Lake Wylie Bee Club Monthly Meeting
DESCRIPTION:
URL:https://scstatebeekeepers.com/event/lake-wylie-bee-club-monthly-meeting-2/2022-11-07/
LOCATION:Lake Wylie Bee Club\, 5766 Charlotte Hwy\, Lake Wylie\, SC\, 29710\, United States
GEO:35.09866;-81.09396
X-APPLE-STRUCTURED-LOCATION;VALUE=URI;X-ADDRESS=Lake Wylie Bee Club 5766 Charlotte Hwy Lake Wylie SC 29710 United States;X-APPLE-RADIUS=500;X-TITLE=5766 Charlotte Hwy:geo:-81.09396,35.09866
END:VEVENT
BEGIN:VEVENT
DTSTART;TZID=America/New_York:20221108T173000
DTEND;TZID=America/New_York:20221108T200000
DTSTAMP:20260420T094710
CREATED:20191127T125506Z
LAST-MODIFIED:20250424T032427Z
UID:10003686-1667928600-1667937600@scstatebeekeepers.com
SUMMARY:Sumter Beekeepers Association Monthly Meeting
DESCRIPTION:
URL:https://scstatebeekeepers.com/event/sumter-beekeepers-association-monthly-meeting/2022-11-08/
LOCATION:Sumter Beekeepers Association\, 1770 US-15 South\, Sumter\, SC\, 29153\, United States
GEO:33.869541197012;-80.357097459933
X-APPLE-STRUCTURED-LOCATION;VALUE=URI;X-ADDRESS=Sumter Beekeepers Association 1770 US-15 South Sumter SC 29153 United States;X-APPLE-RADIUS=500;X-TITLE=1770 US-15 South:geo:-80.357097459933,33.869541197012
END:VEVENT
BEGIN:VEVENT
DTSTART;TZID=America/New_York:20221110T180000
DTEND;TZID=America/New_York:20221110T200000
DTSTAMP:20260420T094710
CREATED:20210729T125333Z
LAST-MODIFIED:20250424T033423Z
UID:10005112-1668103200-1668110400@scstatebeekeepers.com
SUMMARY:Oconee County Beekeepers Monthly Meeting
DESCRIPTION:
URL:https://scstatebeekeepers.com/event/oconee-county-beekeepers-monthly-meeting/2022-11-10/
LOCATION:Oconee County Beekeepers Association\, 223 Kenneth Street\, Walhalla\, SC\, 29691\, United States
GEO:34.7580492;-83.0553507
X-APPLE-STRUCTURED-LOCATION;VALUE=URI;X-ADDRESS=Oconee County Beekeepers Association 223 Kenneth Street Walhalla SC 29691 United States;X-APPLE-RADIUS=500;X-TITLE=223 Kenneth Street:geo:-83.0553507,34.7580492
END:VEVENT
BEGIN:VEVENT
DTSTART;TZID=UTC:20221110T183000
DTEND;TZID=UTC:20221110T200000
DTSTAMP:20260420T094710
CREATED:20180305T183354Z
LAST-MODIFIED:20240518T030228Z
UID:10002616-1668105000-1668110400@scstatebeekeepers.com
SUMMARY:Charleston Community Bee Gardens Monthly Meeting
DESCRIPTION:
URL:https://scstatebeekeepers.com/event/charleston-community-bee-gardens-monthly-meeting/2022-11-10/
LOCATION:Charleston Community Bee Gardens\, 65 Fairchild Street\, Charleston\, SC\, 29492\, United States
GEO:32.86534;-79.90806
X-APPLE-STRUCTURED-LOCATION;VALUE=URI;X-ADDRESS=Charleston Community Bee Gardens 65 Fairchild Street Charleston SC 29492 United States;X-APPLE-RADIUS=500;X-TITLE=65 Fairchild Street:geo:-79.90806,32.86534
END:VEVENT
BEGIN:VEVENT
DTSTART;TZID=UTC:20221110T183000
DTEND;TZID=UTC:20221110T203000
DTSTAMP:20260420T094710
CREATED:20180228T223947Z
LAST-MODIFIED:20250424T032336Z
UID:10002362-1668105000-1668112200@scstatebeekeepers.com
SUMMARY:Spartanburg County Beekeepers Association
DESCRIPTION:2nd Thursday of each month except May (annual picnic) and Dec (annual Christmas party)\nCome early at 6:30pm for meet and greet – Meeting starts at 7:00pm
URL:https://scstatebeekeepers.com/event/spartanburg-county-beekeepers-association/2022-11-10/
LOCATION:Spartanburg County Beekeepers Association\, 107 Community College Drive\, Spartanburg\, SC\, 29303\, United States
GEO:34.97662;-81.9933
X-APPLE-STRUCTURED-LOCATION;VALUE=URI;X-ADDRESS=Spartanburg County Beekeepers Association 107 Community College Drive Spartanburg SC 29303 United States;X-APPLE-RADIUS=500;X-TITLE=107 Community College Drive:geo:-81.9933,34.97662
END:VEVENT
BEGIN:VEVENT
DTSTART;TZID=America/New_York:20221112T090000
DTEND;TZID=America/New_York:20221112T110000
DTSTAMP:20260420T094710
CREATED:20220113T151313Z
LAST-MODIFIED:20240518T025800Z
UID:10003185-1668243600-1668250800@scstatebeekeepers.com
SUMMARY:Charleston Area Beekeepers Association Monthly Meeting
DESCRIPTION:
URL:https://scstatebeekeepers.com/event/charleston-area-beekeepers-association-monthly-meeting-2/2022-11-12/
LOCATION:Charleston Area Beekeepers Association\, 901 Orange Grove Road\, Charleston\, SC\, 29407\, United States
GEO:32.82296;-79.98047
X-APPLE-STRUCTURED-LOCATION;VALUE=URI;X-ADDRESS=Charleston Area Beekeepers Association 901 Orange Grove Road Charleston SC 29407 United States;X-APPLE-RADIUS=500;X-TITLE=901 Orange Grove Road:geo:-79.98047,32.82296
END:VEVENT
BEGIN:VEVENT
DTSTART;TZID=America/New_York:20221115T180000
DTEND;TZID=America/New_York:20221115T200000
DTSTAMP:20260420T094710
CREATED:20220924T040541Z
LAST-MODIFIED:20250424T032040Z
UID:10003204-1668535200-1668542400@scstatebeekeepers.com
SUMMARY:Monthly Meeting Ridge Beekeepers Association
DESCRIPTION:Meets on the Third Tuesday except for: \nJuly:  No Meeting \n  \n 
URL:https://scstatebeekeepers.com/event/monthly-meeting-ridge-beekeepers-association/2022-11-15/
LOCATION:Ridge Beekeepers Association\, 416 Calhoun Street\, Johnston\, SC\, 29832\, United States
GEO:33.83151;-81.801619
X-APPLE-STRUCTURED-LOCATION;VALUE=URI;X-ADDRESS=Ridge Beekeepers Association 416 Calhoun Street Johnston SC 29832 United States;X-APPLE-RADIUS=500;X-TITLE=416 Calhoun Street:geo:-81.801619,33.83151
END:VEVENT
BEGIN:VEVENT
DTSTART;TZID=UTC:20221115T190000
DTEND;TZID=UTC:20221115T210000
DTSTAMP:20260420T094710
CREATED:20180228T214107Z
LAST-MODIFIED:20240518T024436Z
UID:10003330-1668538800-1668546000@scstatebeekeepers.com
SUMMARY:Beaufort / Jasper Beekeepers Association Monthly Meeting
DESCRIPTION:
URL:https://scstatebeekeepers.com/event/beaufort-jasper-beekeepers-association-monthly-meeting/2022-11-15/
LOCATION:Beaufort / Jasper Beekeepers Association\, 70 Honey Horn Drive\, Hilton Head Island\, SC\, 29926\, United States
GEO:32.21156;-80.74404
X-APPLE-STRUCTURED-LOCATION;VALUE=URI;X-ADDRESS=Beaufort / Jasper Beekeepers Association 70 Honey Horn Drive Hilton Head Island SC 29926 United States;X-APPLE-RADIUS=500;X-TITLE=70 Honey Horn Drive:geo:-80.74404,32.21156
END:VEVENT
BEGIN:VEVENT
DTSTART;TZID=UTC:20221115T190000
DTEND;TZID=UTC:20221115T210000
DTSTAMP:20260420T094710
CREATED:20180228T223728Z
LAST-MODIFIED:20240519T010610Z
UID:10002291-1668538800-1668546000@scstatebeekeepers.com
SUMMARY:Piedmont Beekeepers Association Monthly Meeting
DESCRIPTION:
URL:https://scstatebeekeepers.com/event/piedmont-beekeepers-association-monthly-meeting/2022-11-15/
LOCATION:Piedmont Beekeepers Association\, 1300 Reid School Road\, Taylor\, SC\, 29687\, United States
GEO:34.93994;-82.33459
X-APPLE-STRUCTURED-LOCATION;VALUE=URI;X-ADDRESS=Piedmont Beekeepers Association 1300 Reid School Road Taylor SC 29687 United States;X-APPLE-RADIUS=500;X-TITLE=1300 Reid School Road:geo:-82.33459,34.93994
END:VEVENT
BEGIN:VEVENT
DTSTART;TZID=America/New_York:20221117T184500
DTEND;TZID=America/New_York:20221117T200000
DTSTAMP:20260420T094710
CREATED:20211206T162614Z
LAST-MODIFIED:20250424T033250Z
UID:10003038-1668710700-1668715200@scstatebeekeepers.com
SUMMARY:Monthly Meeting - Pee Dee Beekeepers Association
DESCRIPTION:
URL:https://scstatebeekeepers.com/event/monthly-meeting-pee-dee-beekeepers-association/2022-11-17/
LOCATION:Pee Dee Beekeepers Association\, 2101 North Williston Road\, Florence\, SC\, 29506\, United States
GEO:34.23818348;-79.68999
X-APPLE-STRUCTURED-LOCATION;VALUE=URI;X-ADDRESS=Pee Dee Beekeepers Association 2101 North Williston Road Florence SC 29506 United States;X-APPLE-RADIUS=500;X-TITLE=2101 North Williston Road:geo:-79.68999,34.23818348
END:VEVENT
BEGIN:VEVENT
DTSTART;TZID=America/New_York:20221117T190000
DTEND;TZID=America/New_York:20221117T203000
DTSTAMP:20260420T094710
CREATED:20210120T155517Z
LAST-MODIFIED:20240518T040714Z
UID:10002878-1668711600-1668717000@scstatebeekeepers.com
SUMMARY:Lowcountry Beekeepers Association Monthly Meeting
DESCRIPTION:Meetings are every third Thursday. We begin at 7:00 P.M. with a meal included.
URL:https://scstatebeekeepers.com/event/lowcountry-beekeepers-association-monthly-meeting-2/2022-11-17/
LOCATION:Lowcountry Beekeepers Association\, 1066 Holly Ridge Lane\, Cottageville\, SC\, 29435\, United States
GEO:33.048138;-80.438762
X-APPLE-STRUCTURED-LOCATION;VALUE=URI;X-ADDRESS=Lowcountry Beekeepers Association 1066 Holly Ridge Lane Cottageville SC 29435 United States;X-APPLE-RADIUS=500;X-TITLE=1066 Holly Ridge Lane:geo:-80.438762,33.048138
END:VEVENT
BEGIN:VEVENT
DTSTART;TZID=America/New_York:20221119T090000
DTEND;TZID=America/New_York:20221119T110000
DTSTAMP:20260420T094710
CREATED:20210810T195342Z
LAST-MODIFIED:20250424T031155Z
UID:10002938-1668848400-1668855600@scstatebeekeepers.com
SUMMARY:Dorchester Bee & Garden Club
DESCRIPTION:
URL:https://scstatebeekeepers.com/event/dorchester-beekeepers-and-gardeners/2022-11-19/
LOCATION:Dorchester Beekeepers & Gardeners\, 507 School House Rd\, Dorchester\, SC\, 29437\, United States
GEO:33.1486588;-80.3880463
X-APPLE-STRUCTURED-LOCATION;VALUE=URI;X-ADDRESS=Dorchester Beekeepers & Gardeners 507 School House Rd Dorchester SC 29437 United States;X-APPLE-RADIUS=500;X-TITLE=507 School House Rd:geo:-80.3880463,33.1486588
END:VEVENT
BEGIN:VEVENT
DTSTART;TZID=America/New_York:20221122T190000
DTEND;TZID=America/New_York:20221122T203000
DTSTAMP:20260420T094710
CREATED:20220401T144240Z
LAST-MODIFIED:20230318T020908Z
UID:10003086-1669143600-1669149000@scstatebeekeepers.com
SUMMARY:Monthly Meeting Aiken Association
DESCRIPTION:
URL:https://scstatebeekeepers.com/event/monthly-meeting-aiken-association/2022-11-22/
LOCATION:Aiken County Beekeepers Association\, 2724 Whiskey Road\, Aiken\, SC\, 29803\, United States
GEO:33.5024192;-81.7058329
X-APPLE-STRUCTURED-LOCATION;VALUE=URI;X-ADDRESS=Aiken County Beekeepers Association 2724 Whiskey Road Aiken SC 29803 United States;X-APPLE-RADIUS=500;X-TITLE=2724 Whiskey Road:geo:-81.7058329,33.5024192
END:VEVENT
BEGIN:VEVENT
DTSTART;TZID=UTC:20221128T190000
DTEND;TZID=UTC:20221128T203000
DTSTAMP:20260420T094710
CREATED:20180228T221115Z
LAST-MODIFIED:20240518T033644Z
UID:10003478-1669662000-1669667400@scstatebeekeepers.com
SUMMARY:Fort Mill Bee Club Monthly Meeting
DESCRIPTION:
URL:https://scstatebeekeepers.com/event/fort-mill-bee-club-monthly-meeting/2022-11-28/
LOCATION:Fort Mill Bee Club\, 3187 Colonel Springs Way\, Fort Mill\, SC\, 29708
GEO:35.02526;-80.097688
X-APPLE-STRUCTURED-LOCATION;VALUE=URI;X-ADDRESS=Fort Mill Bee Club 3187 Colonel Springs Way Fort Mill SC 29708;X-APPLE-RADIUS=500;X-TITLE=3187 Colonel Springs Way:geo:-80.097688,35.02526
END:VEVENT
BEGIN:VEVENT
DTSTART;TZID=UTC:20221201T180000
DTEND;TZID=UTC:20221201T200000
DTSTAMP:20260420T094710
CREATED:20180228T222131Z
LAST-MODIFIED:20250424T031600Z
UID:10002118-1669917600-1669924800@scstatebeekeepers.com
SUMMARY:Laurens County Beekeepers Association Monthly Meeting
DESCRIPTION:
URL:https://scstatebeekeepers.com/event/laurens-county-beekeepers-association-monthly-meeting/2022-12-01/
LOCATION:Laurens County Beekeepers Association\, 110 Scout Creek Ct\, Laurens\, SC\, 29360-2668\, United States
GEO:34.4994578;-82.0165948
X-APPLE-STRUCTURED-LOCATION;VALUE=URI;X-ADDRESS=Laurens County Beekeepers Association 110 Scout Creek Ct Laurens SC 29360-2668 United States;X-APPLE-RADIUS=500;X-TITLE=110 Scout Creek Ct:geo:-82.0165948,34.4994578
END:VEVENT
BEGIN:VEVENT
DTSTART;TZID=America/New_York:20221201T183000
DTEND;TZID=America/New_York:20221201T203000
DTSTAMP:20260420T094710
CREATED:20201230T183920Z
LAST-MODIFIED:20250424T032719Z
UID:10002837-1669919400-1669926600@scstatebeekeepers.com
SUMMARY:Wateree Beekeepers Association Monthly Meeting
DESCRIPTION:The WBA continues to meet the first Thursday of every month at 6:30 PM\, except July\, when it meets the second Thursday of the month.
URL:https://scstatebeekeepers.com/event/wateree-beekeepers-association-monthly-meeting-2/2022-12-01/
LOCATION:Wateree Beekeepers Association\, 634 Dekalb Street\, Camden\, SC\, 29020\, United States
GEO:34.246512;-80.6086523
X-APPLE-STRUCTURED-LOCATION;VALUE=URI;X-ADDRESS=Wateree Beekeepers Association 634 Dekalb Street Camden SC 29020 United States;X-APPLE-RADIUS=500;X-TITLE=634 Dekalb Street:geo:-80.6086523,34.246512
END:VEVENT
BEGIN:VEVENT
DTSTART;TZID=America/New_York:20221201T190000
DTEND;TZID=America/New_York:20221201T210000
DTSTAMP:20260420T094710
CREATED:20211210T215235Z
LAST-MODIFIED:20250424T033020Z
UID:10003113-1669921200-1669928400@scstatebeekeepers.com
SUMMARY:Lancaster Beekeepers Association Monthly Meeting
DESCRIPTION:
URL:https://scstatebeekeepers.com/event/lancaster-beekeepers-association-monthly-meeting/2022-12-01/
LOCATION:Lancaster County Beekeepers Association\, 346 Shiloh Unity Road\, Lancaster\, SC\, 29720\, United States
GEO:34.77418;-80.78159
X-APPLE-STRUCTURED-LOCATION;VALUE=URI;X-ADDRESS=Lancaster County Beekeepers Association 346 Shiloh Unity Road Lancaster SC 29720 United States;X-APPLE-RADIUS=500;X-TITLE=346 Shiloh Unity Road:geo:-80.78159,34.77418
END:VEVENT
BEGIN:VEVENT
DTSTART;TZID=America/New_York:20221205T190000
DTEND;TZID=America/New_York:20221205T203000
DTSTAMP:20260420T094710
CREATED:20220216T133454Z
LAST-MODIFIED:20250424T031331Z
UID:10003150-1670266800-1670272200@scstatebeekeepers.com
SUMMARY:Lake Wylie Bee Club Monthly Meeting
DESCRIPTION:
URL:https://scstatebeekeepers.com/event/lake-wylie-bee-club-monthly-meeting-2/2022-12-05/
LOCATION:Lake Wylie Bee Club\, 5766 Charlotte Hwy\, Lake Wylie\, SC\, 29710\, United States
GEO:35.09866;-81.09396
X-APPLE-STRUCTURED-LOCATION;VALUE=URI;X-ADDRESS=Lake Wylie Bee Club 5766 Charlotte Hwy Lake Wylie SC 29710 United States;X-APPLE-RADIUS=500;X-TITLE=5766 Charlotte Hwy:geo:-81.09396,35.09866
END:VEVENT
BEGIN:VEVENT
DTSTART;TZID=America/New_York:20221206T183000
DTEND;TZID=America/New_York:20221206T200000
DTSTAMP:20260420T094710
CREATED:20211207T124419Z
LAST-MODIFIED:20250424T031852Z
UID:10003065-1670351400-1670356800@scstatebeekeepers.com
SUMMARY:Midstate Beekeepers Association Monthly Meeting
DESCRIPTION:
URL:https://scstatebeekeepers.com/event/midstate-beekeepers-association-monthly-meeting-2/2022-12-06/
LOCATION:Midstate Beekeepers Association\, 3215 Platt Springs Rd\, West Columbia\, SC\, 29170\, United States
GEO:33.95689;-81.11415
X-APPLE-STRUCTURED-LOCATION;VALUE=URI;X-ADDRESS=Midstate Beekeepers Association 3215 Platt Springs Rd West Columbia SC 29170 United States;X-APPLE-RADIUS=500;X-TITLE=3215 Platt Springs Rd:geo:-81.11415,33.95689
END:VEVENT
BEGIN:VEVENT
DTSTART;TZID=UTC:20221206T183000
DTEND;TZID=UTC:20221206T203000
DTSTAMP:20260420T094710
CREATED:20180228T224212Z
LAST-MODIFIED:20250424T032519Z
UID:10002434-1670351400-1670358600@scstatebeekeepers.com
SUMMARY:Union County Beekeepers Association Monthly Meeting
DESCRIPTION:
URL:https://scstatebeekeepers.com/event/union-county-beekeepers-association-monthly-meeting/2022-12-06/
LOCATION:Union County Beekeepers Association\, 120 Kirby Street\, Union\, SC\, 29379\, United States
GEO:34.7264322;-81.6384482
X-APPLE-STRUCTURED-LOCATION;VALUE=URI;X-ADDRESS=Union County Beekeepers Association 120 Kirby Street Union SC 29379 United States;X-APPLE-RADIUS=500;X-TITLE=120 Kirby Street:geo:-81.6384482,34.7264322
END:VEVENT
BEGIN:VEVENT
DTSTART;TZID=America/New_York:20221208T180000
DTEND;TZID=America/New_York:20221208T200000
DTSTAMP:20260420T094710
CREATED:20210729T125333Z
LAST-MODIFIED:20250424T033423Z
UID:10005113-1670522400-1670529600@scstatebeekeepers.com
SUMMARY:Oconee County Beekeepers Monthly Meeting
DESCRIPTION:
URL:https://scstatebeekeepers.com/event/oconee-county-beekeepers-monthly-meeting/2022-12-08/
LOCATION:Oconee County Beekeepers Association\, 223 Kenneth Street\, Walhalla\, SC\, 29691\, United States
GEO:34.7580492;-83.0553507
X-APPLE-STRUCTURED-LOCATION;VALUE=URI;X-ADDRESS=Oconee County Beekeepers Association 223 Kenneth Street Walhalla SC 29691 United States;X-APPLE-RADIUS=500;X-TITLE=223 Kenneth Street:geo:-83.0553507,34.7580492
END:VEVENT
BEGIN:VEVENT
DTSTART;TZID=UTC:20221208T183000
DTEND;TZID=UTC:20221208T200000
DTSTAMP:20260420T094710
CREATED:20180305T183354Z
LAST-MODIFIED:20240518T030228Z
UID:10002617-1670524200-1670529600@scstatebeekeepers.com
SUMMARY:Charleston Community Bee Gardens Monthly Meeting
DESCRIPTION:
URL:https://scstatebeekeepers.com/event/charleston-community-bee-gardens-monthly-meeting/2022-12-08/
LOCATION:Charleston Community Bee Gardens\, 65 Fairchild Street\, Charleston\, SC\, 29492\, United States
GEO:32.86534;-79.90806
X-APPLE-STRUCTURED-LOCATION;VALUE=URI;X-ADDRESS=Charleston Community Bee Gardens 65 Fairchild Street Charleston SC 29492 United States;X-APPLE-RADIUS=500;X-TITLE=65 Fairchild Street:geo:-79.90806,32.86534
END:VEVENT
BEGIN:VEVENT
DTSTART;TZID=UTC:20221208T183000
DTEND;TZID=UTC:20221208T203000
DTSTAMP:20260420T094710
CREATED:20180228T223947Z
LAST-MODIFIED:20250424T032336Z
UID:10003617-1670524200-1670531400@scstatebeekeepers.com
SUMMARY:Spartanburg County Beekeepers Association
DESCRIPTION:2nd Thursday of each month except May (annual picnic) and Dec (annual Christmas party)\nCome early at 6:30pm for meet and greet – Meeting starts at 7:00pm
URL:https://scstatebeekeepers.com/event/spartanburg-county-beekeepers-association/2022-12-08/
LOCATION:Spartanburg County Beekeepers Association\, 107 Community College Drive\, Spartanburg\, SC\, 29303\, United States
GEO:34.97662;-81.9933
X-APPLE-STRUCTURED-LOCATION;VALUE=URI;X-ADDRESS=Spartanburg County Beekeepers Association 107 Community College Drive Spartanburg SC 29303 United States;X-APPLE-RADIUS=500;X-TITLE=107 Community College Drive:geo:-81.9933,34.97662
END:VEVENT
BEGIN:VEVENT
DTSTART;TZID=America/New_York:20221210T090000
DTEND;TZID=America/New_York:20221210T110000
DTSTAMP:20260420T094710
CREATED:20220113T151313Z
LAST-MODIFIED:20240518T025800Z
UID:10003186-1670662800-1670670000@scstatebeekeepers.com
SUMMARY:Charleston Area Beekeepers Association Monthly Meeting
DESCRIPTION:
URL:https://scstatebeekeepers.com/event/charleston-area-beekeepers-association-monthly-meeting-2/2022-12-10/
LOCATION:Charleston Area Beekeepers Association\, 901 Orange Grove Road\, Charleston\, SC\, 29407\, United States
GEO:32.82296;-79.98047
X-APPLE-STRUCTURED-LOCATION;VALUE=URI;X-ADDRESS=Charleston Area Beekeepers Association 901 Orange Grove Road Charleston SC 29407 United States;X-APPLE-RADIUS=500;X-TITLE=901 Orange Grove Road:geo:-79.98047,32.82296
END:VEVENT
BEGIN:VEVENT
DTSTART;TZID=America/New_York:20221213T173000
DTEND;TZID=America/New_York:20221213T200000
DTSTAMP:20260420T094710
CREATED:20191127T125506Z
LAST-MODIFIED:20250424T032427Z
UID:10003687-1670952600-1670961600@scstatebeekeepers.com
SUMMARY:Sumter Beekeepers Association Monthly Meeting
DESCRIPTION:
URL:https://scstatebeekeepers.com/event/sumter-beekeepers-association-monthly-meeting/2022-12-13/
LOCATION:Sumter Beekeepers Association\, 1770 US-15 South\, Sumter\, SC\, 29153\, United States
GEO:33.869541197012;-80.357097459933
X-APPLE-STRUCTURED-LOCATION;VALUE=URI;X-ADDRESS=Sumter Beekeepers Association 1770 US-15 South Sumter SC 29153 United States;X-APPLE-RADIUS=500;X-TITLE=1770 US-15 South:geo:-80.357097459933,33.869541197012
END:VEVENT
END:VCALENDAR