BEGIN:VCALENDAR
VERSION:2.0
PRODID:-//SC State Beekeepers Association - ECPv6.15.20//NONSGML v1.0//EN
CALSCALE:GREGORIAN
METHOD:PUBLISH
X-WR-CALNAME:SC State Beekeepers Association
X-ORIGINAL-URL:https://scstatebeekeepers.com
X-WR-CALDESC:Events for SC State Beekeepers Association
REFRESH-INTERVAL;VALUE=DURATION:PT1H
X-Robots-Tag:noindex
X-PUBLISHED-TTL:PT1H
BEGIN:VTIMEZONE
TZID:UTC
BEGIN:STANDARD
TZOFFSETFROM:+0000
TZOFFSETTO:+0000
TZNAME:UTC
DTSTART:20210101T000000
END:STANDARD
END:VTIMEZONE
BEGIN:VTIMEZONE
TZID:America/New_York
BEGIN:DAYLIGHT
TZOFFSETFROM:-0500
TZOFFSETTO:-0400
TZNAME:EDT
DTSTART:20210314T070000
END:DAYLIGHT
BEGIN:STANDARD
TZOFFSETFROM:-0400
TZOFFSETTO:-0500
TZNAME:EST
DTSTART:20211107T060000
END:STANDARD
BEGIN:DAYLIGHT
TZOFFSETFROM:-0500
TZOFFSETTO:-0400
TZNAME:EDT
DTSTART:20220313T070000
END:DAYLIGHT
BEGIN:STANDARD
TZOFFSETFROM:-0400
TZOFFSETTO:-0500
TZNAME:EST
DTSTART:20221106T060000
END:STANDARD
BEGIN:DAYLIGHT
TZOFFSETFROM:-0500
TZOFFSETTO:-0400
TZNAME:EDT
DTSTART:20230312T070000
END:DAYLIGHT
BEGIN:STANDARD
TZOFFSETFROM:-0400
TZOFFSETTO:-0500
TZNAME:EST
DTSTART:20231105T060000
END:STANDARD
END:VTIMEZONE
BEGIN:VEVENT
DTSTART;TZID=UTC:20220816T190000
DTEND;TZID=UTC:20220816T210000
DTSTAMP:20260420T014329
CREATED:20180228T214107Z
LAST-MODIFIED:20240518T024436Z
UID:10003327-1660676400-1660683600@scstatebeekeepers.com
SUMMARY:Beaufort / Jasper Beekeepers Association Monthly Meeting
DESCRIPTION:
URL:https://scstatebeekeepers.com/event/beaufort-jasper-beekeepers-association-monthly-meeting/2022-08-16/
LOCATION:Beaufort / Jasper Beekeepers Association\, 70 Honey Horn Drive\, Hilton Head Island\, SC\, 29926\, United States
GEO:32.21156;-80.74404
X-APPLE-STRUCTURED-LOCATION;VALUE=URI;X-ADDRESS=Beaufort / Jasper Beekeepers Association 70 Honey Horn Drive Hilton Head Island SC 29926 United States;X-APPLE-RADIUS=500;X-TITLE=70 Honey Horn Drive:geo:-80.74404,32.21156
END:VEVENT
BEGIN:VEVENT
DTSTART;TZID=UTC:20220816T190000
DTEND;TZID=UTC:20220816T210000
DTSTAMP:20260420T014329
CREATED:20180228T223728Z
LAST-MODIFIED:20240519T010610Z
UID:10002289-1660676400-1660683600@scstatebeekeepers.com
SUMMARY:Piedmont Beekeepers Association Monthly Meeting
DESCRIPTION:
URL:https://scstatebeekeepers.com/event/piedmont-beekeepers-association-monthly-meeting/2022-08-16/
LOCATION:Piedmont Beekeepers Association\, 1300 Reid School Road\, Taylor\, SC\, 29687\, United States
GEO:34.93994;-82.33459
X-APPLE-STRUCTURED-LOCATION;VALUE=URI;X-ADDRESS=Piedmont Beekeepers Association 1300 Reid School Road Taylor SC 29687 United States;X-APPLE-RADIUS=500;X-TITLE=1300 Reid School Road:geo:-82.33459,34.93994
END:VEVENT
BEGIN:VEVENT
DTSTART;TZID=America/New_York:20220818T184500
DTEND;TZID=America/New_York:20220818T200000
DTSTAMP:20260420T014329
CREATED:20211206T162614Z
LAST-MODIFIED:20250424T033250Z
UID:10003035-1660848300-1660852800@scstatebeekeepers.com
SUMMARY:Monthly Meeting - Pee Dee Beekeepers Association
DESCRIPTION:
URL:https://scstatebeekeepers.com/event/monthly-meeting-pee-dee-beekeepers-association/2022-08-18/
LOCATION:Pee Dee Beekeepers Association\, 2101 North Williston Road\, Florence\, SC\, 29506\, United States
GEO:34.23818348;-79.68999
X-APPLE-STRUCTURED-LOCATION;VALUE=URI;X-ADDRESS=Pee Dee Beekeepers Association 2101 North Williston Road Florence SC 29506 United States;X-APPLE-RADIUS=500;X-TITLE=2101 North Williston Road:geo:-79.68999,34.23818348
END:VEVENT
BEGIN:VEVENT
DTSTART;TZID=America/New_York:20220818T190000
DTEND;TZID=America/New_York:20220818T203000
DTSTAMP:20260420T014329
CREATED:20210120T155517Z
LAST-MODIFIED:20240518T040714Z
UID:10002875-1660849200-1660854600@scstatebeekeepers.com
SUMMARY:Lowcountry Beekeepers Association Monthly Meeting
DESCRIPTION:Meetings are every third Thursday. We begin at 7:00 P.M. with a meal included.
URL:https://scstatebeekeepers.com/event/lowcountry-beekeepers-association-monthly-meeting-2/2022-08-18/
LOCATION:Lowcountry Beekeepers Association\, 1066 Holly Ridge Lane\, Cottageville\, SC\, 29435\, United States
GEO:33.048138;-80.438762
X-APPLE-STRUCTURED-LOCATION;VALUE=URI;X-ADDRESS=Lowcountry Beekeepers Association 1066 Holly Ridge Lane Cottageville SC 29435 United States;X-APPLE-RADIUS=500;X-TITLE=1066 Holly Ridge Lane:geo:-80.438762,33.048138
END:VEVENT
BEGIN:VEVENT
DTSTART;TZID=America/New_York:20220820T090000
DTEND;TZID=America/New_York:20220820T110000
DTSTAMP:20260420T014329
CREATED:20210810T195342Z
LAST-MODIFIED:20250424T031155Z
UID:10002935-1660986000-1660993200@scstatebeekeepers.com
SUMMARY:Dorchester Bee & Garden Club
DESCRIPTION:
URL:https://scstatebeekeepers.com/event/dorchester-beekeepers-and-gardeners/2022-08-20/
LOCATION:Dorchester Beekeepers & Gardeners\, 507 School House Rd\, Dorchester\, SC\, 29437\, United States
GEO:33.1486588;-80.3880463
X-APPLE-STRUCTURED-LOCATION;VALUE=URI;X-ADDRESS=Dorchester Beekeepers & Gardeners 507 School House Rd Dorchester SC 29437 United States;X-APPLE-RADIUS=500;X-TITLE=507 School House Rd:geo:-80.3880463,33.1486588
END:VEVENT
END:VCALENDAR