BEGIN:VCALENDAR
VERSION:2.0
PRODID:-//SC State Beekeepers Association - ECPv6.15.20//NONSGML v1.0//EN
CALSCALE:GREGORIAN
METHOD:PUBLISH
X-WR-CALNAME:SC State Beekeepers Association
X-ORIGINAL-URL:https://scstatebeekeepers.com
X-WR-CALDESC:Events for SC State Beekeepers Association
REFRESH-INTERVAL;VALUE=DURATION:PT1H
X-Robots-Tag:noindex
X-PUBLISHED-TTL:PT1H
BEGIN:VTIMEZONE
TZID:America/New_York
BEGIN:DAYLIGHT
TZOFFSETFROM:-0500
TZOFFSETTO:-0400
TZNAME:EDT
DTSTART:20220313T070000
END:DAYLIGHT
BEGIN:STANDARD
TZOFFSETFROM:-0400
TZOFFSETTO:-0500
TZNAME:EST
DTSTART:20221106T060000
END:STANDARD
BEGIN:DAYLIGHT
TZOFFSETFROM:-0500
TZOFFSETTO:-0400
TZNAME:EDT
DTSTART:20230312T070000
END:DAYLIGHT
BEGIN:STANDARD
TZOFFSETFROM:-0400
TZOFFSETTO:-0500
TZNAME:EST
DTSTART:20231105T060000
END:STANDARD
BEGIN:DAYLIGHT
TZOFFSETFROM:-0500
TZOFFSETTO:-0400
TZNAME:EDT
DTSTART:20240310T070000
END:DAYLIGHT
BEGIN:STANDARD
TZOFFSETFROM:-0400
TZOFFSETTO:-0500
TZNAME:EST
DTSTART:20241103T060000
END:STANDARD
END:VTIMEZONE
BEGIN:VTIMEZONE
TZID:UTC
BEGIN:STANDARD
TZOFFSETFROM:+0000
TZOFFSETTO:+0000
TZNAME:UTC
DTSTART:20220101T000000
END:STANDARD
END:VTIMEZONE
BEGIN:VEVENT
DTSTART;TZID=America/New_York:20230508T190000
DTEND;TZID=America/New_York:20230508T203000
DTSTAMP:20260421T220428
CREATED:20210830T170102Z
LAST-MODIFIED:20240518T023628Z
UID:10002957-1683572400-1683577800@scstatebeekeepers.com
SUMMARY:Anderson County Beekeepers Association Monthly Meeting
DESCRIPTION:Meets the second Monday of the Month \nCome at 6:45 to “talk bees” and socialize with our beekeepers! \n 
URL:https://scstatebeekeepers.com/event/anderson-county-beekeepers-association-monthly-meeting-2/2023-05-08/
LOCATION:Anderson County Beekeepers Association\, 431 Williamston Rd\, Anderson\, SC\, 29621\, United States
GEO:34.5101307;-82.6296894
X-APPLE-STRUCTURED-LOCATION;VALUE=URI;X-ADDRESS=Anderson County Beekeepers Association 431 Williamston Rd Anderson SC 29621 United States;X-APPLE-RADIUS=500;X-TITLE=431 Williamston Rd:geo:-82.6296894,34.5101307
END:VEVENT
BEGIN:VEVENT
DTSTART;TZID=America/New_York:20230509T173000
DTEND;TZID=America/New_York:20230509T200000
DTSTAMP:20260421T220428
CREATED:20191127T125506Z
LAST-MODIFIED:20250424T032427Z
UID:10003692-1683653400-1683662400@scstatebeekeepers.com
SUMMARY:Sumter Beekeepers Association Monthly Meeting
DESCRIPTION:
URL:https://scstatebeekeepers.com/event/sumter-beekeepers-association-monthly-meeting/2023-05-09/
LOCATION:Sumter Beekeepers Association\, 1770 US-15 South\, Sumter\, SC\, 29153\, United States
GEO:33.869541197012;-80.357097459933
X-APPLE-STRUCTURED-LOCATION;VALUE=URI;X-ADDRESS=Sumter Beekeepers Association 1770 US-15 South Sumter SC 29153 United States;X-APPLE-RADIUS=500;X-TITLE=1770 US-15 South:geo:-80.357097459933,33.869541197012
END:VEVENT
BEGIN:VEVENT
DTSTART;TZID=America/New_York:20230511T180000
DTEND;TZID=America/New_York:20230511T200000
DTSTAMP:20260421T220428
CREATED:20210729T125333Z
LAST-MODIFIED:20250424T033423Z
UID:10005118-1683828000-1683835200@scstatebeekeepers.com
SUMMARY:Oconee County Beekeepers Monthly Meeting
DESCRIPTION:
URL:https://scstatebeekeepers.com/event/oconee-county-beekeepers-monthly-meeting/2023-05-11/
LOCATION:Oconee County Beekeepers Association\, 223 Kenneth Street\, Walhalla\, SC\, 29691\, United States
GEO:34.7580492;-83.0553507
X-APPLE-STRUCTURED-LOCATION;VALUE=URI;X-ADDRESS=Oconee County Beekeepers Association 223 Kenneth Street Walhalla SC 29691 United States;X-APPLE-RADIUS=500;X-TITLE=223 Kenneth Street:geo:-83.0553507,34.7580492
END:VEVENT
BEGIN:VEVENT
DTSTART;TZID=UTC:20230511T183000
DTEND;TZID=UTC:20230511T200000
DTSTAMP:20260421T220428
CREATED:20180305T183354Z
LAST-MODIFIED:20240518T030228Z
UID:10002622-1683829800-1683835200@scstatebeekeepers.com
SUMMARY:Charleston Community Bee Gardens Monthly Meeting
DESCRIPTION:
URL:https://scstatebeekeepers.com/event/charleston-community-bee-gardens-monthly-meeting/2023-05-11/
LOCATION:Charleston Community Bee Gardens\, 65 Fairchild Street\, Charleston\, SC\, 29492\, United States
GEO:32.86534;-79.90806
X-APPLE-STRUCTURED-LOCATION;VALUE=URI;X-ADDRESS=Charleston Community Bee Gardens 65 Fairchild Street Charleston SC 29492 United States;X-APPLE-RADIUS=500;X-TITLE=65 Fairchild Street:geo:-79.90806,32.86534
END:VEVENT
BEGIN:VEVENT
DTSTART;TZID=UTC:20230511T183000
DTEND;TZID=UTC:20230511T203000
DTSTAMP:20260421T220428
CREATED:20180228T223947Z
LAST-MODIFIED:20250424T032336Z
UID:10002367-1683829800-1683837000@scstatebeekeepers.com
SUMMARY:Spartanburg County Beekeepers Association
DESCRIPTION:2nd Thursday of each month except May (annual picnic) and Dec (annual Christmas party)\nCome early at 6:30pm for meet and greet – Meeting starts at 7:00pm
URL:https://scstatebeekeepers.com/event/spartanburg-county-beekeepers-association/2023-05-11/
LOCATION:Spartanburg County Beekeepers Association\, 107 Community College Drive\, Spartanburg\, SC\, 29303\, United States
GEO:34.97662;-81.9933
X-APPLE-STRUCTURED-LOCATION;VALUE=URI;X-ADDRESS=Spartanburg County Beekeepers Association 107 Community College Drive Spartanburg SC 29303 United States;X-APPLE-RADIUS=500;X-TITLE=107 Community College Drive:geo:-81.9933,34.97662
END:VEVENT
BEGIN:VEVENT
DTSTART;TZID=America/New_York:20230513T090000
DTEND;TZID=America/New_York:20230513T110000
DTSTAMP:20260421T220428
CREATED:20220113T151313Z
LAST-MODIFIED:20240518T025800Z
UID:10003191-1683968400-1683975600@scstatebeekeepers.com
SUMMARY:Charleston Area Beekeepers Association Monthly Meeting
DESCRIPTION:
URL:https://scstatebeekeepers.com/event/charleston-area-beekeepers-association-monthly-meeting-2/2023-05-13/
LOCATION:Charleston Area Beekeepers Association\, 901 Orange Grove Road\, Charleston\, SC\, 29407\, United States
GEO:32.82296;-79.98047
X-APPLE-STRUCTURED-LOCATION;VALUE=URI;X-ADDRESS=Charleston Area Beekeepers Association 901 Orange Grove Road Charleston SC 29407 United States;X-APPLE-RADIUS=500;X-TITLE=901 Orange Grove Road:geo:-79.98047,32.82296
END:VEVENT
END:VCALENDAR