BEGIN:VCALENDAR
VERSION:2.0
PRODID:-//SC State Beekeepers Association - ECPv6.15.20//NONSGML v1.0//EN
CALSCALE:GREGORIAN
METHOD:PUBLISH
X-ORIGINAL-URL:https://scstatebeekeepers.com
X-WR-CALDESC:Events for SC State Beekeepers Association
REFRESH-INTERVAL;VALUE=DURATION:PT1H
X-Robots-Tag:noindex
X-PUBLISHED-TTL:PT1H
BEGIN:VTIMEZONE
TZID:America/New_York
BEGIN:DAYLIGHT
TZOFFSETFROM:-0500
TZOFFSETTO:-0400
TZNAME:EDT
DTSTART:20230312T070000
END:DAYLIGHT
BEGIN:STANDARD
TZOFFSETFROM:-0400
TZOFFSETTO:-0500
TZNAME:EST
DTSTART:20231105T060000
END:STANDARD
BEGIN:DAYLIGHT
TZOFFSETFROM:-0500
TZOFFSETTO:-0400
TZNAME:EDT
DTSTART:20240310T070000
END:DAYLIGHT
BEGIN:STANDARD
TZOFFSETFROM:-0400
TZOFFSETTO:-0500
TZNAME:EST
DTSTART:20241103T060000
END:STANDARD
BEGIN:DAYLIGHT
TZOFFSETFROM:-0500
TZOFFSETTO:-0400
TZNAME:EDT
DTSTART:20250309T070000
END:DAYLIGHT
BEGIN:STANDARD
TZOFFSETFROM:-0400
TZOFFSETTO:-0500
TZNAME:EST
DTSTART:20251102T060000
END:STANDARD
END:VTIMEZONE
BEGIN:VTIMEZONE
TZID:UTC
BEGIN:STANDARD
TZOFFSETFROM:+0000
TZOFFSETTO:+0000
TZNAME:UTC
DTSTART:20230101T000000
END:STANDARD
END:VTIMEZONE
BEGIN:VEVENT
DTSTART;TZID=America/New_York:20240716T180000
DTEND;TZID=America/New_York:20240716T200000
DTSTAMP:20260421T005438
CREATED:20220924T040541Z
LAST-MODIFIED:20250424T032040Z
UID:10004591-1721152800-1721160000@scstatebeekeepers.com
SUMMARY:Monthly Meeting Ridge Beekeepers Association
DESCRIPTION:Meets on the Third Tuesday except for: \nJuly:  No Meeting \n  \n 
URL:https://scstatebeekeepers.com/event/monthly-meeting-ridge-beekeepers-association/2024-07-16/
LOCATION:Ridge Beekeepers Association\, 416 Calhoun Street\, Johnston\, SC\, 29832\, United States
GEO:33.83151;-81.801619
X-APPLE-STRUCTURED-LOCATION;VALUE=URI;X-ADDRESS=Ridge Beekeepers Association 416 Calhoun Street Johnston SC 29832 United States;X-APPLE-RADIUS=500;X-TITLE=416 Calhoun Street:geo:-81.801619,33.83151
END:VEVENT
BEGIN:VEVENT
DTSTART;TZID=UTC:20240716T190000
DTEND;TZID=UTC:20240716T210000
DTSTAMP:20260421T005438
CREATED:20180228T214107Z
LAST-MODIFIED:20240518T024436Z
UID:10003350-1721156400-1721163600@scstatebeekeepers.com
SUMMARY:Beaufort / Jasper Beekeepers Association Monthly Meeting
DESCRIPTION:
URL:https://scstatebeekeepers.com/event/beaufort-jasper-beekeepers-association-monthly-meeting/2024-07-16/
LOCATION:Beaufort / Jasper Beekeepers Association\, 70 Honey Horn Drive\, Hilton Head Island\, SC\, 29926\, United States
GEO:32.21156;-80.74404
X-APPLE-STRUCTURED-LOCATION;VALUE=URI;X-ADDRESS=Beaufort / Jasper Beekeepers Association 70 Honey Horn Drive Hilton Head Island SC 29926 United States;X-APPLE-RADIUS=500;X-TITLE=70 Honey Horn Drive:geo:-80.74404,32.21156
END:VEVENT
BEGIN:VEVENT
DTSTART;TZID=UTC:20240716T190000
DTEND;TZID=UTC:20240716T210000
DTSTAMP:20260421T005438
CREATED:20180228T223728Z
LAST-MODIFIED:20240519T010610Z
UID:10003601-1721156400-1721163600@scstatebeekeepers.com
SUMMARY:Piedmont Beekeepers Association Monthly Meeting
DESCRIPTION:
URL:https://scstatebeekeepers.com/event/piedmont-beekeepers-association-monthly-meeting/2024-07-16/
LOCATION:Piedmont Beekeepers Association\, 1300 Reid School Road\, Taylor\, SC\, 29687\, United States
GEO:34.93994;-82.33459
X-APPLE-STRUCTURED-LOCATION;VALUE=URI;X-ADDRESS=Piedmont Beekeepers Association 1300 Reid School Road Taylor SC 29687 United States;X-APPLE-RADIUS=500;X-TITLE=1300 Reid School Road:geo:-82.33459,34.93994
END:VEVENT
BEGIN:VEVENT
DTSTART;VALUE=DATE:20240718
DTEND;VALUE=DATE:20240721
DTSTAMP:20260421T005438
CREATED:20240117T173717Z
LAST-MODIFIED:20240518T022457Z
UID:10003233-1721260800-1721519999@scstatebeekeepers.com
SUMMARY:2024 Summer Conference:  Charleston\, SC
DESCRIPTION:
URL:https://scstatebeekeepers.com/event/2024-summer-conference-charleston-sc/
LOCATION:Trident Technical College\, 7000 Rivers Ave\, North Charleston\, SC\, 29406\, United States
CATEGORIES:Summer Conference
GEO:32.9271316;-80.0312506
X-APPLE-STRUCTURED-LOCATION;VALUE=URI;X-ADDRESS=Trident Technical College 7000 Rivers Ave North Charleston SC 29406 United States;X-APPLE-RADIUS=500;X-TITLE=7000 Rivers Ave:geo:-80.0312506,32.9271316
END:VEVENT
BEGIN:VEVENT
DTSTART;TZID=America/New_York:20240718T184500
DTEND;TZID=America/New_York:20240718T200000
DTSTAMP:20260421T005438
CREATED:20211206T162614Z
LAST-MODIFIED:20250424T033250Z
UID:10005034-1721328300-1721332800@scstatebeekeepers.com
SUMMARY:Monthly Meeting - Pee Dee Beekeepers Association
DESCRIPTION:
URL:https://scstatebeekeepers.com/event/monthly-meeting-pee-dee-beekeepers-association/2024-07-18/
LOCATION:Pee Dee Beekeepers Association\, 2101 North Williston Road\, Florence\, SC\, 29506\, United States
GEO:34.23818348;-79.68999
X-APPLE-STRUCTURED-LOCATION;VALUE=URI;X-ADDRESS=Pee Dee Beekeepers Association 2101 North Williston Road Florence SC 29506 United States;X-APPLE-RADIUS=500;X-TITLE=2101 North Williston Road:geo:-79.68999,34.23818348
END:VEVENT
BEGIN:VEVENT
DTSTART;TZID=America/New_York:20240718T190000
DTEND;TZID=America/New_York:20240718T203000
DTSTAMP:20260421T005438
CREATED:20210120T155517Z
LAST-MODIFIED:20240518T040714Z
UID:10003546-1721329200-1721334600@scstatebeekeepers.com
SUMMARY:Lowcountry Beekeepers Association Monthly Meeting
DESCRIPTION:Meetings are every third Thursday. We begin at 7:00 P.M. with a meal included.
URL:https://scstatebeekeepers.com/event/lowcountry-beekeepers-association-monthly-meeting-2/2024-07-18/
LOCATION:Lowcountry Beekeepers Association\, 1066 Holly Ridge Lane\, Cottageville\, SC\, 29435\, United States
GEO:33.048138;-80.438762
X-APPLE-STRUCTURED-LOCATION;VALUE=URI;X-ADDRESS=Lowcountry Beekeepers Association 1066 Holly Ridge Lane Cottageville SC 29435 United States;X-APPLE-RADIUS=500;X-TITLE=1066 Holly Ridge Lane:geo:-80.438762,33.048138
END:VEVENT
BEGIN:VEVENT
DTSTART;TZID=America/New_York:20240720T090000
DTEND;TZID=America/New_York:20240720T110000
DTSTAMP:20260421T005438
CREATED:20210810T195342Z
LAST-MODIFIED:20250424T031155Z
UID:10003414-1721466000-1721473200@scstatebeekeepers.com
SUMMARY:Dorchester Bee & Garden Club
DESCRIPTION:
URL:https://scstatebeekeepers.com/event/dorchester-beekeepers-and-gardeners/2024-07-20/
LOCATION:Dorchester Beekeepers & Gardeners\, 507 School House Rd\, Dorchester\, SC\, 29437\, United States
GEO:33.1486588;-80.3880463
X-APPLE-STRUCTURED-LOCATION;VALUE=URI;X-ADDRESS=Dorchester Beekeepers & Gardeners 507 School House Rd Dorchester SC 29437 United States;X-APPLE-RADIUS=500;X-TITLE=507 School House Rd:geo:-80.3880463,33.1486588
END:VEVENT
END:VCALENDAR