BEGIN:VCALENDAR
VERSION:2.0
PRODID:-//SC State Beekeepers Association - ECPv6.15.20//NONSGML v1.0//EN
CALSCALE:GREGORIAN
METHOD:PUBLISH
X-ORIGINAL-URL:https://scstatebeekeepers.com
X-WR-CALDESC:Events for SC State Beekeepers Association
REFRESH-INTERVAL;VALUE=DURATION:PT1H
X-Robots-Tag:noindex
X-PUBLISHED-TTL:PT1H
BEGIN:VTIMEZONE
TZID:America/New_York
BEGIN:DAYLIGHT
TZOFFSETFROM:-0500
TZOFFSETTO:-0400
TZNAME:EDT
DTSTART:20230312T070000
END:DAYLIGHT
BEGIN:STANDARD
TZOFFSETFROM:-0400
TZOFFSETTO:-0500
TZNAME:EST
DTSTART:20231105T060000
END:STANDARD
BEGIN:DAYLIGHT
TZOFFSETFROM:-0500
TZOFFSETTO:-0400
TZNAME:EDT
DTSTART:20240310T070000
END:DAYLIGHT
BEGIN:STANDARD
TZOFFSETFROM:-0400
TZOFFSETTO:-0500
TZNAME:EST
DTSTART:20241103T060000
END:STANDARD
BEGIN:DAYLIGHT
TZOFFSETFROM:-0500
TZOFFSETTO:-0400
TZNAME:EDT
DTSTART:20250309T070000
END:DAYLIGHT
BEGIN:STANDARD
TZOFFSETFROM:-0400
TZOFFSETTO:-0500
TZNAME:EST
DTSTART:20251102T060000
END:STANDARD
END:VTIMEZONE
BEGIN:VTIMEZONE
TZID:UTC
BEGIN:STANDARD
TZOFFSETFROM:+0000
TZOFFSETTO:+0000
TZNAME:UTC
DTSTART:20230101T000000
END:STANDARD
END:VTIMEZONE
BEGIN:VEVENT
DTSTART;TZID=America/New_York:20240805T190000
DTEND;TZID=America/New_York:20240805T203000
DTSTAMP:20260422T035812
CREATED:20220216T133454Z
LAST-MODIFIED:20250424T031331Z
UID:10003170-1722884400-1722889800@scstatebeekeepers.com
SUMMARY:Lake Wylie Bee Club Monthly Meeting
DESCRIPTION:
URL:https://scstatebeekeepers.com/event/lake-wylie-bee-club-monthly-meeting-2/2024-08-05/
LOCATION:Lake Wylie Bee Club\, 5766 Charlotte Hwy\, Lake Wylie\, SC\, 29710\, United States
GEO:35.09866;-81.09396
X-APPLE-STRUCTURED-LOCATION;VALUE=URI;X-ADDRESS=Lake Wylie Bee Club 5766 Charlotte Hwy Lake Wylie SC 29710 United States;X-APPLE-RADIUS=500;X-TITLE=5766 Charlotte Hwy:geo:-81.09396,35.09866
END:VEVENT
BEGIN:VEVENT
DTSTART;TZID=America/New_York:20240806T183000
DTEND;TZID=America/New_York:20240806T200000
DTSTAMP:20260422T035812
CREATED:20211207T124419Z
LAST-MODIFIED:20250424T031852Z
UID:10003559-1722969000-1722974400@scstatebeekeepers.com
SUMMARY:Midstate Beekeepers Association Monthly Meeting
DESCRIPTION:
URL:https://scstatebeekeepers.com/event/midstate-beekeepers-association-monthly-meeting-2/2024-08-06/
LOCATION:Midstate Beekeepers Association\, 3215 Platt Springs Rd\, West Columbia\, SC\, 29170\, United States
GEO:33.95689;-81.11415
X-APPLE-STRUCTURED-LOCATION;VALUE=URI;X-ADDRESS=Midstate Beekeepers Association 3215 Platt Springs Rd West Columbia SC 29170 United States;X-APPLE-RADIUS=500;X-TITLE=3215 Platt Springs Rd:geo:-81.11415,33.95689
END:VEVENT
BEGIN:VEVENT
DTSTART;TZID=UTC:20240806T183000
DTEND;TZID=UTC:20240806T203000
DTSTAMP:20260422T035812
CREATED:20180228T224212Z
LAST-MODIFIED:20250424T032519Z
UID:10003648-1722969000-1722976200@scstatebeekeepers.com
SUMMARY:Union County Beekeepers Association Monthly Meeting
DESCRIPTION:
URL:https://scstatebeekeepers.com/event/union-county-beekeepers-association-monthly-meeting/2024-08-06/
LOCATION:Union County Beekeepers Association\, 120 Kirby Street\, Union\, SC\, 29379\, United States
GEO:34.7264322;-81.6384482
X-APPLE-STRUCTURED-LOCATION;VALUE=URI;X-ADDRESS=Union County Beekeepers Association 120 Kirby Street Union SC 29379 United States;X-APPLE-RADIUS=500;X-TITLE=120 Kirby Street:geo:-81.6384482,34.7264322
END:VEVENT
BEGIN:VEVENT
DTSTART;TZID=America/New_York:20240808T180000
DTEND;TZID=America/New_York:20240808T200000
DTSTAMP:20260422T035812
CREATED:20210729T125333Z
LAST-MODIFIED:20250424T033423Z
UID:10005133-1723140000-1723147200@scstatebeekeepers.com
SUMMARY:Oconee County Beekeepers Monthly Meeting
DESCRIPTION:
URL:https://scstatebeekeepers.com/event/oconee-county-beekeepers-monthly-meeting/2024-08-08/
LOCATION:Oconee County Beekeepers Association\, 223 Kenneth Street\, Walhalla\, SC\, 29691\, United States
GEO:34.7580492;-83.0553507
X-APPLE-STRUCTURED-LOCATION;VALUE=URI;X-ADDRESS=Oconee County Beekeepers Association 223 Kenneth Street Walhalla SC 29691 United States;X-APPLE-RADIUS=500;X-TITLE=223 Kenneth Street:geo:-83.0553507,34.7580492
END:VEVENT
BEGIN:VEVENT
DTSTART;TZID=UTC:20240808T183000
DTEND;TZID=UTC:20240808T200000
DTSTAMP:20260422T035812
CREATED:20180305T183354Z
LAST-MODIFIED:20240518T030228Z
UID:10003255-1723141800-1723147200@scstatebeekeepers.com
SUMMARY:Charleston Community Bee Gardens Monthly Meeting
DESCRIPTION:
URL:https://scstatebeekeepers.com/event/charleston-community-bee-gardens-monthly-meeting/2024-08-08/
LOCATION:Charleston Community Bee Gardens\, 65 Fairchild Street\, Charleston\, SC\, 29492\, United States
GEO:32.86534;-79.90806
X-APPLE-STRUCTURED-LOCATION;VALUE=URI;X-ADDRESS=Charleston Community Bee Gardens 65 Fairchild Street Charleston SC 29492 United States;X-APPLE-RADIUS=500;X-TITLE=65 Fairchild Street:geo:-79.90806,32.86534
END:VEVENT
BEGIN:VEVENT
DTSTART;TZID=UTC:20240808T183000
DTEND;TZID=UTC:20240808T203000
DTSTAMP:20260422T035812
CREATED:20180228T223947Z
LAST-MODIFIED:20250424T032336Z
UID:10003624-1723141800-1723149000@scstatebeekeepers.com
SUMMARY:Spartanburg County Beekeepers Association
DESCRIPTION:2nd Thursday of each month except May (annual picnic) and Dec (annual Christmas party)\nCome early at 6:30pm for meet and greet – Meeting starts at 7:00pm
URL:https://scstatebeekeepers.com/event/spartanburg-county-beekeepers-association/2024-08-08/
LOCATION:Spartanburg County Beekeepers Association\, 107 Community College Drive\, Spartanburg\, SC\, 29303\, United States
GEO:34.97662;-81.9933
X-APPLE-STRUCTURED-LOCATION;VALUE=URI;X-ADDRESS=Spartanburg County Beekeepers Association 107 Community College Drive Spartanburg SC 29303 United States;X-APPLE-RADIUS=500;X-TITLE=107 Community College Drive:geo:-81.9933,34.97662
END:VEVENT
BEGIN:VEVENT
DTSTART;TZID=UTC:20240808T183000
DTEND;TZID=UTC:20240808T203000
DTSTAMP:20260422T035812
CREATED:20240519T014306Z
LAST-MODIFIED:20250424T032922Z
UID:10003239-1723141800-1723149000@scstatebeekeepers.com
SUMMARY:York County Beekeepers Association Monthly Meeting
DESCRIPTION:Meets Second Thursday Monthly at 6:30pm excluding July & Dec – Bullock Creek Church
URL:https://scstatebeekeepers.com/event/york-county-beekeepers-association-monthly-meeting-2-2/2024-08-08/
LOCATION:York County Beekeepers Association\, 1212 Edgefield Road\, York\, SC\, 29745\, United States
GEO:34.9797503;-81.2618485
X-APPLE-STRUCTURED-LOCATION;VALUE=URI;X-ADDRESS=York County Beekeepers Association 1212 Edgefield Road York SC 29745 United States;X-APPLE-RADIUS=500;X-TITLE=1212 Edgefield Road:geo:-81.2618485,34.9797503
END:VEVENT
BEGIN:VEVENT
DTSTART;TZID=America/New_York:20240810T090000
DTEND;TZID=America/New_York:20240810T110000
DTSTAMP:20260422T035812
CREATED:20220113T151313Z
LAST-MODIFIED:20240518T025800Z
UID:10003391-1723280400-1723287600@scstatebeekeepers.com
SUMMARY:Charleston Area Beekeepers Association Monthly Meeting
DESCRIPTION:
URL:https://scstatebeekeepers.com/event/charleston-area-beekeepers-association-monthly-meeting-2/2024-08-10/
LOCATION:Charleston Area Beekeepers Association\, 901 Orange Grove Road\, Charleston\, SC\, 29407\, United States
GEO:32.82296;-79.98047
X-APPLE-STRUCTURED-LOCATION;VALUE=URI;X-ADDRESS=Charleston Area Beekeepers Association 901 Orange Grove Road Charleston SC 29407 United States;X-APPLE-RADIUS=500;X-TITLE=901 Orange Grove Road:geo:-79.98047,32.82296
END:VEVENT
END:VCALENDAR