BEGIN:VCALENDAR
VERSION:2.0
PRODID:-//SC State Beekeepers Association - ECPv6.15.20//NONSGML v1.0//EN
CALSCALE:GREGORIAN
METHOD:PUBLISH
X-ORIGINAL-URL:https://scstatebeekeepers.com
X-WR-CALDESC:Events for SC State Beekeepers Association
REFRESH-INTERVAL;VALUE=DURATION:PT1H
X-Robots-Tag:noindex
X-PUBLISHED-TTL:PT1H
BEGIN:VTIMEZONE
TZID:America/New_York
BEGIN:DAYLIGHT
TZOFFSETFROM:-0500
TZOFFSETTO:-0400
TZNAME:EDT
DTSTART:20230312T070000
END:DAYLIGHT
BEGIN:STANDARD
TZOFFSETFROM:-0400
TZOFFSETTO:-0500
TZNAME:EST
DTSTART:20231105T060000
END:STANDARD
BEGIN:DAYLIGHT
TZOFFSETFROM:-0500
TZOFFSETTO:-0400
TZNAME:EDT
DTSTART:20240310T070000
END:DAYLIGHT
BEGIN:STANDARD
TZOFFSETFROM:-0400
TZOFFSETTO:-0500
TZNAME:EST
DTSTART:20241103T060000
END:STANDARD
BEGIN:DAYLIGHT
TZOFFSETFROM:-0500
TZOFFSETTO:-0400
TZNAME:EDT
DTSTART:20250309T070000
END:DAYLIGHT
BEGIN:STANDARD
TZOFFSETFROM:-0400
TZOFFSETTO:-0500
TZNAME:EST
DTSTART:20251102T060000
END:STANDARD
END:VTIMEZONE
BEGIN:VTIMEZONE
TZID:UTC
BEGIN:STANDARD
TZOFFSETFROM:+0000
TZOFFSETTO:+0000
TZNAME:UTC
DTSTART:20230101T000000
END:STANDARD
END:VTIMEZONE
BEGIN:VEVENT
DTSTART;TZID=America/New_York:20240812T190000
DTEND;TZID=America/New_York:20240812T203000
DTSTAMP:20260422T053406
CREATED:20210830T170102Z
LAST-MODIFIED:20240518T023628Z
UID:10003278-1723489200-1723494600@scstatebeekeepers.com
SUMMARY:Anderson County Beekeepers Association Monthly Meeting
DESCRIPTION:Meets the second Monday of the Month \nCome at 6:45 to “talk bees” and socialize with our beekeepers! \n 
URL:https://scstatebeekeepers.com/event/anderson-county-beekeepers-association-monthly-meeting-2/2024-08-12/
LOCATION:Anderson County Beekeepers Association\, 431 Williamston Rd\, Anderson\, SC\, 29621\, United States
GEO:34.5101307;-82.6296894
X-APPLE-STRUCTURED-LOCATION;VALUE=URI;X-ADDRESS=Anderson County Beekeepers Association 431 Williamston Rd Anderson SC 29621 United States;X-APPLE-RADIUS=500;X-TITLE=431 Williamston Rd:geo:-82.6296894,34.5101307
END:VEVENT
BEGIN:VEVENT
DTSTART;TZID=UTC:20240812T190000
DTEND;TZID=UTC:20240812T210000
DTSTAMP:20260422T053406
CREATED:20180228T214425Z
LAST-MODIFIED:20240518T025154Z
UID:10003379-1723489200-1723496400@scstatebeekeepers.com
SUMMARY:Blackwater Beekeepers Association Monthly Meeting
DESCRIPTION:
URL:https://scstatebeekeepers.com/event/blackwater-beekeepers-association-monthly-meeting-2023-07-10/2024-08-12/
LOCATION:Blackwater Beekeepers Association\, 1949 Industrial Park Road\, Conway\, SC\, 29526\, United States
GEO:33.9075521;-79.0519762
X-APPLE-STRUCTURED-LOCATION;VALUE=URI;X-ADDRESS=Blackwater Beekeepers Association 1949 Industrial Park Road Conway SC 29526 United States;X-APPLE-RADIUS=500;X-TITLE=1949 Industrial Park Road:geo:-79.0519762,33.9075521
END:VEVENT
BEGIN:VEVENT
DTSTART;TZID=America/New_York:20240813T173000
DTEND;TZID=America/New_York:20240813T200000
DTSTAMP:20260422T053406
CREATED:20191127T125506Z
LAST-MODIFIED:20250424T032427Z
UID:10003707-1723570200-1723579200@scstatebeekeepers.com
SUMMARY:Sumter Beekeepers Association Monthly Meeting
DESCRIPTION:
URL:https://scstatebeekeepers.com/event/sumter-beekeepers-association-monthly-meeting/2024-08-13/
LOCATION:Sumter Beekeepers Association\, 1770 US-15 South\, Sumter\, SC\, 29153\, United States
GEO:33.869541197012;-80.357097459933
X-APPLE-STRUCTURED-LOCATION;VALUE=URI;X-ADDRESS=Sumter Beekeepers Association 1770 US-15 South Sumter SC 29153 United States;X-APPLE-RADIUS=500;X-TITLE=1770 US-15 South:geo:-80.357097459933,33.869541197012
END:VEVENT
BEGIN:VEVENT
DTSTART;TZID=America/New_York:20240813T190000
DTEND;TZID=America/New_York:20240813T210000
DTSTAMP:20260422T053406
CREATED:20240518T034715Z
LAST-MODIFIED:20250424T031501Z
UID:10003510-1723575600-1723582800@scstatebeekeepers.com
SUMMARY:Lakelands Beekeepers Association Monthly Meeting
DESCRIPTION:
URL:https://scstatebeekeepers.com/event/lakelands-beekeepers-association-monthly-meeting-2-2/2024-08-13/
LOCATION:Lakelands Beekeepers Association\, 2022 Cokesbury Rd\, Greenwood\, SC\, 29649\, United States
GEO:34.2361257;-82.1787137
X-APPLE-STRUCTURED-LOCATION;VALUE=URI;X-ADDRESS=Lakelands Beekeepers Association 2022 Cokesbury Rd Greenwood SC 29649 United States;X-APPLE-RADIUS=500;X-TITLE=2022 Cokesbury Rd:geo:-82.1787137,34.2361257
END:VEVENT
BEGIN:VEVENT
DTSTART;TZID=America/New_York:20240815T184500
DTEND;TZID=America/New_York:20240815T200000
DTSTAMP:20260422T053406
CREATED:20211206T162614Z
LAST-MODIFIED:20250424T033250Z
UID:10003590-1723747500-1723752000@scstatebeekeepers.com
SUMMARY:Monthly Meeting - Pee Dee Beekeepers Association
DESCRIPTION:
URL:https://scstatebeekeepers.com/event/monthly-meeting-pee-dee-beekeepers-association/2024-08-15/
LOCATION:Pee Dee Beekeepers Association\, 2101 North Williston Road\, Florence\, SC\, 29506\, United States
GEO:34.23818348;-79.68999
X-APPLE-STRUCTURED-LOCATION;VALUE=URI;X-ADDRESS=Pee Dee Beekeepers Association 2101 North Williston Road Florence SC 29506 United States;X-APPLE-RADIUS=500;X-TITLE=2101 North Williston Road:geo:-79.68999,34.23818348
END:VEVENT
BEGIN:VEVENT
DTSTART;TZID=America/New_York:20240815T190000
DTEND;TZID=America/New_York:20240815T203000
DTSTAMP:20260422T053406
CREATED:20210120T155517Z
LAST-MODIFIED:20240518T040714Z
UID:10003547-1723748400-1723753800@scstatebeekeepers.com
SUMMARY:Lowcountry Beekeepers Association Monthly Meeting
DESCRIPTION:Meetings are every third Thursday. We begin at 7:00 P.M. with a meal included.
URL:https://scstatebeekeepers.com/event/lowcountry-beekeepers-association-monthly-meeting-2/2024-08-15/
LOCATION:Lowcountry Beekeepers Association\, 1066 Holly Ridge Lane\, Cottageville\, SC\, 29435\, United States
GEO:33.048138;-80.438762
X-APPLE-STRUCTURED-LOCATION;VALUE=URI;X-ADDRESS=Lowcountry Beekeepers Association 1066 Holly Ridge Lane Cottageville SC 29435 United States;X-APPLE-RADIUS=500;X-TITLE=1066 Holly Ridge Lane:geo:-80.438762,33.048138
END:VEVENT
BEGIN:VEVENT
DTSTART;TZID=America/New_York:20240817T090000
DTEND;TZID=America/New_York:20240817T110000
DTSTAMP:20260422T053406
CREATED:20210810T195342Z
LAST-MODIFIED:20250424T031155Z
UID:10003415-1723885200-1723892400@scstatebeekeepers.com
SUMMARY:Dorchester Bee & Garden Club
DESCRIPTION:
URL:https://scstatebeekeepers.com/event/dorchester-beekeepers-and-gardeners/2024-08-17/
LOCATION:Dorchester Beekeepers & Gardeners\, 507 School House Rd\, Dorchester\, SC\, 29437\, United States
GEO:33.1486588;-80.3880463
X-APPLE-STRUCTURED-LOCATION;VALUE=URI;X-ADDRESS=Dorchester Beekeepers & Gardeners 507 School House Rd Dorchester SC 29437 United States;X-APPLE-RADIUS=500;X-TITLE=507 School House Rd:geo:-80.3880463,33.1486588
END:VEVENT
END:VCALENDAR