BEGIN:VCALENDAR
VERSION:2.0
PRODID:-//SC State Beekeepers Association - ECPv6.15.20//NONSGML v1.0//EN
CALSCALE:GREGORIAN
METHOD:PUBLISH
X-ORIGINAL-URL:https://scstatebeekeepers.com
X-WR-CALDESC:Events for SC State Beekeepers Association
REFRESH-INTERVAL;VALUE=DURATION:PT1H
X-Robots-Tag:noindex
X-PUBLISHED-TTL:PT1H
BEGIN:VTIMEZONE
TZID:UTC
BEGIN:STANDARD
TZOFFSETFROM:+0000
TZOFFSETTO:+0000
TZNAME:UTC
DTSTART:20210101T000000
END:STANDARD
END:VTIMEZONE
BEGIN:VEVENT
DTSTART;TZID=UTC:20240618T190000
DTEND;TZID=UTC:20240618T210000
DTSTAMP:20260419T175329
CREATED:20180228T214107Z
LAST-MODIFIED:20240518T024436Z
UID:10003349-1718737200-1718744400@scstatebeekeepers.com
SUMMARY:Beaufort / Jasper Beekeepers Association Monthly Meeting
DESCRIPTION:
URL:https://scstatebeekeepers.com/event/beaufort-jasper-beekeepers-association-monthly-meeting/2024-06-18/
LOCATION:Beaufort / Jasper Beekeepers Association\, 70 Honey Horn Drive\, Hilton Head Island\, SC\, 29926\, United States
GEO:32.21156;-80.74404
X-APPLE-STRUCTURED-LOCATION;VALUE=URI;X-ADDRESS=Beaufort / Jasper Beekeepers Association 70 Honey Horn Drive Hilton Head Island SC 29926 United States;X-APPLE-RADIUS=500;X-TITLE=70 Honey Horn Drive:geo:-80.74404,32.21156
END:VEVENT
BEGIN:VEVENT
DTSTART;TZID=UTC:20240521T190000
DTEND;TZID=UTC:20240521T210000
DTSTAMP:20260419T175329
CREATED:20180228T214107Z
LAST-MODIFIED:20240518T024436Z
UID:10003348-1716318000-1716325200@scstatebeekeepers.com
SUMMARY:Beaufort / Jasper Beekeepers Association Monthly Meeting
DESCRIPTION:
URL:https://scstatebeekeepers.com/event/beaufort-jasper-beekeepers-association-monthly-meeting/2024-05-21/
LOCATION:Beaufort / Jasper Beekeepers Association\, 70 Honey Horn Drive\, Hilton Head Island\, SC\, 29926\, United States
GEO:32.21156;-80.74404
X-APPLE-STRUCTURED-LOCATION;VALUE=URI;X-ADDRESS=Beaufort / Jasper Beekeepers Association 70 Honey Horn Drive Hilton Head Island SC 29926 United States;X-APPLE-RADIUS=500;X-TITLE=70 Honey Horn Drive:geo:-80.74404,32.21156
END:VEVENT
BEGIN:VEVENT
DTSTART;TZID=UTC:20240416T190000
DTEND;TZID=UTC:20240416T210000
DTSTAMP:20260419T175329
CREATED:20180228T214107Z
LAST-MODIFIED:20240518T024436Z
UID:10003347-1713294000-1713301200@scstatebeekeepers.com
SUMMARY:Beaufort / Jasper Beekeepers Association Monthly Meeting
DESCRIPTION:
URL:https://scstatebeekeepers.com/event/beaufort-jasper-beekeepers-association-monthly-meeting/2024-04-16/
LOCATION:Beaufort / Jasper Beekeepers Association\, 70 Honey Horn Drive\, Hilton Head Island\, SC\, 29926\, United States
GEO:32.21156;-80.74404
X-APPLE-STRUCTURED-LOCATION;VALUE=URI;X-ADDRESS=Beaufort / Jasper Beekeepers Association 70 Honey Horn Drive Hilton Head Island SC 29926 United States;X-APPLE-RADIUS=500;X-TITLE=70 Honey Horn Drive:geo:-80.74404,32.21156
END:VEVENT
BEGIN:VEVENT
DTSTART;TZID=UTC:20240319T190000
DTEND;TZID=UTC:20240319T210000
DTSTAMP:20260419T175329
CREATED:20180228T214107Z
LAST-MODIFIED:20240518T024436Z
UID:10003346-1710874800-1710882000@scstatebeekeepers.com
SUMMARY:Beaufort / Jasper Beekeepers Association Monthly Meeting
DESCRIPTION:
URL:https://scstatebeekeepers.com/event/beaufort-jasper-beekeepers-association-monthly-meeting/2024-03-19/
LOCATION:Beaufort / Jasper Beekeepers Association\, 70 Honey Horn Drive\, Hilton Head Island\, SC\, 29926\, United States
GEO:32.21156;-80.74404
X-APPLE-STRUCTURED-LOCATION;VALUE=URI;X-ADDRESS=Beaufort / Jasper Beekeepers Association 70 Honey Horn Drive Hilton Head Island SC 29926 United States;X-APPLE-RADIUS=500;X-TITLE=70 Honey Horn Drive:geo:-80.74404,32.21156
END:VEVENT
BEGIN:VEVENT
DTSTART;TZID=UTC:20240220T190000
DTEND;TZID=UTC:20240220T210000
DTSTAMP:20260419T175329
CREATED:20180228T214107Z
LAST-MODIFIED:20240518T024436Z
UID:10003345-1708455600-1708462800@scstatebeekeepers.com
SUMMARY:Beaufort / Jasper Beekeepers Association Monthly Meeting
DESCRIPTION:
URL:https://scstatebeekeepers.com/event/beaufort-jasper-beekeepers-association-monthly-meeting/2024-02-20/
LOCATION:Beaufort / Jasper Beekeepers Association\, 70 Honey Horn Drive\, Hilton Head Island\, SC\, 29926\, United States
GEO:32.21156;-80.74404
X-APPLE-STRUCTURED-LOCATION;VALUE=URI;X-ADDRESS=Beaufort / Jasper Beekeepers Association 70 Honey Horn Drive Hilton Head Island SC 29926 United States;X-APPLE-RADIUS=500;X-TITLE=70 Honey Horn Drive:geo:-80.74404,32.21156
END:VEVENT
BEGIN:VEVENT
DTSTART;TZID=UTC:20240116T190000
DTEND;TZID=UTC:20240116T210000
DTSTAMP:20260419T175329
CREATED:20180228T214107Z
LAST-MODIFIED:20240518T024436Z
UID:10003344-1705431600-1705438800@scstatebeekeepers.com
SUMMARY:Beaufort / Jasper Beekeepers Association Monthly Meeting
DESCRIPTION:
URL:https://scstatebeekeepers.com/event/beaufort-jasper-beekeepers-association-monthly-meeting/2024-01-16/
LOCATION:Beaufort / Jasper Beekeepers Association\, 70 Honey Horn Drive\, Hilton Head Island\, SC\, 29926\, United States
GEO:32.21156;-80.74404
X-APPLE-STRUCTURED-LOCATION;VALUE=URI;X-ADDRESS=Beaufort / Jasper Beekeepers Association 70 Honey Horn Drive Hilton Head Island SC 29926 United States;X-APPLE-RADIUS=500;X-TITLE=70 Honey Horn Drive:geo:-80.74404,32.21156
END:VEVENT
BEGIN:VEVENT
DTSTART;TZID=UTC:20231219T190000
DTEND;TZID=UTC:20231219T210000
DTSTAMP:20260419T175329
CREATED:20180228T214107Z
LAST-MODIFIED:20240518T024436Z
UID:10003343-1703012400-1703019600@scstatebeekeepers.com
SUMMARY:Beaufort / Jasper Beekeepers Association Monthly Meeting
DESCRIPTION:
URL:https://scstatebeekeepers.com/event/beaufort-jasper-beekeepers-association-monthly-meeting/2023-12-19/
LOCATION:Beaufort / Jasper Beekeepers Association\, 70 Honey Horn Drive\, Hilton Head Island\, SC\, 29926\, United States
GEO:32.21156;-80.74404
X-APPLE-STRUCTURED-LOCATION;VALUE=URI;X-ADDRESS=Beaufort / Jasper Beekeepers Association 70 Honey Horn Drive Hilton Head Island SC 29926 United States;X-APPLE-RADIUS=500;X-TITLE=70 Honey Horn Drive:geo:-80.74404,32.21156
END:VEVENT
BEGIN:VEVENT
DTSTART;TZID=UTC:20231121T190000
DTEND;TZID=UTC:20231121T210000
DTSTAMP:20260419T175329
CREATED:20180228T214107Z
LAST-MODIFIED:20240518T024436Z
UID:10003342-1700593200-1700600400@scstatebeekeepers.com
SUMMARY:Beaufort / Jasper Beekeepers Association Monthly Meeting
DESCRIPTION:
URL:https://scstatebeekeepers.com/event/beaufort-jasper-beekeepers-association-monthly-meeting/2023-11-21/
LOCATION:Beaufort / Jasper Beekeepers Association\, 70 Honey Horn Drive\, Hilton Head Island\, SC\, 29926\, United States
GEO:32.21156;-80.74404
X-APPLE-STRUCTURED-LOCATION;VALUE=URI;X-ADDRESS=Beaufort / Jasper Beekeepers Association 70 Honey Horn Drive Hilton Head Island SC 29926 United States;X-APPLE-RADIUS=500;X-TITLE=70 Honey Horn Drive:geo:-80.74404,32.21156
END:VEVENT
BEGIN:VEVENT
DTSTART;TZID=UTC:20231017T190000
DTEND;TZID=UTC:20231017T210000
DTSTAMP:20260419T175329
CREATED:20180228T214107Z
LAST-MODIFIED:20240518T024436Z
UID:10003341-1697569200-1697576400@scstatebeekeepers.com
SUMMARY:Beaufort / Jasper Beekeepers Association Monthly Meeting
DESCRIPTION:
URL:https://scstatebeekeepers.com/event/beaufort-jasper-beekeepers-association-monthly-meeting/2023-10-17/
LOCATION:Beaufort / Jasper Beekeepers Association\, 70 Honey Horn Drive\, Hilton Head Island\, SC\, 29926\, United States
GEO:32.21156;-80.74404
X-APPLE-STRUCTURED-LOCATION;VALUE=URI;X-ADDRESS=Beaufort / Jasper Beekeepers Association 70 Honey Horn Drive Hilton Head Island SC 29926 United States;X-APPLE-RADIUS=500;X-TITLE=70 Honey Horn Drive:geo:-80.74404,32.21156
END:VEVENT
BEGIN:VEVENT
DTSTART;TZID=UTC:20230919T190000
DTEND;TZID=UTC:20230919T210000
DTSTAMP:20260419T175329
CREATED:20180228T214107Z
LAST-MODIFIED:20240518T024436Z
UID:10003340-1695150000-1695157200@scstatebeekeepers.com
SUMMARY:Beaufort / Jasper Beekeepers Association Monthly Meeting
DESCRIPTION:
URL:https://scstatebeekeepers.com/event/beaufort-jasper-beekeepers-association-monthly-meeting/2023-09-19/
LOCATION:Beaufort / Jasper Beekeepers Association\, 70 Honey Horn Drive\, Hilton Head Island\, SC\, 29926\, United States
GEO:32.21156;-80.74404
X-APPLE-STRUCTURED-LOCATION;VALUE=URI;X-ADDRESS=Beaufort / Jasper Beekeepers Association 70 Honey Horn Drive Hilton Head Island SC 29926 United States;X-APPLE-RADIUS=500;X-TITLE=70 Honey Horn Drive:geo:-80.74404,32.21156
END:VEVENT
BEGIN:VEVENT
DTSTART;TZID=UTC:20230815T190000
DTEND;TZID=UTC:20230815T210000
DTSTAMP:20260419T175329
CREATED:20180228T214107Z
LAST-MODIFIED:20240518T024436Z
UID:10003339-1692126000-1692133200@scstatebeekeepers.com
SUMMARY:Beaufort / Jasper Beekeepers Association Monthly Meeting
DESCRIPTION:
URL:https://scstatebeekeepers.com/event/beaufort-jasper-beekeepers-association-monthly-meeting/2023-08-15/
LOCATION:Beaufort / Jasper Beekeepers Association\, 70 Honey Horn Drive\, Hilton Head Island\, SC\, 29926\, United States
GEO:32.21156;-80.74404
X-APPLE-STRUCTURED-LOCATION;VALUE=URI;X-ADDRESS=Beaufort / Jasper Beekeepers Association 70 Honey Horn Drive Hilton Head Island SC 29926 United States;X-APPLE-RADIUS=500;X-TITLE=70 Honey Horn Drive:geo:-80.74404,32.21156
END:VEVENT
BEGIN:VEVENT
DTSTART;TZID=UTC:20230718T190000
DTEND;TZID=UTC:20230718T210000
DTSTAMP:20260419T175329
CREATED:20180228T214107Z
LAST-MODIFIED:20240518T024436Z
UID:10003338-1689706800-1689714000@scstatebeekeepers.com
SUMMARY:Beaufort / Jasper Beekeepers Association Monthly Meeting
DESCRIPTION:
URL:https://scstatebeekeepers.com/event/beaufort-jasper-beekeepers-association-monthly-meeting/2023-07-18/
LOCATION:Beaufort / Jasper Beekeepers Association\, 70 Honey Horn Drive\, Hilton Head Island\, SC\, 29926\, United States
GEO:32.21156;-80.74404
X-APPLE-STRUCTURED-LOCATION;VALUE=URI;X-ADDRESS=Beaufort / Jasper Beekeepers Association 70 Honey Horn Drive Hilton Head Island SC 29926 United States;X-APPLE-RADIUS=500;X-TITLE=70 Honey Horn Drive:geo:-80.74404,32.21156
END:VEVENT
BEGIN:VEVENT
DTSTART;TZID=UTC:20230620T190000
DTEND;TZID=UTC:20230620T210000
DTSTAMP:20260419T175329
CREATED:20180228T214107Z
LAST-MODIFIED:20240518T024436Z
UID:10003337-1687287600-1687294800@scstatebeekeepers.com
SUMMARY:Beaufort / Jasper Beekeepers Association Monthly Meeting
DESCRIPTION:
URL:https://scstatebeekeepers.com/event/beaufort-jasper-beekeepers-association-monthly-meeting/2023-06-20/
LOCATION:Beaufort / Jasper Beekeepers Association\, 70 Honey Horn Drive\, Hilton Head Island\, SC\, 29926\, United States
GEO:32.21156;-80.74404
X-APPLE-STRUCTURED-LOCATION;VALUE=URI;X-ADDRESS=Beaufort / Jasper Beekeepers Association 70 Honey Horn Drive Hilton Head Island SC 29926 United States;X-APPLE-RADIUS=500;X-TITLE=70 Honey Horn Drive:geo:-80.74404,32.21156
END:VEVENT
BEGIN:VEVENT
DTSTART;TZID=UTC:20230516T190000
DTEND;TZID=UTC:20230516T210000
DTSTAMP:20260419T175329
CREATED:20180228T214107Z
LAST-MODIFIED:20240518T024436Z
UID:10003336-1684263600-1684270800@scstatebeekeepers.com
SUMMARY:Beaufort / Jasper Beekeepers Association Monthly Meeting
DESCRIPTION:
URL:https://scstatebeekeepers.com/event/beaufort-jasper-beekeepers-association-monthly-meeting/2023-05-16/
LOCATION:Beaufort / Jasper Beekeepers Association\, 70 Honey Horn Drive\, Hilton Head Island\, SC\, 29926\, United States
GEO:32.21156;-80.74404
X-APPLE-STRUCTURED-LOCATION;VALUE=URI;X-ADDRESS=Beaufort / Jasper Beekeepers Association 70 Honey Horn Drive Hilton Head Island SC 29926 United States;X-APPLE-RADIUS=500;X-TITLE=70 Honey Horn Drive:geo:-80.74404,32.21156
END:VEVENT
BEGIN:VEVENT
DTSTART;TZID=UTC:20230418T190000
DTEND;TZID=UTC:20230418T210000
DTSTAMP:20260419T175329
CREATED:20180228T214107Z
LAST-MODIFIED:20240518T024436Z
UID:10003335-1681844400-1681851600@scstatebeekeepers.com
SUMMARY:Beaufort / Jasper Beekeepers Association Monthly Meeting
DESCRIPTION:
URL:https://scstatebeekeepers.com/event/beaufort-jasper-beekeepers-association-monthly-meeting/2023-04-18/
LOCATION:Beaufort / Jasper Beekeepers Association\, 70 Honey Horn Drive\, Hilton Head Island\, SC\, 29926\, United States
GEO:32.21156;-80.74404
X-APPLE-STRUCTURED-LOCATION;VALUE=URI;X-ADDRESS=Beaufort / Jasper Beekeepers Association 70 Honey Horn Drive Hilton Head Island SC 29926 United States;X-APPLE-RADIUS=500;X-TITLE=70 Honey Horn Drive:geo:-80.74404,32.21156
END:VEVENT
BEGIN:VEVENT
DTSTART;TZID=UTC:20230321T190000
DTEND;TZID=UTC:20230321T210000
DTSTAMP:20260419T175329
CREATED:20180228T214107Z
LAST-MODIFIED:20240518T024436Z
UID:10003334-1679425200-1679432400@scstatebeekeepers.com
SUMMARY:Beaufort / Jasper Beekeepers Association Monthly Meeting
DESCRIPTION:
URL:https://scstatebeekeepers.com/event/beaufort-jasper-beekeepers-association-monthly-meeting/2023-03-21/
LOCATION:Beaufort / Jasper Beekeepers Association\, 70 Honey Horn Drive\, Hilton Head Island\, SC\, 29926\, United States
GEO:32.21156;-80.74404
X-APPLE-STRUCTURED-LOCATION;VALUE=URI;X-ADDRESS=Beaufort / Jasper Beekeepers Association 70 Honey Horn Drive Hilton Head Island SC 29926 United States;X-APPLE-RADIUS=500;X-TITLE=70 Honey Horn Drive:geo:-80.74404,32.21156
END:VEVENT
BEGIN:VEVENT
DTSTART;TZID=UTC:20230221T190000
DTEND;TZID=UTC:20230221T210000
DTSTAMP:20260419T175329
CREATED:20180228T214107Z
LAST-MODIFIED:20240518T024436Z
UID:10003333-1677006000-1677013200@scstatebeekeepers.com
SUMMARY:Beaufort / Jasper Beekeepers Association Monthly Meeting
DESCRIPTION:
URL:https://scstatebeekeepers.com/event/beaufort-jasper-beekeepers-association-monthly-meeting/2023-02-21/
LOCATION:Beaufort / Jasper Beekeepers Association\, 70 Honey Horn Drive\, Hilton Head Island\, SC\, 29926\, United States
GEO:32.21156;-80.74404
X-APPLE-STRUCTURED-LOCATION;VALUE=URI;X-ADDRESS=Beaufort / Jasper Beekeepers Association 70 Honey Horn Drive Hilton Head Island SC 29926 United States;X-APPLE-RADIUS=500;X-TITLE=70 Honey Horn Drive:geo:-80.74404,32.21156
END:VEVENT
BEGIN:VEVENT
DTSTART;TZID=UTC:20230117T190000
DTEND;TZID=UTC:20230117T210000
DTSTAMP:20260419T175329
CREATED:20180228T214107Z
LAST-MODIFIED:20240518T024436Z
UID:10003332-1673982000-1673989200@scstatebeekeepers.com
SUMMARY:Beaufort / Jasper Beekeepers Association Monthly Meeting
DESCRIPTION:
URL:https://scstatebeekeepers.com/event/beaufort-jasper-beekeepers-association-monthly-meeting/2023-01-17/
LOCATION:Beaufort / Jasper Beekeepers Association\, 70 Honey Horn Drive\, Hilton Head Island\, SC\, 29926\, United States
GEO:32.21156;-80.74404
X-APPLE-STRUCTURED-LOCATION;VALUE=URI;X-ADDRESS=Beaufort / Jasper Beekeepers Association 70 Honey Horn Drive Hilton Head Island SC 29926 United States;X-APPLE-RADIUS=500;X-TITLE=70 Honey Horn Drive:geo:-80.74404,32.21156
END:VEVENT
BEGIN:VEVENT
DTSTART;TZID=UTC:20221220T190000
DTEND;TZID=UTC:20221220T210000
DTSTAMP:20260419T175329
CREATED:20180228T214107Z
LAST-MODIFIED:20240518T024436Z
UID:10003331-1671562800-1671570000@scstatebeekeepers.com
SUMMARY:Beaufort / Jasper Beekeepers Association Monthly Meeting
DESCRIPTION:
URL:https://scstatebeekeepers.com/event/beaufort-jasper-beekeepers-association-monthly-meeting/2022-12-20/
LOCATION:Beaufort / Jasper Beekeepers Association\, 70 Honey Horn Drive\, Hilton Head Island\, SC\, 29926\, United States
GEO:32.21156;-80.74404
X-APPLE-STRUCTURED-LOCATION;VALUE=URI;X-ADDRESS=Beaufort / Jasper Beekeepers Association 70 Honey Horn Drive Hilton Head Island SC 29926 United States;X-APPLE-RADIUS=500;X-TITLE=70 Honey Horn Drive:geo:-80.74404,32.21156
END:VEVENT
BEGIN:VEVENT
DTSTART;TZID=UTC:20221115T190000
DTEND;TZID=UTC:20221115T210000
DTSTAMP:20260419T175329
CREATED:20180228T214107Z
LAST-MODIFIED:20240518T024436Z
UID:10003330-1668538800-1668546000@scstatebeekeepers.com
SUMMARY:Beaufort / Jasper Beekeepers Association Monthly Meeting
DESCRIPTION:
URL:https://scstatebeekeepers.com/event/beaufort-jasper-beekeepers-association-monthly-meeting/2022-11-15/
LOCATION:Beaufort / Jasper Beekeepers Association\, 70 Honey Horn Drive\, Hilton Head Island\, SC\, 29926\, United States
GEO:32.21156;-80.74404
X-APPLE-STRUCTURED-LOCATION;VALUE=URI;X-ADDRESS=Beaufort / Jasper Beekeepers Association 70 Honey Horn Drive Hilton Head Island SC 29926 United States;X-APPLE-RADIUS=500;X-TITLE=70 Honey Horn Drive:geo:-80.74404,32.21156
END:VEVENT
BEGIN:VEVENT
DTSTART;TZID=UTC:20221018T190000
DTEND;TZID=UTC:20221018T210000
DTSTAMP:20260419T175329
CREATED:20180228T214107Z
LAST-MODIFIED:20240518T024436Z
UID:10003329-1666119600-1666126800@scstatebeekeepers.com
SUMMARY:Beaufort / Jasper Beekeepers Association Monthly Meeting
DESCRIPTION:
URL:https://scstatebeekeepers.com/event/beaufort-jasper-beekeepers-association-monthly-meeting/2022-10-18/
LOCATION:Beaufort / Jasper Beekeepers Association\, 70 Honey Horn Drive\, Hilton Head Island\, SC\, 29926\, United States
GEO:32.21156;-80.74404
X-APPLE-STRUCTURED-LOCATION;VALUE=URI;X-ADDRESS=Beaufort / Jasper Beekeepers Association 70 Honey Horn Drive Hilton Head Island SC 29926 United States;X-APPLE-RADIUS=500;X-TITLE=70 Honey Horn Drive:geo:-80.74404,32.21156
END:VEVENT
BEGIN:VEVENT
DTSTART;TZID=UTC:20220920T190000
DTEND;TZID=UTC:20220920T210000
DTSTAMP:20260419T175329
CREATED:20180228T214107Z
LAST-MODIFIED:20240518T024436Z
UID:10003328-1663700400-1663707600@scstatebeekeepers.com
SUMMARY:Beaufort / Jasper Beekeepers Association Monthly Meeting
DESCRIPTION:
URL:https://scstatebeekeepers.com/event/beaufort-jasper-beekeepers-association-monthly-meeting/2022-09-20/
LOCATION:Beaufort / Jasper Beekeepers Association\, 70 Honey Horn Drive\, Hilton Head Island\, SC\, 29926\, United States
GEO:32.21156;-80.74404
X-APPLE-STRUCTURED-LOCATION;VALUE=URI;X-ADDRESS=Beaufort / Jasper Beekeepers Association 70 Honey Horn Drive Hilton Head Island SC 29926 United States;X-APPLE-RADIUS=500;X-TITLE=70 Honey Horn Drive:geo:-80.74404,32.21156
END:VEVENT
BEGIN:VEVENT
DTSTART;TZID=UTC:20220816T190000
DTEND;TZID=UTC:20220816T210000
DTSTAMP:20260419T175329
CREATED:20180228T214107Z
LAST-MODIFIED:20240518T024436Z
UID:10003327-1660676400-1660683600@scstatebeekeepers.com
SUMMARY:Beaufort / Jasper Beekeepers Association Monthly Meeting
DESCRIPTION:
URL:https://scstatebeekeepers.com/event/beaufort-jasper-beekeepers-association-monthly-meeting/2022-08-16/
LOCATION:Beaufort / Jasper Beekeepers Association\, 70 Honey Horn Drive\, Hilton Head Island\, SC\, 29926\, United States
GEO:32.21156;-80.74404
X-APPLE-STRUCTURED-LOCATION;VALUE=URI;X-ADDRESS=Beaufort / Jasper Beekeepers Association 70 Honey Horn Drive Hilton Head Island SC 29926 United States;X-APPLE-RADIUS=500;X-TITLE=70 Honey Horn Drive:geo:-80.74404,32.21156
END:VEVENT
BEGIN:VEVENT
DTSTART;TZID=UTC:20220719T190000
DTEND;TZID=UTC:20220719T210000
DTSTAMP:20260419T175329
CREATED:20180228T214107Z
LAST-MODIFIED:20240518T024436Z
UID:10003326-1658257200-1658264400@scstatebeekeepers.com
SUMMARY:Beaufort / Jasper Beekeepers Association Monthly Meeting
DESCRIPTION:
URL:https://scstatebeekeepers.com/event/beaufort-jasper-beekeepers-association-monthly-meeting/2022-07-19/
LOCATION:Beaufort / Jasper Beekeepers Association\, 70 Honey Horn Drive\, Hilton Head Island\, SC\, 29926\, United States
GEO:32.21156;-80.74404
X-APPLE-STRUCTURED-LOCATION;VALUE=URI;X-ADDRESS=Beaufort / Jasper Beekeepers Association 70 Honey Horn Drive Hilton Head Island SC 29926 United States;X-APPLE-RADIUS=500;X-TITLE=70 Honey Horn Drive:geo:-80.74404,32.21156
END:VEVENT
BEGIN:VEVENT
DTSTART;TZID=UTC:20220621T190000
DTEND;TZID=UTC:20220621T210000
DTSTAMP:20260419T175329
CREATED:20180228T214107Z
LAST-MODIFIED:20240518T024436Z
UID:10003325-1655838000-1655845200@scstatebeekeepers.com
SUMMARY:Beaufort / Jasper Beekeepers Association Monthly Meeting
DESCRIPTION:
URL:https://scstatebeekeepers.com/event/beaufort-jasper-beekeepers-association-monthly-meeting/2022-06-21/
LOCATION:Beaufort / Jasper Beekeepers Association\, 70 Honey Horn Drive\, Hilton Head Island\, SC\, 29926\, United States
GEO:32.21156;-80.74404
X-APPLE-STRUCTURED-LOCATION;VALUE=URI;X-ADDRESS=Beaufort / Jasper Beekeepers Association 70 Honey Horn Drive Hilton Head Island SC 29926 United States;X-APPLE-RADIUS=500;X-TITLE=70 Honey Horn Drive:geo:-80.74404,32.21156
END:VEVENT
BEGIN:VEVENT
DTSTART;TZID=UTC:20220517T190000
DTEND;TZID=UTC:20220517T210000
DTSTAMP:20260419T175329
CREATED:20180228T214107Z
LAST-MODIFIED:20240518T024436Z
UID:10003324-1652814000-1652821200@scstatebeekeepers.com
SUMMARY:Beaufort / Jasper Beekeepers Association Monthly Meeting
DESCRIPTION:
URL:https://scstatebeekeepers.com/event/beaufort-jasper-beekeepers-association-monthly-meeting/2022-05-17/
LOCATION:Beaufort / Jasper Beekeepers Association\, 70 Honey Horn Drive\, Hilton Head Island\, SC\, 29926\, United States
GEO:32.21156;-80.74404
X-APPLE-STRUCTURED-LOCATION;VALUE=URI;X-ADDRESS=Beaufort / Jasper Beekeepers Association 70 Honey Horn Drive Hilton Head Island SC 29926 United States;X-APPLE-RADIUS=500;X-TITLE=70 Honey Horn Drive:geo:-80.74404,32.21156
END:VEVENT
BEGIN:VEVENT
DTSTART;TZID=UTC:20220419T190000
DTEND;TZID=UTC:20220419T210000
DTSTAMP:20260419T175329
CREATED:20180228T214107Z
LAST-MODIFIED:20240518T024436Z
UID:10003323-1650394800-1650402000@scstatebeekeepers.com
SUMMARY:Beaufort / Jasper Beekeepers Association Monthly Meeting
DESCRIPTION:
URL:https://scstatebeekeepers.com/event/beaufort-jasper-beekeepers-association-monthly-meeting/2022-04-19/
LOCATION:Beaufort / Jasper Beekeepers Association\, 70 Honey Horn Drive\, Hilton Head Island\, SC\, 29926\, United States
GEO:32.21156;-80.74404
X-APPLE-STRUCTURED-LOCATION;VALUE=URI;X-ADDRESS=Beaufort / Jasper Beekeepers Association 70 Honey Horn Drive Hilton Head Island SC 29926 United States;X-APPLE-RADIUS=500;X-TITLE=70 Honey Horn Drive:geo:-80.74404,32.21156
END:VEVENT
BEGIN:VEVENT
DTSTART;TZID=UTC:20220315T190000
DTEND;TZID=UTC:20220315T210000
DTSTAMP:20260419T175329
CREATED:20180228T214107Z
LAST-MODIFIED:20240518T024436Z
UID:10003322-1647370800-1647378000@scstatebeekeepers.com
SUMMARY:Beaufort / Jasper Beekeepers Association Monthly Meeting
DESCRIPTION:
URL:https://scstatebeekeepers.com/event/beaufort-jasper-beekeepers-association-monthly-meeting/2022-03-15/
LOCATION:Beaufort / Jasper Beekeepers Association\, 70 Honey Horn Drive\, Hilton Head Island\, SC\, 29926\, United States
GEO:32.21156;-80.74404
X-APPLE-STRUCTURED-LOCATION;VALUE=URI;X-ADDRESS=Beaufort / Jasper Beekeepers Association 70 Honey Horn Drive Hilton Head Island SC 29926 United States;X-APPLE-RADIUS=500;X-TITLE=70 Honey Horn Drive:geo:-80.74404,32.21156
END:VEVENT
BEGIN:VEVENT
DTSTART;TZID=UTC:20220215T190000
DTEND;TZID=UTC:20220215T210000
DTSTAMP:20260419T175329
CREATED:20180228T214107Z
LAST-MODIFIED:20240518T024436Z
UID:10003321-1644951600-1644958800@scstatebeekeepers.com
SUMMARY:Beaufort / Jasper Beekeepers Association Monthly Meeting
DESCRIPTION:
URL:https://scstatebeekeepers.com/event/beaufort-jasper-beekeepers-association-monthly-meeting/2022-02-15/
LOCATION:Beaufort / Jasper Beekeepers Association\, 70 Honey Horn Drive\, Hilton Head Island\, SC\, 29926\, United States
GEO:32.21156;-80.74404
X-APPLE-STRUCTURED-LOCATION;VALUE=URI;X-ADDRESS=Beaufort / Jasper Beekeepers Association 70 Honey Horn Drive Hilton Head Island SC 29926 United States;X-APPLE-RADIUS=500;X-TITLE=70 Honey Horn Drive:geo:-80.74404,32.21156
END:VEVENT
BEGIN:VEVENT
DTSTART;TZID=UTC:20220118T190000
DTEND;TZID=UTC:20220118T210000
DTSTAMP:20260419T175329
CREATED:20180228T214107Z
LAST-MODIFIED:20240518T024436Z
UID:10003320-1642532400-1642539600@scstatebeekeepers.com
SUMMARY:Beaufort / Jasper Beekeepers Association Monthly Meeting
DESCRIPTION:
URL:https://scstatebeekeepers.com/event/beaufort-jasper-beekeepers-association-monthly-meeting/2022-01-18/
LOCATION:Beaufort / Jasper Beekeepers Association\, 70 Honey Horn Drive\, Hilton Head Island\, SC\, 29926\, United States
GEO:32.21156;-80.74404
X-APPLE-STRUCTURED-LOCATION;VALUE=URI;X-ADDRESS=Beaufort / Jasper Beekeepers Association 70 Honey Horn Drive Hilton Head Island SC 29926 United States;X-APPLE-RADIUS=500;X-TITLE=70 Honey Horn Drive:geo:-80.74404,32.21156
END:VEVENT
END:VCALENDAR