BEGIN:VCALENDAR
VERSION:2.0
PRODID:-//SC State Beekeepers Association - ECPv6.15.20//NONSGML v1.0//EN
CALSCALE:GREGORIAN
METHOD:PUBLISH
X-WR-CALNAME:SC State Beekeepers Association
X-ORIGINAL-URL:https://scstatebeekeepers.com
X-WR-CALDESC:Events for SC State Beekeepers Association
REFRESH-INTERVAL;VALUE=DURATION:PT1H
X-Robots-Tag:noindex
X-PUBLISHED-TTL:PT1H
BEGIN:VTIMEZONE
TZID:America/New_York
BEGIN:DAYLIGHT
TZOFFSETFROM:-0500
TZOFFSETTO:-0400
TZNAME:EDT
DTSTART:20200308T070000
END:DAYLIGHT
BEGIN:STANDARD
TZOFFSETFROM:-0400
TZOFFSETTO:-0500
TZNAME:EST
DTSTART:20201101T060000
END:STANDARD
BEGIN:DAYLIGHT
TZOFFSETFROM:-0500
TZOFFSETTO:-0400
TZNAME:EDT
DTSTART:20210314T070000
END:DAYLIGHT
BEGIN:STANDARD
TZOFFSETFROM:-0400
TZOFFSETTO:-0500
TZNAME:EST
DTSTART:20211107T060000
END:STANDARD
BEGIN:DAYLIGHT
TZOFFSETFROM:-0500
TZOFFSETTO:-0400
TZNAME:EDT
DTSTART:20220313T070000
END:DAYLIGHT
BEGIN:STANDARD
TZOFFSETFROM:-0400
TZOFFSETTO:-0500
TZNAME:EST
DTSTART:20221106T060000
END:STANDARD
BEGIN:DAYLIGHT
TZOFFSETFROM:-0500
TZOFFSETTO:-0400
TZNAME:EDT
DTSTART:20230312T070000
END:DAYLIGHT
BEGIN:STANDARD
TZOFFSETFROM:-0400
TZOFFSETTO:-0500
TZNAME:EST
DTSTART:20231105T060000
END:STANDARD
BEGIN:DAYLIGHT
TZOFFSETFROM:-0500
TZOFFSETTO:-0400
TZNAME:EDT
DTSTART:20240310T070000
END:DAYLIGHT
BEGIN:STANDARD
TZOFFSETFROM:-0400
TZOFFSETTO:-0500
TZNAME:EST
DTSTART:20241103T060000
END:STANDARD
END:VTIMEZONE
BEGIN:VEVENT
DTSTART;TZID=America/New_York:20231205T183000
DTEND;TZID=America/New_York:20231205T200000
DTSTAMP:20260419T092933
CREATED:20211207T124419Z
LAST-MODIFIED:20250424T031852Z
UID:10003077-1701801000-1701806400@scstatebeekeepers.com
SUMMARY:Midstate Beekeepers Association Monthly Meeting
DESCRIPTION:
URL:https://scstatebeekeepers.com/event/midstate-beekeepers-association-monthly-meeting-2/2023-12-05/
LOCATION:Midstate Beekeepers Association\, 3215 Platt Springs Rd\, West Columbia\, SC\, 29170\, United States
GEO:33.95689;-81.11415
X-APPLE-STRUCTURED-LOCATION;VALUE=URI;X-ADDRESS=Midstate Beekeepers Association 3215 Platt Springs Rd West Columbia SC 29170 United States;X-APPLE-RADIUS=500;X-TITLE=3215 Platt Springs Rd:geo:-81.11415,33.95689
END:VEVENT
BEGIN:VEVENT
DTSTART;TZID=America/New_York:20231107T183000
DTEND;TZID=America/New_York:20231107T200000
DTSTAMP:20260419T092933
CREATED:20211207T124419Z
LAST-MODIFIED:20250424T031852Z
UID:10003076-1699381800-1699387200@scstatebeekeepers.com
SUMMARY:Midstate Beekeepers Association Monthly Meeting
DESCRIPTION:
URL:https://scstatebeekeepers.com/event/midstate-beekeepers-association-monthly-meeting-2/2023-11-07/
LOCATION:Midstate Beekeepers Association\, 3215 Platt Springs Rd\, West Columbia\, SC\, 29170\, United States
GEO:33.95689;-81.11415
X-APPLE-STRUCTURED-LOCATION;VALUE=URI;X-ADDRESS=Midstate Beekeepers Association 3215 Platt Springs Rd West Columbia SC 29170 United States;X-APPLE-RADIUS=500;X-TITLE=3215 Platt Springs Rd:geo:-81.11415,33.95689
END:VEVENT
BEGIN:VEVENT
DTSTART;TZID=America/New_York:20231003T183000
DTEND;TZID=America/New_York:20231003T200000
DTSTAMP:20260419T092933
CREATED:20211207T124419Z
LAST-MODIFIED:20250424T031852Z
UID:10003075-1696357800-1696363200@scstatebeekeepers.com
SUMMARY:Midstate Beekeepers Association Monthly Meeting
DESCRIPTION:
URL:https://scstatebeekeepers.com/event/midstate-beekeepers-association-monthly-meeting-2/2023-10-03/
LOCATION:Midstate Beekeepers Association\, 3215 Platt Springs Rd\, West Columbia\, SC\, 29170\, United States
GEO:33.95689;-81.11415
X-APPLE-STRUCTURED-LOCATION;VALUE=URI;X-ADDRESS=Midstate Beekeepers Association 3215 Platt Springs Rd West Columbia SC 29170 United States;X-APPLE-RADIUS=500;X-TITLE=3215 Platt Springs Rd:geo:-81.11415,33.95689
END:VEVENT
BEGIN:VEVENT
DTSTART;TZID=America/New_York:20230905T183000
DTEND;TZID=America/New_York:20230905T200000
DTSTAMP:20260419T092933
CREATED:20211207T124419Z
LAST-MODIFIED:20250424T031852Z
UID:10003074-1693938600-1693944000@scstatebeekeepers.com
SUMMARY:Midstate Beekeepers Association Monthly Meeting
DESCRIPTION:
URL:https://scstatebeekeepers.com/event/midstate-beekeepers-association-monthly-meeting-2/2023-09-05/
LOCATION:Midstate Beekeepers Association\, 3215 Platt Springs Rd\, West Columbia\, SC\, 29170\, United States
GEO:33.95689;-81.11415
X-APPLE-STRUCTURED-LOCATION;VALUE=URI;X-ADDRESS=Midstate Beekeepers Association 3215 Platt Springs Rd West Columbia SC 29170 United States;X-APPLE-RADIUS=500;X-TITLE=3215 Platt Springs Rd:geo:-81.11415,33.95689
END:VEVENT
BEGIN:VEVENT
DTSTART;TZID=America/New_York:20230801T183000
DTEND;TZID=America/New_York:20230801T200000
DTSTAMP:20260419T092933
CREATED:20211207T124419Z
LAST-MODIFIED:20250424T031852Z
UID:10003073-1690914600-1690920000@scstatebeekeepers.com
SUMMARY:Midstate Beekeepers Association Monthly Meeting
DESCRIPTION:
URL:https://scstatebeekeepers.com/event/midstate-beekeepers-association-monthly-meeting-2/2023-08-01/
LOCATION:Midstate Beekeepers Association\, 3215 Platt Springs Rd\, West Columbia\, SC\, 29170\, United States
GEO:33.95689;-81.11415
X-APPLE-STRUCTURED-LOCATION;VALUE=URI;X-ADDRESS=Midstate Beekeepers Association 3215 Platt Springs Rd West Columbia SC 29170 United States;X-APPLE-RADIUS=500;X-TITLE=3215 Platt Springs Rd:geo:-81.11415,33.95689
END:VEVENT
BEGIN:VEVENT
DTSTART;TZID=America/New_York:20230704T183000
DTEND;TZID=America/New_York:20230704T200000
DTSTAMP:20260419T092933
CREATED:20211207T124419Z
LAST-MODIFIED:20250424T031852Z
UID:10003072-1688495400-1688500800@scstatebeekeepers.com
SUMMARY:Midstate Beekeepers Association Monthly Meeting
DESCRIPTION:
URL:https://scstatebeekeepers.com/event/midstate-beekeepers-association-monthly-meeting-2/2023-07-04/
LOCATION:Midstate Beekeepers Association\, 3215 Platt Springs Rd\, West Columbia\, SC\, 29170\, United States
GEO:33.95689;-81.11415
X-APPLE-STRUCTURED-LOCATION;VALUE=URI;X-ADDRESS=Midstate Beekeepers Association 3215 Platt Springs Rd West Columbia SC 29170 United States;X-APPLE-RADIUS=500;X-TITLE=3215 Platt Springs Rd:geo:-81.11415,33.95689
END:VEVENT
BEGIN:VEVENT
DTSTART;TZID=America/New_York:20230606T183000
DTEND;TZID=America/New_York:20230606T200000
DTSTAMP:20260419T092933
CREATED:20211207T124419Z
LAST-MODIFIED:20250424T031852Z
UID:10003071-1686076200-1686081600@scstatebeekeepers.com
SUMMARY:Midstate Beekeepers Association Monthly Meeting
DESCRIPTION:
URL:https://scstatebeekeepers.com/event/midstate-beekeepers-association-monthly-meeting-2/2023-06-06/
LOCATION:Midstate Beekeepers Association\, 3215 Platt Springs Rd\, West Columbia\, SC\, 29170\, United States
GEO:33.95689;-81.11415
X-APPLE-STRUCTURED-LOCATION;VALUE=URI;X-ADDRESS=Midstate Beekeepers Association 3215 Platt Springs Rd West Columbia SC 29170 United States;X-APPLE-RADIUS=500;X-TITLE=3215 Platt Springs Rd:geo:-81.11415,33.95689
END:VEVENT
BEGIN:VEVENT
DTSTART;TZID=America/New_York:20230502T183000
DTEND;TZID=America/New_York:20230502T200000
DTSTAMP:20260419T092933
CREATED:20211207T124419Z
LAST-MODIFIED:20250424T031852Z
UID:10003070-1683052200-1683057600@scstatebeekeepers.com
SUMMARY:Midstate Beekeepers Association Monthly Meeting
DESCRIPTION:
URL:https://scstatebeekeepers.com/event/midstate-beekeepers-association-monthly-meeting-2/2023-05-02/
LOCATION:Midstate Beekeepers Association\, 3215 Platt Springs Rd\, West Columbia\, SC\, 29170\, United States
GEO:33.95689;-81.11415
X-APPLE-STRUCTURED-LOCATION;VALUE=URI;X-ADDRESS=Midstate Beekeepers Association 3215 Platt Springs Rd West Columbia SC 29170 United States;X-APPLE-RADIUS=500;X-TITLE=3215 Platt Springs Rd:geo:-81.11415,33.95689
END:VEVENT
BEGIN:VEVENT
DTSTART;TZID=America/New_York:20230404T183000
DTEND;TZID=America/New_York:20230404T200000
DTSTAMP:20260419T092933
CREATED:20211207T124419Z
LAST-MODIFIED:20250424T031852Z
UID:10003069-1680633000-1680638400@scstatebeekeepers.com
SUMMARY:Midstate Beekeepers Association Monthly Meeting
DESCRIPTION:
URL:https://scstatebeekeepers.com/event/midstate-beekeepers-association-monthly-meeting-2/2023-04-04/
LOCATION:Midstate Beekeepers Association\, 3215 Platt Springs Rd\, West Columbia\, SC\, 29170\, United States
GEO:33.95689;-81.11415
X-APPLE-STRUCTURED-LOCATION;VALUE=URI;X-ADDRESS=Midstate Beekeepers Association 3215 Platt Springs Rd West Columbia SC 29170 United States;X-APPLE-RADIUS=500;X-TITLE=3215 Platt Springs Rd:geo:-81.11415,33.95689
END:VEVENT
BEGIN:VEVENT
DTSTART;TZID=America/New_York:20230307T183000
DTEND;TZID=America/New_York:20230307T200000
DTSTAMP:20260419T092933
CREATED:20211207T124419Z
LAST-MODIFIED:20250424T031852Z
UID:10003068-1678213800-1678219200@scstatebeekeepers.com
SUMMARY:Midstate Beekeepers Association Monthly Meeting
DESCRIPTION:
URL:https://scstatebeekeepers.com/event/midstate-beekeepers-association-monthly-meeting-2/2023-03-07/
LOCATION:Midstate Beekeepers Association\, 3215 Platt Springs Rd\, West Columbia\, SC\, 29170\, United States
GEO:33.95689;-81.11415
X-APPLE-STRUCTURED-LOCATION;VALUE=URI;X-ADDRESS=Midstate Beekeepers Association 3215 Platt Springs Rd West Columbia SC 29170 United States;X-APPLE-RADIUS=500;X-TITLE=3215 Platt Springs Rd:geo:-81.11415,33.95689
END:VEVENT
BEGIN:VEVENT
DTSTART;TZID=America/New_York:20230207T183000
DTEND;TZID=America/New_York:20230207T200000
DTSTAMP:20260419T092933
CREATED:20211207T124419Z
LAST-MODIFIED:20250424T031852Z
UID:10003067-1675794600-1675800000@scstatebeekeepers.com
SUMMARY:Midstate Beekeepers Association Monthly Meeting
DESCRIPTION:
URL:https://scstatebeekeepers.com/event/midstate-beekeepers-association-monthly-meeting-2/2023-02-07/
LOCATION:Midstate Beekeepers Association\, 3215 Platt Springs Rd\, West Columbia\, SC\, 29170\, United States
GEO:33.95689;-81.11415
X-APPLE-STRUCTURED-LOCATION;VALUE=URI;X-ADDRESS=Midstate Beekeepers Association 3215 Platt Springs Rd West Columbia SC 29170 United States;X-APPLE-RADIUS=500;X-TITLE=3215 Platt Springs Rd:geo:-81.11415,33.95689
END:VEVENT
BEGIN:VEVENT
DTSTART;TZID=America/New_York:20230103T183000
DTEND;TZID=America/New_York:20230103T200000
DTSTAMP:20260419T092933
CREATED:20211207T124419Z
LAST-MODIFIED:20250424T031852Z
UID:10003066-1672770600-1672776000@scstatebeekeepers.com
SUMMARY:Midstate Beekeepers Association Monthly Meeting
DESCRIPTION:
URL:https://scstatebeekeepers.com/event/midstate-beekeepers-association-monthly-meeting-2/2023-01-03/
LOCATION:Midstate Beekeepers Association\, 3215 Platt Springs Rd\, West Columbia\, SC\, 29170\, United States
GEO:33.95689;-81.11415
X-APPLE-STRUCTURED-LOCATION;VALUE=URI;X-ADDRESS=Midstate Beekeepers Association 3215 Platt Springs Rd West Columbia SC 29170 United States;X-APPLE-RADIUS=500;X-TITLE=3215 Platt Springs Rd:geo:-81.11415,33.95689
END:VEVENT
BEGIN:VEVENT
DTSTART;TZID=America/New_York:20221206T183000
DTEND;TZID=America/New_York:20221206T200000
DTSTAMP:20260419T092933
CREATED:20211207T124419Z
LAST-MODIFIED:20250424T031852Z
UID:10003065-1670351400-1670356800@scstatebeekeepers.com
SUMMARY:Midstate Beekeepers Association Monthly Meeting
DESCRIPTION:
URL:https://scstatebeekeepers.com/event/midstate-beekeepers-association-monthly-meeting-2/2022-12-06/
LOCATION:Midstate Beekeepers Association\, 3215 Platt Springs Rd\, West Columbia\, SC\, 29170\, United States
GEO:33.95689;-81.11415
X-APPLE-STRUCTURED-LOCATION;VALUE=URI;X-ADDRESS=Midstate Beekeepers Association 3215 Platt Springs Rd West Columbia SC 29170 United States;X-APPLE-RADIUS=500;X-TITLE=3215 Platt Springs Rd:geo:-81.11415,33.95689
END:VEVENT
BEGIN:VEVENT
DTSTART;TZID=America/New_York:20221101T183000
DTEND;TZID=America/New_York:20221101T200000
DTSTAMP:20260419T092933
CREATED:20211207T124419Z
LAST-MODIFIED:20250424T031852Z
UID:10003064-1667327400-1667332800@scstatebeekeepers.com
SUMMARY:Midstate Beekeepers Association Monthly Meeting
DESCRIPTION:
URL:https://scstatebeekeepers.com/event/midstate-beekeepers-association-monthly-meeting-2/2022-11-01/
LOCATION:Midstate Beekeepers Association\, 3215 Platt Springs Rd\, West Columbia\, SC\, 29170\, United States
GEO:33.95689;-81.11415
X-APPLE-STRUCTURED-LOCATION;VALUE=URI;X-ADDRESS=Midstate Beekeepers Association 3215 Platt Springs Rd West Columbia SC 29170 United States;X-APPLE-RADIUS=500;X-TITLE=3215 Platt Springs Rd:geo:-81.11415,33.95689
END:VEVENT
BEGIN:VEVENT
DTSTART;TZID=America/New_York:20221004T183000
DTEND;TZID=America/New_York:20221004T200000
DTSTAMP:20260419T092933
CREATED:20211207T124419Z
LAST-MODIFIED:20250424T031852Z
UID:10003063-1664908200-1664913600@scstatebeekeepers.com
SUMMARY:Midstate Beekeepers Association Monthly Meeting
DESCRIPTION:
URL:https://scstatebeekeepers.com/event/midstate-beekeepers-association-monthly-meeting-2/2022-10-04/
LOCATION:Midstate Beekeepers Association\, 3215 Platt Springs Rd\, West Columbia\, SC\, 29170\, United States
GEO:33.95689;-81.11415
X-APPLE-STRUCTURED-LOCATION;VALUE=URI;X-ADDRESS=Midstate Beekeepers Association 3215 Platt Springs Rd West Columbia SC 29170 United States;X-APPLE-RADIUS=500;X-TITLE=3215 Platt Springs Rd:geo:-81.11415,33.95689
END:VEVENT
BEGIN:VEVENT
DTSTART;TZID=America/New_York:20220906T183000
DTEND;TZID=America/New_York:20220906T200000
DTSTAMP:20260419T092933
CREATED:20211207T124419Z
LAST-MODIFIED:20250424T031852Z
UID:10003062-1662489000-1662494400@scstatebeekeepers.com
SUMMARY:Midstate Beekeepers Association Monthly Meeting
DESCRIPTION:
URL:https://scstatebeekeepers.com/event/midstate-beekeepers-association-monthly-meeting-2/2022-09-06/
LOCATION:Midstate Beekeepers Association\, 3215 Platt Springs Rd\, West Columbia\, SC\, 29170\, United States
GEO:33.95689;-81.11415
X-APPLE-STRUCTURED-LOCATION;VALUE=URI;X-ADDRESS=Midstate Beekeepers Association 3215 Platt Springs Rd West Columbia SC 29170 United States;X-APPLE-RADIUS=500;X-TITLE=3215 Platt Springs Rd:geo:-81.11415,33.95689
END:VEVENT
BEGIN:VEVENT
DTSTART;TZID=America/New_York:20220802T183000
DTEND;TZID=America/New_York:20220802T200000
DTSTAMP:20260419T092933
CREATED:20211207T124419Z
LAST-MODIFIED:20250424T031852Z
UID:10003061-1659465000-1659470400@scstatebeekeepers.com
SUMMARY:Midstate Beekeepers Association Monthly Meeting
DESCRIPTION:
URL:https://scstatebeekeepers.com/event/midstate-beekeepers-association-monthly-meeting-2/2022-08-02/
LOCATION:Midstate Beekeepers Association\, 3215 Platt Springs Rd\, West Columbia\, SC\, 29170\, United States
GEO:33.95689;-81.11415
X-APPLE-STRUCTURED-LOCATION;VALUE=URI;X-ADDRESS=Midstate Beekeepers Association 3215 Platt Springs Rd West Columbia SC 29170 United States;X-APPLE-RADIUS=500;X-TITLE=3215 Platt Springs Rd:geo:-81.11415,33.95689
END:VEVENT
BEGIN:VEVENT
DTSTART;TZID=America/New_York:20220705T183000
DTEND;TZID=America/New_York:20220705T200000
DTSTAMP:20260419T092933
CREATED:20211207T124419Z
LAST-MODIFIED:20250424T031852Z
UID:10003060-1657045800-1657051200@scstatebeekeepers.com
SUMMARY:Midstate Beekeepers Association Monthly Meeting
DESCRIPTION:
URL:https://scstatebeekeepers.com/event/midstate-beekeepers-association-monthly-meeting-2/2022-07-05/
LOCATION:Midstate Beekeepers Association\, 3215 Platt Springs Rd\, West Columbia\, SC\, 29170\, United States
GEO:33.95689;-81.11415
X-APPLE-STRUCTURED-LOCATION;VALUE=URI;X-ADDRESS=Midstate Beekeepers Association 3215 Platt Springs Rd West Columbia SC 29170 United States;X-APPLE-RADIUS=500;X-TITLE=3215 Platt Springs Rd:geo:-81.11415,33.95689
END:VEVENT
BEGIN:VEVENT
DTSTART;TZID=America/New_York:20220607T183000
DTEND;TZID=America/New_York:20220607T200000
DTSTAMP:20260419T092933
CREATED:20211207T124419Z
LAST-MODIFIED:20250424T031852Z
UID:10003059-1654626600-1654632000@scstatebeekeepers.com
SUMMARY:Midstate Beekeepers Association Monthly Meeting
DESCRIPTION:
URL:https://scstatebeekeepers.com/event/midstate-beekeepers-association-monthly-meeting-2/2022-06-07/
LOCATION:Midstate Beekeepers Association\, 3215 Platt Springs Rd\, West Columbia\, SC\, 29170\, United States
GEO:33.95689;-81.11415
X-APPLE-STRUCTURED-LOCATION;VALUE=URI;X-ADDRESS=Midstate Beekeepers Association 3215 Platt Springs Rd West Columbia SC 29170 United States;X-APPLE-RADIUS=500;X-TITLE=3215 Platt Springs Rd:geo:-81.11415,33.95689
END:VEVENT
BEGIN:VEVENT
DTSTART;TZID=America/New_York:20220503T183000
DTEND;TZID=America/New_York:20220503T200000
DTSTAMP:20260419T092933
CREATED:20211207T124419Z
LAST-MODIFIED:20250424T031852Z
UID:10003058-1651602600-1651608000@scstatebeekeepers.com
SUMMARY:Midstate Beekeepers Association Monthly Meeting
DESCRIPTION:
URL:https://scstatebeekeepers.com/event/midstate-beekeepers-association-monthly-meeting-2/2022-05-03/
LOCATION:Midstate Beekeepers Association\, 3215 Platt Springs Rd\, West Columbia\, SC\, 29170\, United States
GEO:33.95689;-81.11415
X-APPLE-STRUCTURED-LOCATION;VALUE=URI;X-ADDRESS=Midstate Beekeepers Association 3215 Platt Springs Rd West Columbia SC 29170 United States;X-APPLE-RADIUS=500;X-TITLE=3215 Platt Springs Rd:geo:-81.11415,33.95689
END:VEVENT
BEGIN:VEVENT
DTSTART;TZID=America/New_York:20220405T183000
DTEND;TZID=America/New_York:20220405T200000
DTSTAMP:20260419T092933
CREATED:20211207T124419Z
LAST-MODIFIED:20250424T031852Z
UID:10003057-1649183400-1649188800@scstatebeekeepers.com
SUMMARY:Midstate Beekeepers Association Monthly Meeting
DESCRIPTION:
URL:https://scstatebeekeepers.com/event/midstate-beekeepers-association-monthly-meeting-2/2022-04-05/
LOCATION:Midstate Beekeepers Association\, 3215 Platt Springs Rd\, West Columbia\, SC\, 29170\, United States
GEO:33.95689;-81.11415
X-APPLE-STRUCTURED-LOCATION;VALUE=URI;X-ADDRESS=Midstate Beekeepers Association 3215 Platt Springs Rd West Columbia SC 29170 United States;X-APPLE-RADIUS=500;X-TITLE=3215 Platt Springs Rd:geo:-81.11415,33.95689
END:VEVENT
BEGIN:VEVENT
DTSTART;TZID=America/New_York:20220301T183000
DTEND;TZID=America/New_York:20220301T200000
DTSTAMP:20260419T092933
CREATED:20211207T124419Z
LAST-MODIFIED:20250424T031852Z
UID:10003056-1646159400-1646164800@scstatebeekeepers.com
SUMMARY:Midstate Beekeepers Association Monthly Meeting
DESCRIPTION:
URL:https://scstatebeekeepers.com/event/midstate-beekeepers-association-monthly-meeting-2/2022-03-01/
LOCATION:Midstate Beekeepers Association\, 3215 Platt Springs Rd\, West Columbia\, SC\, 29170\, United States
GEO:33.95689;-81.11415
X-APPLE-STRUCTURED-LOCATION;VALUE=URI;X-ADDRESS=Midstate Beekeepers Association 3215 Platt Springs Rd West Columbia SC 29170 United States;X-APPLE-RADIUS=500;X-TITLE=3215 Platt Springs Rd:geo:-81.11415,33.95689
END:VEVENT
BEGIN:VEVENT
DTSTART;TZID=America/New_York:20220201T183000
DTEND;TZID=America/New_York:20220201T200000
DTSTAMP:20260419T092933
CREATED:20211207T124419Z
LAST-MODIFIED:20250424T031852Z
UID:10003055-1643740200-1643745600@scstatebeekeepers.com
SUMMARY:Midstate Beekeepers Association Monthly Meeting
DESCRIPTION:
URL:https://scstatebeekeepers.com/event/midstate-beekeepers-association-monthly-meeting-2/2022-02-01/
LOCATION:Midstate Beekeepers Association\, 3215 Platt Springs Rd\, West Columbia\, SC\, 29170\, United States
GEO:33.95689;-81.11415
X-APPLE-STRUCTURED-LOCATION;VALUE=URI;X-ADDRESS=Midstate Beekeepers Association 3215 Platt Springs Rd West Columbia SC 29170 United States;X-APPLE-RADIUS=500;X-TITLE=3215 Platt Springs Rd:geo:-81.11415,33.95689
END:VEVENT
BEGIN:VEVENT
DTSTART;TZID=America/New_York:20220104T183000
DTEND;TZID=America/New_York:20220104T200000
DTSTAMP:20260419T092933
CREATED:20211207T124419Z
LAST-MODIFIED:20250424T031852Z
UID:10003054-1641321000-1641326400@scstatebeekeepers.com
SUMMARY:Midstate Beekeepers Association Monthly Meeting
DESCRIPTION:
URL:https://scstatebeekeepers.com/event/midstate-beekeepers-association-monthly-meeting-2/2022-01-04/
LOCATION:Midstate Beekeepers Association\, 3215 Platt Springs Rd\, West Columbia\, SC\, 29170\, United States
GEO:33.95689;-81.11415
X-APPLE-STRUCTURED-LOCATION;VALUE=URI;X-ADDRESS=Midstate Beekeepers Association 3215 Platt Springs Rd West Columbia SC 29170 United States;X-APPLE-RADIUS=500;X-TITLE=3215 Platt Springs Rd:geo:-81.11415,33.95689
END:VEVENT
BEGIN:VEVENT
DTSTART;TZID=America/New_York:20211207T183000
DTEND;TZID=America/New_York:20211207T200000
DTSTAMP:20260419T092933
CREATED:20211207T124419Z
LAST-MODIFIED:20250424T031852Z
UID:10003053-1638901800-1638907200@scstatebeekeepers.com
SUMMARY:Midstate Beekeepers Association Monthly Meeting
DESCRIPTION:
URL:https://scstatebeekeepers.com/event/midstate-beekeepers-association-monthly-meeting-2/2021-12-07/
LOCATION:Midstate Beekeepers Association\, 3215 Platt Springs Rd\, West Columbia\, SC\, 29170\, United States
GEO:33.95689;-81.11415
X-APPLE-STRUCTURED-LOCATION;VALUE=URI;X-ADDRESS=Midstate Beekeepers Association 3215 Platt Springs Rd West Columbia SC 29170 United States;X-APPLE-RADIUS=500;X-TITLE=3215 Platt Springs Rd:geo:-81.11415,33.95689
END:VEVENT
END:VCALENDAR