BEGIN:VCALENDAR
VERSION:2.0
PRODID:-//SC State Beekeepers Association - ECPv6.15.20//NONSGML v1.0//EN
CALSCALE:GREGORIAN
METHOD:PUBLISH
X-WR-CALNAME:SC State Beekeepers Association
X-ORIGINAL-URL:https://scstatebeekeepers.com
X-WR-CALDESC:Events for SC State Beekeepers Association
REFRESH-INTERVAL;VALUE=DURATION:PT1H
X-Robots-Tag:noindex
X-PUBLISHED-TTL:PT1H
BEGIN:VTIMEZONE
TZID:UTC
BEGIN:STANDARD
TZOFFSETFROM:+0000
TZOFFSETTO:+0000
TZNAME:UTC
DTSTART:20250101T000000
END:STANDARD
END:VTIMEZONE
BEGIN:VEVENT
DTSTART;TZID=UTC:20260514T183000
DTEND;TZID=UTC:20260514T203000
DTSTAMP:20260417T194624
CREATED:20180228T223947Z
LAST-MODIFIED:20250424T032336Z
UID:10004668-1778783400-1778790600@scstatebeekeepers.com
SUMMARY:Spartanburg County Beekeepers Association
DESCRIPTION:2nd Thursday of each month except May (annual picnic) and Dec (annual Christmas party)\nCome early at 6:30pm for meet and greet – Meeting starts at 7:00pm
URL:https://scstatebeekeepers.com/event/spartanburg-county-beekeepers-association/2026-05-14/
LOCATION:Spartanburg County Beekeepers Association\, 107 Community College Drive\, Spartanburg\, SC\, 29303\, United States
GEO:34.97662;-81.9933
X-APPLE-STRUCTURED-LOCATION;VALUE=URI;X-ADDRESS=Spartanburg County Beekeepers Association 107 Community College Drive Spartanburg SC 29303 United States;X-APPLE-RADIUS=500;X-TITLE=107 Community College Drive:geo:-81.9933,34.97662
END:VEVENT
BEGIN:VEVENT
DTSTART;TZID=UTC:20260611T183000
DTEND;TZID=UTC:20260611T203000
DTSTAMP:20260417T194624
CREATED:20180228T223947Z
LAST-MODIFIED:20250424T032336Z
UID:10004669-1781202600-1781209800@scstatebeekeepers.com
SUMMARY:Spartanburg County Beekeepers Association
DESCRIPTION:2nd Thursday of each month except May (annual picnic) and Dec (annual Christmas party)\nCome early at 6:30pm for meet and greet – Meeting starts at 7:00pm
URL:https://scstatebeekeepers.com/event/spartanburg-county-beekeepers-association/2026-06-11/
LOCATION:Spartanburg County Beekeepers Association\, 107 Community College Drive\, Spartanburg\, SC\, 29303\, United States
GEO:34.97662;-81.9933
X-APPLE-STRUCTURED-LOCATION;VALUE=URI;X-ADDRESS=Spartanburg County Beekeepers Association 107 Community College Drive Spartanburg SC 29303 United States;X-APPLE-RADIUS=500;X-TITLE=107 Community College Drive:geo:-81.9933,34.97662
END:VEVENT
BEGIN:VEVENT
DTSTART;TZID=UTC:20260709T183000
DTEND;TZID=UTC:20260709T203000
DTSTAMP:20260417T194624
CREATED:20180228T223947Z
LAST-MODIFIED:20250424T032336Z
UID:10004670-1783621800-1783629000@scstatebeekeepers.com
SUMMARY:Spartanburg County Beekeepers Association
DESCRIPTION:2nd Thursday of each month except May (annual picnic) and Dec (annual Christmas party)\nCome early at 6:30pm for meet and greet – Meeting starts at 7:00pm
URL:https://scstatebeekeepers.com/event/spartanburg-county-beekeepers-association/2026-07-09/
LOCATION:Spartanburg County Beekeepers Association\, 107 Community College Drive\, Spartanburg\, SC\, 29303\, United States
GEO:34.97662;-81.9933
X-APPLE-STRUCTURED-LOCATION;VALUE=URI;X-ADDRESS=Spartanburg County Beekeepers Association 107 Community College Drive Spartanburg SC 29303 United States;X-APPLE-RADIUS=500;X-TITLE=107 Community College Drive:geo:-81.9933,34.97662
END:VEVENT
BEGIN:VEVENT
DTSTART;TZID=UTC:20260813T183000
DTEND;TZID=UTC:20260813T203000
DTSTAMP:20260417T194624
CREATED:20180228T223947Z
LAST-MODIFIED:20250424T032336Z
UID:10004671-1786645800-1786653000@scstatebeekeepers.com
SUMMARY:Spartanburg County Beekeepers Association
DESCRIPTION:2nd Thursday of each month except May (annual picnic) and Dec (annual Christmas party)\nCome early at 6:30pm for meet and greet – Meeting starts at 7:00pm
URL:https://scstatebeekeepers.com/event/spartanburg-county-beekeepers-association/2026-08-13/
LOCATION:Spartanburg County Beekeepers Association\, 107 Community College Drive\, Spartanburg\, SC\, 29303\, United States
GEO:34.97662;-81.9933
X-APPLE-STRUCTURED-LOCATION;VALUE=URI;X-ADDRESS=Spartanburg County Beekeepers Association 107 Community College Drive Spartanburg SC 29303 United States;X-APPLE-RADIUS=500;X-TITLE=107 Community College Drive:geo:-81.9933,34.97662
END:VEVENT
BEGIN:VEVENT
DTSTART;TZID=UTC:20260910T183000
DTEND;TZID=UTC:20260910T203000
DTSTAMP:20260417T194624
CREATED:20180228T223947Z
LAST-MODIFIED:20250424T032336Z
UID:10004672-1789065000-1789072200@scstatebeekeepers.com
SUMMARY:Spartanburg County Beekeepers Association
DESCRIPTION:2nd Thursday of each month except May (annual picnic) and Dec (annual Christmas party)\nCome early at 6:30pm for meet and greet – Meeting starts at 7:00pm
URL:https://scstatebeekeepers.com/event/spartanburg-county-beekeepers-association/2026-09-10/
LOCATION:Spartanburg County Beekeepers Association\, 107 Community College Drive\, Spartanburg\, SC\, 29303\, United States
GEO:34.97662;-81.9933
X-APPLE-STRUCTURED-LOCATION;VALUE=URI;X-ADDRESS=Spartanburg County Beekeepers Association 107 Community College Drive Spartanburg SC 29303 United States;X-APPLE-RADIUS=500;X-TITLE=107 Community College Drive:geo:-81.9933,34.97662
END:VEVENT
BEGIN:VEVENT
DTSTART;TZID=UTC:20261008T183000
DTEND;TZID=UTC:20261008T203000
DTSTAMP:20260417T194624
CREATED:20180228T223947Z
LAST-MODIFIED:20250424T032336Z
UID:10004673-1791484200-1791491400@scstatebeekeepers.com
SUMMARY:Spartanburg County Beekeepers Association
DESCRIPTION:2nd Thursday of each month except May (annual picnic) and Dec (annual Christmas party)\nCome early at 6:30pm for meet and greet – Meeting starts at 7:00pm
URL:https://scstatebeekeepers.com/event/spartanburg-county-beekeepers-association/2026-10-08/
LOCATION:Spartanburg County Beekeepers Association\, 107 Community College Drive\, Spartanburg\, SC\, 29303\, United States
GEO:34.97662;-81.9933
X-APPLE-STRUCTURED-LOCATION;VALUE=URI;X-ADDRESS=Spartanburg County Beekeepers Association 107 Community College Drive Spartanburg SC 29303 United States;X-APPLE-RADIUS=500;X-TITLE=107 Community College Drive:geo:-81.9933,34.97662
END:VEVENT
BEGIN:VEVENT
DTSTART;TZID=UTC:20261112T183000
DTEND;TZID=UTC:20261112T203000
DTSTAMP:20260417T194624
CREATED:20180228T223947Z
LAST-MODIFIED:20250424T032336Z
UID:10004674-1794508200-1794515400@scstatebeekeepers.com
SUMMARY:Spartanburg County Beekeepers Association
DESCRIPTION:2nd Thursday of each month except May (annual picnic) and Dec (annual Christmas party)\nCome early at 6:30pm for meet and greet – Meeting starts at 7:00pm
URL:https://scstatebeekeepers.com/event/spartanburg-county-beekeepers-association/2026-11-12/
LOCATION:Spartanburg County Beekeepers Association\, 107 Community College Drive\, Spartanburg\, SC\, 29303\, United States
GEO:34.97662;-81.9933
X-APPLE-STRUCTURED-LOCATION;VALUE=URI;X-ADDRESS=Spartanburg County Beekeepers Association 107 Community College Drive Spartanburg SC 29303 United States;X-APPLE-RADIUS=500;X-TITLE=107 Community College Drive:geo:-81.9933,34.97662
END:VEVENT
BEGIN:VEVENT
DTSTART;TZID=UTC:20261210T183000
DTEND;TZID=UTC:20261210T203000
DTSTAMP:20260417T194624
CREATED:20180228T223947Z
LAST-MODIFIED:20250424T032336Z
UID:10004675-1796927400-1796934600@scstatebeekeepers.com
SUMMARY:Spartanburg County Beekeepers Association
DESCRIPTION:2nd Thursday of each month except May (annual picnic) and Dec (annual Christmas party)\nCome early at 6:30pm for meet and greet – Meeting starts at 7:00pm
URL:https://scstatebeekeepers.com/event/spartanburg-county-beekeepers-association/2026-12-10/
LOCATION:Spartanburg County Beekeepers Association\, 107 Community College Drive\, Spartanburg\, SC\, 29303\, United States
GEO:34.97662;-81.9933
X-APPLE-STRUCTURED-LOCATION;VALUE=URI;X-ADDRESS=Spartanburg County Beekeepers Association 107 Community College Drive Spartanburg SC 29303 United States;X-APPLE-RADIUS=500;X-TITLE=107 Community College Drive:geo:-81.9933,34.97662
END:VEVENT
BEGIN:VEVENT
DTSTART;TZID=UTC:20270114T183000
DTEND;TZID=UTC:20270114T203000
DTSTAMP:20260417T194624
CREATED:20180228T223947Z
LAST-MODIFIED:20250424T032336Z
UID:10004676-1799951400-1799958600@scstatebeekeepers.com
SUMMARY:Spartanburg County Beekeepers Association
DESCRIPTION:2nd Thursday of each month except May (annual picnic) and Dec (annual Christmas party)\nCome early at 6:30pm for meet and greet – Meeting starts at 7:00pm
URL:https://scstatebeekeepers.com/event/spartanburg-county-beekeepers-association/2027-01-14/
LOCATION:Spartanburg County Beekeepers Association\, 107 Community College Drive\, Spartanburg\, SC\, 29303\, United States
GEO:34.97662;-81.9933
X-APPLE-STRUCTURED-LOCATION;VALUE=URI;X-ADDRESS=Spartanburg County Beekeepers Association 107 Community College Drive Spartanburg SC 29303 United States;X-APPLE-RADIUS=500;X-TITLE=107 Community College Drive:geo:-81.9933,34.97662
END:VEVENT
BEGIN:VEVENT
DTSTART;TZID=UTC:20270211T183000
DTEND;TZID=UTC:20270211T203000
DTSTAMP:20260417T194624
CREATED:20180228T223947Z
LAST-MODIFIED:20250424T032336Z
UID:10004677-1802370600-1802377800@scstatebeekeepers.com
SUMMARY:Spartanburg County Beekeepers Association
DESCRIPTION:2nd Thursday of each month except May (annual picnic) and Dec (annual Christmas party)\nCome early at 6:30pm for meet and greet – Meeting starts at 7:00pm
URL:https://scstatebeekeepers.com/event/spartanburg-county-beekeepers-association/2027-02-11/
LOCATION:Spartanburg County Beekeepers Association\, 107 Community College Drive\, Spartanburg\, SC\, 29303\, United States
GEO:34.97662;-81.9933
X-APPLE-STRUCTURED-LOCATION;VALUE=URI;X-ADDRESS=Spartanburg County Beekeepers Association 107 Community College Drive Spartanburg SC 29303 United States;X-APPLE-RADIUS=500;X-TITLE=107 Community College Drive:geo:-81.9933,34.97662
END:VEVENT
BEGIN:VEVENT
DTSTART;TZID=UTC:20270311T183000
DTEND;TZID=UTC:20270311T203000
DTSTAMP:20260417T194624
CREATED:20180228T223947Z
LAST-MODIFIED:20250424T032336Z
UID:10004678-1804789800-1804797000@scstatebeekeepers.com
SUMMARY:Spartanburg County Beekeepers Association
DESCRIPTION:2nd Thursday of each month except May (annual picnic) and Dec (annual Christmas party)\nCome early at 6:30pm for meet and greet – Meeting starts at 7:00pm
URL:https://scstatebeekeepers.com/event/spartanburg-county-beekeepers-association/2027-03-11/
LOCATION:Spartanburg County Beekeepers Association\, 107 Community College Drive\, Spartanburg\, SC\, 29303\, United States
GEO:34.97662;-81.9933
X-APPLE-STRUCTURED-LOCATION;VALUE=URI;X-ADDRESS=Spartanburg County Beekeepers Association 107 Community College Drive Spartanburg SC 29303 United States;X-APPLE-RADIUS=500;X-TITLE=107 Community College Drive:geo:-81.9933,34.97662
END:VEVENT
BEGIN:VEVENT
DTSTART;TZID=UTC:20270408T183000
DTEND;TZID=UTC:20270408T203000
DTSTAMP:20260417T194624
CREATED:20180228T223947Z
LAST-MODIFIED:20250424T032336Z
UID:10004679-1807209000-1807216200@scstatebeekeepers.com
SUMMARY:Spartanburg County Beekeepers Association
DESCRIPTION:2nd Thursday of each month except May (annual picnic) and Dec (annual Christmas party)\nCome early at 6:30pm for meet and greet – Meeting starts at 7:00pm
URL:https://scstatebeekeepers.com/event/spartanburg-county-beekeepers-association/2027-04-08/
LOCATION:Spartanburg County Beekeepers Association\, 107 Community College Drive\, Spartanburg\, SC\, 29303\, United States
GEO:34.97662;-81.9933
X-APPLE-STRUCTURED-LOCATION;VALUE=URI;X-ADDRESS=Spartanburg County Beekeepers Association 107 Community College Drive Spartanburg SC 29303 United States;X-APPLE-RADIUS=500;X-TITLE=107 Community College Drive:geo:-81.9933,34.97662
END:VEVENT
BEGIN:VEVENT
DTSTART;TZID=UTC:20270513T183000
DTEND;TZID=UTC:20270513T203000
DTSTAMP:20260417T194624
CREATED:20180228T223947Z
LAST-MODIFIED:20250424T032336Z
UID:10004680-1810233000-1810240200@scstatebeekeepers.com
SUMMARY:Spartanburg County Beekeepers Association
DESCRIPTION:2nd Thursday of each month except May (annual picnic) and Dec (annual Christmas party)\nCome early at 6:30pm for meet and greet – Meeting starts at 7:00pm
URL:https://scstatebeekeepers.com/event/spartanburg-county-beekeepers-association/2027-05-13/
LOCATION:Spartanburg County Beekeepers Association\, 107 Community College Drive\, Spartanburg\, SC\, 29303\, United States
GEO:34.97662;-81.9933
X-APPLE-STRUCTURED-LOCATION;VALUE=URI;X-ADDRESS=Spartanburg County Beekeepers Association 107 Community College Drive Spartanburg SC 29303 United States;X-APPLE-RADIUS=500;X-TITLE=107 Community College Drive:geo:-81.9933,34.97662
END:VEVENT
BEGIN:VEVENT
DTSTART;TZID=UTC:20270610T183000
DTEND;TZID=UTC:20270610T203000
DTSTAMP:20260417T194624
CREATED:20180228T223947Z
LAST-MODIFIED:20250424T032336Z
UID:10004681-1812652200-1812659400@scstatebeekeepers.com
SUMMARY:Spartanburg County Beekeepers Association
DESCRIPTION:2nd Thursday of each month except May (annual picnic) and Dec (annual Christmas party)\nCome early at 6:30pm for meet and greet – Meeting starts at 7:00pm
URL:https://scstatebeekeepers.com/event/spartanburg-county-beekeepers-association/2027-06-10/
LOCATION:Spartanburg County Beekeepers Association\, 107 Community College Drive\, Spartanburg\, SC\, 29303\, United States
GEO:34.97662;-81.9933
X-APPLE-STRUCTURED-LOCATION;VALUE=URI;X-ADDRESS=Spartanburg County Beekeepers Association 107 Community College Drive Spartanburg SC 29303 United States;X-APPLE-RADIUS=500;X-TITLE=107 Community College Drive:geo:-81.9933,34.97662
END:VEVENT
BEGIN:VEVENT
DTSTART;TZID=UTC:20270708T183000
DTEND;TZID=UTC:20270708T203000
DTSTAMP:20260417T194624
CREATED:20180228T223947Z
LAST-MODIFIED:20250424T032336Z
UID:10004682-1815071400-1815078600@scstatebeekeepers.com
SUMMARY:Spartanburg County Beekeepers Association
DESCRIPTION:2nd Thursday of each month except May (annual picnic) and Dec (annual Christmas party)\nCome early at 6:30pm for meet and greet – Meeting starts at 7:00pm
URL:https://scstatebeekeepers.com/event/spartanburg-county-beekeepers-association/2027-07-08/
LOCATION:Spartanburg County Beekeepers Association\, 107 Community College Drive\, Spartanburg\, SC\, 29303\, United States
GEO:34.97662;-81.9933
X-APPLE-STRUCTURED-LOCATION;VALUE=URI;X-ADDRESS=Spartanburg County Beekeepers Association 107 Community College Drive Spartanburg SC 29303 United States;X-APPLE-RADIUS=500;X-TITLE=107 Community College Drive:geo:-81.9933,34.97662
END:VEVENT
BEGIN:VEVENT
DTSTART;TZID=UTC:20270812T183000
DTEND;TZID=UTC:20270812T203000
DTSTAMP:20260417T194624
CREATED:20180228T223947Z
LAST-MODIFIED:20250424T032336Z
UID:10004683-1818095400-1818102600@scstatebeekeepers.com
SUMMARY:Spartanburg County Beekeepers Association
DESCRIPTION:2nd Thursday of each month except May (annual picnic) and Dec (annual Christmas party)\nCome early at 6:30pm for meet and greet – Meeting starts at 7:00pm
URL:https://scstatebeekeepers.com/event/spartanburg-county-beekeepers-association/2027-08-12/
LOCATION:Spartanburg County Beekeepers Association\, 107 Community College Drive\, Spartanburg\, SC\, 29303\, United States
GEO:34.97662;-81.9933
X-APPLE-STRUCTURED-LOCATION;VALUE=URI;X-ADDRESS=Spartanburg County Beekeepers Association 107 Community College Drive Spartanburg SC 29303 United States;X-APPLE-RADIUS=500;X-TITLE=107 Community College Drive:geo:-81.9933,34.97662
END:VEVENT
BEGIN:VEVENT
DTSTART;TZID=UTC:20270909T183000
DTEND;TZID=UTC:20270909T203000
DTSTAMP:20260417T194624
CREATED:20180228T223947Z
LAST-MODIFIED:20250424T032336Z
UID:10004684-1820514600-1820521800@scstatebeekeepers.com
SUMMARY:Spartanburg County Beekeepers Association
DESCRIPTION:2nd Thursday of each month except May (annual picnic) and Dec (annual Christmas party)\nCome early at 6:30pm for meet and greet – Meeting starts at 7:00pm
URL:https://scstatebeekeepers.com/event/spartanburg-county-beekeepers-association/2027-09-09/
LOCATION:Spartanburg County Beekeepers Association\, 107 Community College Drive\, Spartanburg\, SC\, 29303\, United States
GEO:34.97662;-81.9933
X-APPLE-STRUCTURED-LOCATION;VALUE=URI;X-ADDRESS=Spartanburg County Beekeepers Association 107 Community College Drive Spartanburg SC 29303 United States;X-APPLE-RADIUS=500;X-TITLE=107 Community College Drive:geo:-81.9933,34.97662
END:VEVENT
BEGIN:VEVENT
DTSTART;TZID=UTC:20271014T183000
DTEND;TZID=UTC:20271014T203000
DTSTAMP:20260417T194624
CREATED:20180228T223947Z
LAST-MODIFIED:20250424T032336Z
UID:10004685-1823538600-1823545800@scstatebeekeepers.com
SUMMARY:Spartanburg County Beekeepers Association
DESCRIPTION:2nd Thursday of each month except May (annual picnic) and Dec (annual Christmas party)\nCome early at 6:30pm for meet and greet – Meeting starts at 7:00pm
URL:https://scstatebeekeepers.com/event/spartanburg-county-beekeepers-association/2027-10-14/
LOCATION:Spartanburg County Beekeepers Association\, 107 Community College Drive\, Spartanburg\, SC\, 29303\, United States
GEO:34.97662;-81.9933
X-APPLE-STRUCTURED-LOCATION;VALUE=URI;X-ADDRESS=Spartanburg County Beekeepers Association 107 Community College Drive Spartanburg SC 29303 United States;X-APPLE-RADIUS=500;X-TITLE=107 Community College Drive:geo:-81.9933,34.97662
END:VEVENT
BEGIN:VEVENT
DTSTART;TZID=UTC:20271111T183000
DTEND;TZID=UTC:20271111T203000
DTSTAMP:20260417T194624
CREATED:20180228T223947Z
LAST-MODIFIED:20250424T032336Z
UID:10004686-1825957800-1825965000@scstatebeekeepers.com
SUMMARY:Spartanburg County Beekeepers Association
DESCRIPTION:2nd Thursday of each month except May (annual picnic) and Dec (annual Christmas party)\nCome early at 6:30pm for meet and greet – Meeting starts at 7:00pm
URL:https://scstatebeekeepers.com/event/spartanburg-county-beekeepers-association/2027-11-11/
LOCATION:Spartanburg County Beekeepers Association\, 107 Community College Drive\, Spartanburg\, SC\, 29303\, United States
GEO:34.97662;-81.9933
X-APPLE-STRUCTURED-LOCATION;VALUE=URI;X-ADDRESS=Spartanburg County Beekeepers Association 107 Community College Drive Spartanburg SC 29303 United States;X-APPLE-RADIUS=500;X-TITLE=107 Community College Drive:geo:-81.9933,34.97662
END:VEVENT
BEGIN:VEVENT
DTSTART;TZID=UTC:20271209T183000
DTEND;TZID=UTC:20271209T203000
DTSTAMP:20260417T194624
CREATED:20180228T223947Z
LAST-MODIFIED:20250424T032336Z
UID:10004687-1828377000-1828384200@scstatebeekeepers.com
SUMMARY:Spartanburg County Beekeepers Association
DESCRIPTION:2nd Thursday of each month except May (annual picnic) and Dec (annual Christmas party)\nCome early at 6:30pm for meet and greet – Meeting starts at 7:00pm
URL:https://scstatebeekeepers.com/event/spartanburg-county-beekeepers-association/2027-12-09/
LOCATION:Spartanburg County Beekeepers Association\, 107 Community College Drive\, Spartanburg\, SC\, 29303\, United States
GEO:34.97662;-81.9933
X-APPLE-STRUCTURED-LOCATION;VALUE=URI;X-ADDRESS=Spartanburg County Beekeepers Association 107 Community College Drive Spartanburg SC 29303 United States;X-APPLE-RADIUS=500;X-TITLE=107 Community College Drive:geo:-81.9933,34.97662
END:VEVENT
BEGIN:VEVENT
DTSTART;TZID=UTC:20280113T183000
DTEND;TZID=UTC:20280113T203000
DTSTAMP:20260417T194624
CREATED:20180228T223947Z
LAST-MODIFIED:20250424T032336Z
UID:10004688-1831401000-1831408200@scstatebeekeepers.com
SUMMARY:Spartanburg County Beekeepers Association
DESCRIPTION:2nd Thursday of each month except May (annual picnic) and Dec (annual Christmas party)\nCome early at 6:30pm for meet and greet – Meeting starts at 7:00pm
URL:https://scstatebeekeepers.com/event/spartanburg-county-beekeepers-association/2028-01-13/
LOCATION:Spartanburg County Beekeepers Association\, 107 Community College Drive\, Spartanburg\, SC\, 29303\, United States
GEO:34.97662;-81.9933
X-APPLE-STRUCTURED-LOCATION;VALUE=URI;X-ADDRESS=Spartanburg County Beekeepers Association 107 Community College Drive Spartanburg SC 29303 United States;X-APPLE-RADIUS=500;X-TITLE=107 Community College Drive:geo:-81.9933,34.97662
END:VEVENT
BEGIN:VEVENT
DTSTART;TZID=UTC:20280210T183000
DTEND;TZID=UTC:20280210T203000
DTSTAMP:20260417T194624
CREATED:20180228T223947Z
LAST-MODIFIED:20250424T032336Z
UID:10004689-1833820200-1833827400@scstatebeekeepers.com
SUMMARY:Spartanburg County Beekeepers Association
DESCRIPTION:2nd Thursday of each month except May (annual picnic) and Dec (annual Christmas party)\nCome early at 6:30pm for meet and greet – Meeting starts at 7:00pm
URL:https://scstatebeekeepers.com/event/spartanburg-county-beekeepers-association/2028-02-10/
LOCATION:Spartanburg County Beekeepers Association\, 107 Community College Drive\, Spartanburg\, SC\, 29303\, United States
GEO:34.97662;-81.9933
X-APPLE-STRUCTURED-LOCATION;VALUE=URI;X-ADDRESS=Spartanburg County Beekeepers Association 107 Community College Drive Spartanburg SC 29303 United States;X-APPLE-RADIUS=500;X-TITLE=107 Community College Drive:geo:-81.9933,34.97662
END:VEVENT
BEGIN:VEVENT
DTSTART;TZID=UTC:20280309T183000
DTEND;TZID=UTC:20280309T203000
DTSTAMP:20260417T194624
CREATED:20180228T223947Z
LAST-MODIFIED:20250424T032336Z
UID:10004690-1836239400-1836246600@scstatebeekeepers.com
SUMMARY:Spartanburg County Beekeepers Association
DESCRIPTION:2nd Thursday of each month except May (annual picnic) and Dec (annual Christmas party)\nCome early at 6:30pm for meet and greet – Meeting starts at 7:00pm
URL:https://scstatebeekeepers.com/event/spartanburg-county-beekeepers-association/2028-03-09/
LOCATION:Spartanburg County Beekeepers Association\, 107 Community College Drive\, Spartanburg\, SC\, 29303\, United States
GEO:34.97662;-81.9933
X-APPLE-STRUCTURED-LOCATION;VALUE=URI;X-ADDRESS=Spartanburg County Beekeepers Association 107 Community College Drive Spartanburg SC 29303 United States;X-APPLE-RADIUS=500;X-TITLE=107 Community College Drive:geo:-81.9933,34.97662
END:VEVENT
BEGIN:VEVENT
DTSTART;TZID=UTC:20280413T183000
DTEND;TZID=UTC:20280413T203000
DTSTAMP:20260417T194624
CREATED:20180228T223947Z
LAST-MODIFIED:20250424T032336Z
UID:10004691-1839263400-1839270600@scstatebeekeepers.com
SUMMARY:Spartanburg County Beekeepers Association
DESCRIPTION:2nd Thursday of each month except May (annual picnic) and Dec (annual Christmas party)\nCome early at 6:30pm for meet and greet – Meeting starts at 7:00pm
URL:https://scstatebeekeepers.com/event/spartanburg-county-beekeepers-association/2028-04-13/
LOCATION:Spartanburg County Beekeepers Association\, 107 Community College Drive\, Spartanburg\, SC\, 29303\, United States
GEO:34.97662;-81.9933
X-APPLE-STRUCTURED-LOCATION;VALUE=URI;X-ADDRESS=Spartanburg County Beekeepers Association 107 Community College Drive Spartanburg SC 29303 United States;X-APPLE-RADIUS=500;X-TITLE=107 Community College Drive:geo:-81.9933,34.97662
END:VEVENT
BEGIN:VEVENT
DTSTART;TZID=UTC:20280511T183000
DTEND;TZID=UTC:20280511T203000
DTSTAMP:20260417T194624
CREATED:20180228T223947Z
LAST-MODIFIED:20250424T032336Z
UID:10004692-1841682600-1841689800@scstatebeekeepers.com
SUMMARY:Spartanburg County Beekeepers Association
DESCRIPTION:2nd Thursday of each month except May (annual picnic) and Dec (annual Christmas party)\nCome early at 6:30pm for meet and greet – Meeting starts at 7:00pm
URL:https://scstatebeekeepers.com/event/spartanburg-county-beekeepers-association/2028-05-11/
LOCATION:Spartanburg County Beekeepers Association\, 107 Community College Drive\, Spartanburg\, SC\, 29303\, United States
GEO:34.97662;-81.9933
X-APPLE-STRUCTURED-LOCATION;VALUE=URI;X-ADDRESS=Spartanburg County Beekeepers Association 107 Community College Drive Spartanburg SC 29303 United States;X-APPLE-RADIUS=500;X-TITLE=107 Community College Drive:geo:-81.9933,34.97662
END:VEVENT
BEGIN:VEVENT
DTSTART;TZID=UTC:20280608T183000
DTEND;TZID=UTC:20280608T203000
DTSTAMP:20260417T194624
CREATED:20180228T223947Z
LAST-MODIFIED:20250424T032336Z
UID:10004693-1844101800-1844109000@scstatebeekeepers.com
SUMMARY:Spartanburg County Beekeepers Association
DESCRIPTION:2nd Thursday of each month except May (annual picnic) and Dec (annual Christmas party)\nCome early at 6:30pm for meet and greet – Meeting starts at 7:00pm
URL:https://scstatebeekeepers.com/event/spartanburg-county-beekeepers-association/2028-06-08/
LOCATION:Spartanburg County Beekeepers Association\, 107 Community College Drive\, Spartanburg\, SC\, 29303\, United States
GEO:34.97662;-81.9933
X-APPLE-STRUCTURED-LOCATION;VALUE=URI;X-ADDRESS=Spartanburg County Beekeepers Association 107 Community College Drive Spartanburg SC 29303 United States;X-APPLE-RADIUS=500;X-TITLE=107 Community College Drive:geo:-81.9933,34.97662
END:VEVENT
BEGIN:VEVENT
DTSTART;TZID=UTC:20280713T183000
DTEND;TZID=UTC:20280713T203000
DTSTAMP:20260417T194624
CREATED:20180228T223947Z
LAST-MODIFIED:20250424T032336Z
UID:10004694-1847125800-1847133000@scstatebeekeepers.com
SUMMARY:Spartanburg County Beekeepers Association
DESCRIPTION:2nd Thursday of each month except May (annual picnic) and Dec (annual Christmas party)\nCome early at 6:30pm for meet and greet – Meeting starts at 7:00pm
URL:https://scstatebeekeepers.com/event/spartanburg-county-beekeepers-association/2028-07-13/
LOCATION:Spartanburg County Beekeepers Association\, 107 Community College Drive\, Spartanburg\, SC\, 29303\, United States
GEO:34.97662;-81.9933
X-APPLE-STRUCTURED-LOCATION;VALUE=URI;X-ADDRESS=Spartanburg County Beekeepers Association 107 Community College Drive Spartanburg SC 29303 United States;X-APPLE-RADIUS=500;X-TITLE=107 Community College Drive:geo:-81.9933,34.97662
END:VEVENT
BEGIN:VEVENT
DTSTART;TZID=UTC:20280810T183000
DTEND;TZID=UTC:20280810T203000
DTSTAMP:20260417T194624
CREATED:20180228T223947Z
LAST-MODIFIED:20250424T032336Z
UID:10004695-1849545000-1849552200@scstatebeekeepers.com
SUMMARY:Spartanburg County Beekeepers Association
DESCRIPTION:2nd Thursday of each month except May (annual picnic) and Dec (annual Christmas party)\nCome early at 6:30pm for meet and greet – Meeting starts at 7:00pm
URL:https://scstatebeekeepers.com/event/spartanburg-county-beekeepers-association/2028-08-10/
LOCATION:Spartanburg County Beekeepers Association\, 107 Community College Drive\, Spartanburg\, SC\, 29303\, United States
GEO:34.97662;-81.9933
X-APPLE-STRUCTURED-LOCATION;VALUE=URI;X-ADDRESS=Spartanburg County Beekeepers Association 107 Community College Drive Spartanburg SC 29303 United States;X-APPLE-RADIUS=500;X-TITLE=107 Community College Drive:geo:-81.9933,34.97662
END:VEVENT
BEGIN:VEVENT
DTSTART;TZID=UTC:20280914T183000
DTEND;TZID=UTC:20280914T203000
DTSTAMP:20260417T194624
CREATED:20180228T223947Z
LAST-MODIFIED:20250424T032336Z
UID:10004696-1852569000-1852576200@scstatebeekeepers.com
SUMMARY:Spartanburg County Beekeepers Association
DESCRIPTION:2nd Thursday of each month except May (annual picnic) and Dec (annual Christmas party)\nCome early at 6:30pm for meet and greet – Meeting starts at 7:00pm
URL:https://scstatebeekeepers.com/event/spartanburg-county-beekeepers-association/2028-09-14/
LOCATION:Spartanburg County Beekeepers Association\, 107 Community College Drive\, Spartanburg\, SC\, 29303\, United States
GEO:34.97662;-81.9933
X-APPLE-STRUCTURED-LOCATION;VALUE=URI;X-ADDRESS=Spartanburg County Beekeepers Association 107 Community College Drive Spartanburg SC 29303 United States;X-APPLE-RADIUS=500;X-TITLE=107 Community College Drive:geo:-81.9933,34.97662
END:VEVENT
BEGIN:VEVENT
DTSTART;TZID=UTC:20281012T183000
DTEND;TZID=UTC:20281012T203000
DTSTAMP:20260417T194624
CREATED:20180228T223947Z
LAST-MODIFIED:20250424T032336Z
UID:10004697-1854988200-1854995400@scstatebeekeepers.com
SUMMARY:Spartanburg County Beekeepers Association
DESCRIPTION:2nd Thursday of each month except May (annual picnic) and Dec (annual Christmas party)\nCome early at 6:30pm for meet and greet – Meeting starts at 7:00pm
URL:https://scstatebeekeepers.com/event/spartanburg-county-beekeepers-association/2028-10-12/
LOCATION:Spartanburg County Beekeepers Association\, 107 Community College Drive\, Spartanburg\, SC\, 29303\, United States
GEO:34.97662;-81.9933
X-APPLE-STRUCTURED-LOCATION;VALUE=URI;X-ADDRESS=Spartanburg County Beekeepers Association 107 Community College Drive Spartanburg SC 29303 United States;X-APPLE-RADIUS=500;X-TITLE=107 Community College Drive:geo:-81.9933,34.97662
END:VEVENT
END:VCALENDAR