BEGIN:VCALENDAR
VERSION:2.0
PRODID:-//SC State Beekeepers Association - ECPv6.15.20//NONSGML v1.0//EN
CALSCALE:GREGORIAN
METHOD:PUBLISH
X-ORIGINAL-URL:https://scstatebeekeepers.com
X-WR-CALDESC:Events for SC State Beekeepers Association
REFRESH-INTERVAL;VALUE=DURATION:PT1H
X-Robots-Tag:noindex
X-PUBLISHED-TTL:PT1H
BEGIN:VTIMEZONE
TZID:UTC
BEGIN:STANDARD
TZOFFSETFROM:+0000
TZOFFSETTO:+0000
TZNAME:UTC
DTSTART:20190101T000000
END:STANDARD
END:VTIMEZONE
BEGIN:VEVENT
DTSTART;TZID=UTC:20230209T183000
DTEND;TZID=UTC:20230209T203000
DTSTAMP:20260420T042240
CREATED:20180228T223947Z
LAST-MODIFIED:20250424T032336Z
UID:10002364-1675967400-1675974600@scstatebeekeepers.com
SUMMARY:Spartanburg County Beekeepers Association
DESCRIPTION:2nd Thursday of each month except May (annual picnic) and Dec (annual Christmas party)\nCome early at 6:30pm for meet and greet – Meeting starts at 7:00pm
URL:https://scstatebeekeepers.com/event/spartanburg-county-beekeepers-association/2023-02-09/
LOCATION:Spartanburg County Beekeepers Association\, 107 Community College Drive\, Spartanburg\, SC\, 29303\, United States
GEO:34.97662;-81.9933
X-APPLE-STRUCTURED-LOCATION;VALUE=URI;X-ADDRESS=Spartanburg County Beekeepers Association 107 Community College Drive Spartanburg SC 29303 United States;X-APPLE-RADIUS=500;X-TITLE=107 Community College Drive:geo:-81.9933,34.97662
END:VEVENT
BEGIN:VEVENT
DTSTART;TZID=UTC:20230112T183000
DTEND;TZID=UTC:20230112T203000
DTSTAMP:20260420T042240
CREATED:20180228T223947Z
LAST-MODIFIED:20250424T032336Z
UID:10002363-1673548200-1673555400@scstatebeekeepers.com
SUMMARY:Spartanburg County Beekeepers Association
DESCRIPTION:2nd Thursday of each month except May (annual picnic) and Dec (annual Christmas party)\nCome early at 6:30pm for meet and greet – Meeting starts at 7:00pm
URL:https://scstatebeekeepers.com/event/spartanburg-county-beekeepers-association/2023-01-12/
LOCATION:Spartanburg County Beekeepers Association\, 107 Community College Drive\, Spartanburg\, SC\, 29303\, United States
GEO:34.97662;-81.9933
X-APPLE-STRUCTURED-LOCATION;VALUE=URI;X-ADDRESS=Spartanburg County Beekeepers Association 107 Community College Drive Spartanburg SC 29303 United States;X-APPLE-RADIUS=500;X-TITLE=107 Community College Drive:geo:-81.9933,34.97662
END:VEVENT
BEGIN:VEVENT
DTSTART;TZID=UTC:20221208T183000
DTEND;TZID=UTC:20221208T203000
DTSTAMP:20260420T042240
CREATED:20180228T223947Z
LAST-MODIFIED:20250424T032336Z
UID:10003617-1670524200-1670531400@scstatebeekeepers.com
SUMMARY:Spartanburg County Beekeepers Association
DESCRIPTION:2nd Thursday of each month except May (annual picnic) and Dec (annual Christmas party)\nCome early at 6:30pm for meet and greet – Meeting starts at 7:00pm
URL:https://scstatebeekeepers.com/event/spartanburg-county-beekeepers-association/2022-12-08/
LOCATION:Spartanburg County Beekeepers Association\, 107 Community College Drive\, Spartanburg\, SC\, 29303\, United States
GEO:34.97662;-81.9933
X-APPLE-STRUCTURED-LOCATION;VALUE=URI;X-ADDRESS=Spartanburg County Beekeepers Association 107 Community College Drive Spartanburg SC 29303 United States;X-APPLE-RADIUS=500;X-TITLE=107 Community College Drive:geo:-81.9933,34.97662
END:VEVENT
BEGIN:VEVENT
DTSTART;TZID=UTC:20221110T183000
DTEND;TZID=UTC:20221110T203000
DTSTAMP:20260420T042240
CREATED:20180228T223947Z
LAST-MODIFIED:20250424T032336Z
UID:10002362-1668105000-1668112200@scstatebeekeepers.com
SUMMARY:Spartanburg County Beekeepers Association
DESCRIPTION:2nd Thursday of each month except May (annual picnic) and Dec (annual Christmas party)\nCome early at 6:30pm for meet and greet – Meeting starts at 7:00pm
URL:https://scstatebeekeepers.com/event/spartanburg-county-beekeepers-association/2022-11-10/
LOCATION:Spartanburg County Beekeepers Association\, 107 Community College Drive\, Spartanburg\, SC\, 29303\, United States
GEO:34.97662;-81.9933
X-APPLE-STRUCTURED-LOCATION;VALUE=URI;X-ADDRESS=Spartanburg County Beekeepers Association 107 Community College Drive Spartanburg SC 29303 United States;X-APPLE-RADIUS=500;X-TITLE=107 Community College Drive:geo:-81.9933,34.97662
END:VEVENT
BEGIN:VEVENT
DTSTART;TZID=UTC:20221013T183000
DTEND;TZID=UTC:20221013T203000
DTSTAMP:20260420T042240
CREATED:20180228T223947Z
LAST-MODIFIED:20250424T032336Z
UID:10002361-1665685800-1665693000@scstatebeekeepers.com
SUMMARY:Spartanburg County Beekeepers Association
DESCRIPTION:2nd Thursday of each month except May (annual picnic) and Dec (annual Christmas party)\nCome early at 6:30pm for meet and greet – Meeting starts at 7:00pm
URL:https://scstatebeekeepers.com/event/spartanburg-county-beekeepers-association/2022-10-13/
LOCATION:Spartanburg County Beekeepers Association\, 107 Community College Drive\, Spartanburg\, SC\, 29303\, United States
GEO:34.97662;-81.9933
X-APPLE-STRUCTURED-LOCATION;VALUE=URI;X-ADDRESS=Spartanburg County Beekeepers Association 107 Community College Drive Spartanburg SC 29303 United States;X-APPLE-RADIUS=500;X-TITLE=107 Community College Drive:geo:-81.9933,34.97662
END:VEVENT
BEGIN:VEVENT
DTSTART;TZID=UTC:20220908T183000
DTEND;TZID=UTC:20220908T203000
DTSTAMP:20260420T042240
CREATED:20180228T223947Z
LAST-MODIFIED:20250424T032336Z
UID:10002360-1662661800-1662669000@scstatebeekeepers.com
SUMMARY:Spartanburg County Beekeepers Association
DESCRIPTION:2nd Thursday of each month except May (annual picnic) and Dec (annual Christmas party)\nCome early at 6:30pm for meet and greet – Meeting starts at 7:00pm
URL:https://scstatebeekeepers.com/event/spartanburg-county-beekeepers-association/2022-09-08/
LOCATION:Spartanburg County Beekeepers Association\, 107 Community College Drive\, Spartanburg\, SC\, 29303\, United States
GEO:34.97662;-81.9933
X-APPLE-STRUCTURED-LOCATION;VALUE=URI;X-ADDRESS=Spartanburg County Beekeepers Association 107 Community College Drive Spartanburg SC 29303 United States;X-APPLE-RADIUS=500;X-TITLE=107 Community College Drive:geo:-81.9933,34.97662
END:VEVENT
BEGIN:VEVENT
DTSTART;TZID=UTC:20220811T183000
DTEND;TZID=UTC:20220811T203000
DTSTAMP:20260420T042240
CREATED:20180228T223947Z
LAST-MODIFIED:20250424T032336Z
UID:10002359-1660242600-1660249800@scstatebeekeepers.com
SUMMARY:Spartanburg County Beekeepers Association
DESCRIPTION:2nd Thursday of each month except May (annual picnic) and Dec (annual Christmas party)\nCome early at 6:30pm for meet and greet – Meeting starts at 7:00pm
URL:https://scstatebeekeepers.com/event/spartanburg-county-beekeepers-association/2022-08-11/
LOCATION:Spartanburg County Beekeepers Association\, 107 Community College Drive\, Spartanburg\, SC\, 29303\, United States
GEO:34.97662;-81.9933
X-APPLE-STRUCTURED-LOCATION;VALUE=URI;X-ADDRESS=Spartanburg County Beekeepers Association 107 Community College Drive Spartanburg SC 29303 United States;X-APPLE-RADIUS=500;X-TITLE=107 Community College Drive:geo:-81.9933,34.97662
END:VEVENT
BEGIN:VEVENT
DTSTART;TZID=UTC:20220714T183000
DTEND;TZID=UTC:20220714T203000
DTSTAMP:20260420T042240
CREATED:20180228T223947Z
LAST-MODIFIED:20250424T032336Z
UID:10002358-1657823400-1657830600@scstatebeekeepers.com
SUMMARY:Spartanburg County Beekeepers Association
DESCRIPTION:2nd Thursday of each month except May (annual picnic) and Dec (annual Christmas party)\nCome early at 6:30pm for meet and greet – Meeting starts at 7:00pm
URL:https://scstatebeekeepers.com/event/spartanburg-county-beekeepers-association/2022-07-14/
LOCATION:Spartanburg County Beekeepers Association\, 107 Community College Drive\, Spartanburg\, SC\, 29303\, United States
GEO:34.97662;-81.9933
X-APPLE-STRUCTURED-LOCATION;VALUE=URI;X-ADDRESS=Spartanburg County Beekeepers Association 107 Community College Drive Spartanburg SC 29303 United States;X-APPLE-RADIUS=500;X-TITLE=107 Community College Drive:geo:-81.9933,34.97662
END:VEVENT
BEGIN:VEVENT
DTSTART;TZID=UTC:20220609T183000
DTEND;TZID=UTC:20220609T203000
DTSTAMP:20260420T042240
CREATED:20180228T223947Z
LAST-MODIFIED:20250424T032336Z
UID:10002357-1654799400-1654806600@scstatebeekeepers.com
SUMMARY:Spartanburg County Beekeepers Association
DESCRIPTION:2nd Thursday of each month except May (annual picnic) and Dec (annual Christmas party)\nCome early at 6:30pm for meet and greet – Meeting starts at 7:00pm
URL:https://scstatebeekeepers.com/event/spartanburg-county-beekeepers-association/2022-06-09/
LOCATION:Spartanburg County Beekeepers Association\, 107 Community College Drive\, Spartanburg\, SC\, 29303\, United States
GEO:34.97662;-81.9933
X-APPLE-STRUCTURED-LOCATION;VALUE=URI;X-ADDRESS=Spartanburg County Beekeepers Association 107 Community College Drive Spartanburg SC 29303 United States;X-APPLE-RADIUS=500;X-TITLE=107 Community College Drive:geo:-81.9933,34.97662
END:VEVENT
BEGIN:VEVENT
DTSTART;TZID=UTC:20220512T183000
DTEND;TZID=UTC:20220512T203000
DTSTAMP:20260420T042240
CREATED:20180228T223947Z
LAST-MODIFIED:20250424T032336Z
UID:10002356-1652380200-1652387400@scstatebeekeepers.com
SUMMARY:Spartanburg County Beekeepers Association
DESCRIPTION:2nd Thursday of each month except May (annual picnic) and Dec (annual Christmas party)\nCome early at 6:30pm for meet and greet – Meeting starts at 7:00pm
URL:https://scstatebeekeepers.com/event/spartanburg-county-beekeepers-association/2022-05-12/
LOCATION:Spartanburg County Beekeepers Association\, 107 Community College Drive\, Spartanburg\, SC\, 29303\, United States
GEO:34.97662;-81.9933
X-APPLE-STRUCTURED-LOCATION;VALUE=URI;X-ADDRESS=Spartanburg County Beekeepers Association 107 Community College Drive Spartanburg SC 29303 United States;X-APPLE-RADIUS=500;X-TITLE=107 Community College Drive:geo:-81.9933,34.97662
END:VEVENT
BEGIN:VEVENT
DTSTART;TZID=UTC:20220414T183000
DTEND;TZID=UTC:20220414T203000
DTSTAMP:20260420T042240
CREATED:20180228T223947Z
LAST-MODIFIED:20250424T032336Z
UID:10002355-1649961000-1649968200@scstatebeekeepers.com
SUMMARY:Spartanburg County Beekeepers Association
DESCRIPTION:2nd Thursday of each month except May (annual picnic) and Dec (annual Christmas party)\nCome early at 6:30pm for meet and greet – Meeting starts at 7:00pm
URL:https://scstatebeekeepers.com/event/spartanburg-county-beekeepers-association/2022-04-14/
LOCATION:Spartanburg County Beekeepers Association\, 107 Community College Drive\, Spartanburg\, SC\, 29303\, United States
GEO:34.97662;-81.9933
X-APPLE-STRUCTURED-LOCATION;VALUE=URI;X-ADDRESS=Spartanburg County Beekeepers Association 107 Community College Drive Spartanburg SC 29303 United States;X-APPLE-RADIUS=500;X-TITLE=107 Community College Drive:geo:-81.9933,34.97662
END:VEVENT
BEGIN:VEVENT
DTSTART;TZID=UTC:20220310T183000
DTEND;TZID=UTC:20220310T203000
DTSTAMP:20260420T042240
CREATED:20180228T223947Z
LAST-MODIFIED:20250424T032336Z
UID:10002354-1646937000-1646944200@scstatebeekeepers.com
SUMMARY:Spartanburg County Beekeepers Association
DESCRIPTION:2nd Thursday of each month except May (annual picnic) and Dec (annual Christmas party)\nCome early at 6:30pm for meet and greet – Meeting starts at 7:00pm
URL:https://scstatebeekeepers.com/event/spartanburg-county-beekeepers-association/2022-03-10/
LOCATION:Spartanburg County Beekeepers Association\, 107 Community College Drive\, Spartanburg\, SC\, 29303\, United States
GEO:34.97662;-81.9933
X-APPLE-STRUCTURED-LOCATION;VALUE=URI;X-ADDRESS=Spartanburg County Beekeepers Association 107 Community College Drive Spartanburg SC 29303 United States;X-APPLE-RADIUS=500;X-TITLE=107 Community College Drive:geo:-81.9933,34.97662
END:VEVENT
BEGIN:VEVENT
DTSTART;TZID=UTC:20220210T183000
DTEND;TZID=UTC:20220210T203000
DTSTAMP:20260420T042240
CREATED:20180228T223947Z
LAST-MODIFIED:20250424T032336Z
UID:10002353-1644517800-1644525000@scstatebeekeepers.com
SUMMARY:Spartanburg County Beekeepers Association
DESCRIPTION:2nd Thursday of each month except May (annual picnic) and Dec (annual Christmas party)\nCome early at 6:30pm for meet and greet – Meeting starts at 7:00pm
URL:https://scstatebeekeepers.com/event/spartanburg-county-beekeepers-association/2022-02-10/
LOCATION:Spartanburg County Beekeepers Association\, 107 Community College Drive\, Spartanburg\, SC\, 29303\, United States
GEO:34.97662;-81.9933
X-APPLE-STRUCTURED-LOCATION;VALUE=URI;X-ADDRESS=Spartanburg County Beekeepers Association 107 Community College Drive Spartanburg SC 29303 United States;X-APPLE-RADIUS=500;X-TITLE=107 Community College Drive:geo:-81.9933,34.97662
END:VEVENT
BEGIN:VEVENT
DTSTART;TZID=UTC:20220113T183000
DTEND;TZID=UTC:20220113T203000
DTSTAMP:20260420T042240
CREATED:20180228T223947Z
LAST-MODIFIED:20250424T032336Z
UID:10002352-1642098600-1642105800@scstatebeekeepers.com
SUMMARY:Spartanburg County Beekeepers Association
DESCRIPTION:2nd Thursday of each month except May (annual picnic) and Dec (annual Christmas party)\nCome early at 6:30pm for meet and greet – Meeting starts at 7:00pm
URL:https://scstatebeekeepers.com/event/spartanburg-county-beekeepers-association/2022-01-13/
LOCATION:Spartanburg County Beekeepers Association\, 107 Community College Drive\, Spartanburg\, SC\, 29303\, United States
GEO:34.97662;-81.9933
X-APPLE-STRUCTURED-LOCATION;VALUE=URI;X-ADDRESS=Spartanburg County Beekeepers Association 107 Community College Drive Spartanburg SC 29303 United States;X-APPLE-RADIUS=500;X-TITLE=107 Community College Drive:geo:-81.9933,34.97662
END:VEVENT
BEGIN:VEVENT
DTSTART;TZID=UTC:20211209T183000
DTEND;TZID=UTC:20211209T203000
DTSTAMP:20260420T042240
CREATED:20180228T223947Z
LAST-MODIFIED:20250424T032336Z
UID:10002351-1639074600-1639081800@scstatebeekeepers.com
SUMMARY:Spartanburg County Beekeepers Association
DESCRIPTION:2nd Thursday of each month except May (annual picnic) and Dec (annual Christmas party)\nCome early at 6:30pm for meet and greet – Meeting starts at 7:00pm
URL:https://scstatebeekeepers.com/event/spartanburg-county-beekeepers-association/2021-12-09/
LOCATION:Spartanburg County Beekeepers Association\, 107 Community College Drive\, Spartanburg\, SC\, 29303\, United States
GEO:34.97662;-81.9933
X-APPLE-STRUCTURED-LOCATION;VALUE=URI;X-ADDRESS=Spartanburg County Beekeepers Association 107 Community College Drive Spartanburg SC 29303 United States;X-APPLE-RADIUS=500;X-TITLE=107 Community College Drive:geo:-81.9933,34.97662
END:VEVENT
BEGIN:VEVENT
DTSTART;TZID=UTC:20211111T183000
DTEND;TZID=UTC:20211111T203000
DTSTAMP:20260420T042240
CREATED:20180228T223947Z
LAST-MODIFIED:20250424T032336Z
UID:10002350-1636655400-1636662600@scstatebeekeepers.com
SUMMARY:Spartanburg County Beekeepers Association
DESCRIPTION:2nd Thursday of each month except May (annual picnic) and Dec (annual Christmas party)\nCome early at 6:30pm for meet and greet – Meeting starts at 7:00pm
URL:https://scstatebeekeepers.com/event/spartanburg-county-beekeepers-association/2021-11-11/
LOCATION:Spartanburg County Beekeepers Association\, 107 Community College Drive\, Spartanburg\, SC\, 29303\, United States
GEO:34.97662;-81.9933
X-APPLE-STRUCTURED-LOCATION;VALUE=URI;X-ADDRESS=Spartanburg County Beekeepers Association 107 Community College Drive Spartanburg SC 29303 United States;X-APPLE-RADIUS=500;X-TITLE=107 Community College Drive:geo:-81.9933,34.97662
END:VEVENT
BEGIN:VEVENT
DTSTART;TZID=UTC:20211014T183000
DTEND;TZID=UTC:20211014T203000
DTSTAMP:20260420T042240
CREATED:20180228T223947Z
LAST-MODIFIED:20250424T032336Z
UID:10002349-1634236200-1634243400@scstatebeekeepers.com
SUMMARY:Spartanburg County Beekeepers Association
DESCRIPTION:2nd Thursday of each month except May (annual picnic) and Dec (annual Christmas party)\nCome early at 6:30pm for meet and greet – Meeting starts at 7:00pm
URL:https://scstatebeekeepers.com/event/spartanburg-county-beekeepers-association/2021-10-14/
LOCATION:Spartanburg County Beekeepers Association\, 107 Community College Drive\, Spartanburg\, SC\, 29303\, United States
GEO:34.97662;-81.9933
X-APPLE-STRUCTURED-LOCATION;VALUE=URI;X-ADDRESS=Spartanburg County Beekeepers Association 107 Community College Drive Spartanburg SC 29303 United States;X-APPLE-RADIUS=500;X-TITLE=107 Community College Drive:geo:-81.9933,34.97662
END:VEVENT
BEGIN:VEVENT
DTSTART;TZID=UTC:20210909T183000
DTEND;TZID=UTC:20210909T203000
DTSTAMP:20260420T042240
CREATED:20180228T223947Z
LAST-MODIFIED:20250424T032336Z
UID:10002348-1631212200-1631219400@scstatebeekeepers.com
SUMMARY:Spartanburg County Beekeepers Association
DESCRIPTION:2nd Thursday of each month except May (annual picnic) and Dec (annual Christmas party)\nCome early at 6:30pm for meet and greet – Meeting starts at 7:00pm
URL:https://scstatebeekeepers.com/event/spartanburg-county-beekeepers-association/2021-09-09/
LOCATION:Spartanburg County Beekeepers Association\, 107 Community College Drive\, Spartanburg\, SC\, 29303\, United States
GEO:34.97662;-81.9933
X-APPLE-STRUCTURED-LOCATION;VALUE=URI;X-ADDRESS=Spartanburg County Beekeepers Association 107 Community College Drive Spartanburg SC 29303 United States;X-APPLE-RADIUS=500;X-TITLE=107 Community College Drive:geo:-81.9933,34.97662
END:VEVENT
BEGIN:VEVENT
DTSTART;TZID=UTC:20210812T183000
DTEND;TZID=UTC:20210812T203000
DTSTAMP:20260420T042240
CREATED:20180228T223947Z
LAST-MODIFIED:20250424T032336Z
UID:10002347-1628793000-1628800200@scstatebeekeepers.com
SUMMARY:Spartanburg County Beekeepers Association
DESCRIPTION:2nd Thursday of each month except May (annual picnic) and Dec (annual Christmas party)\nCome early at 6:30pm for meet and greet – Meeting starts at 7:00pm
URL:https://scstatebeekeepers.com/event/spartanburg-county-beekeepers-association/2021-08-12/
LOCATION:Spartanburg County Beekeepers Association\, 107 Community College Drive\, Spartanburg\, SC\, 29303\, United States
GEO:34.97662;-81.9933
X-APPLE-STRUCTURED-LOCATION;VALUE=URI;X-ADDRESS=Spartanburg County Beekeepers Association 107 Community College Drive Spartanburg SC 29303 United States;X-APPLE-RADIUS=500;X-TITLE=107 Community College Drive:geo:-81.9933,34.97662
END:VEVENT
BEGIN:VEVENT
DTSTART;TZID=UTC:20210708T183000
DTEND;TZID=UTC:20210708T203000
DTSTAMP:20260420T042240
CREATED:20180228T223947Z
LAST-MODIFIED:20250424T032336Z
UID:10002346-1625769000-1625776200@scstatebeekeepers.com
SUMMARY:Spartanburg County Beekeepers Association
DESCRIPTION:2nd Thursday of each month except May (annual picnic) and Dec (annual Christmas party)\nCome early at 6:30pm for meet and greet – Meeting starts at 7:00pm
URL:https://scstatebeekeepers.com/event/spartanburg-county-beekeepers-association/2021-07-08/
LOCATION:Spartanburg County Beekeepers Association\, 107 Community College Drive\, Spartanburg\, SC\, 29303\, United States
GEO:34.97662;-81.9933
X-APPLE-STRUCTURED-LOCATION;VALUE=URI;X-ADDRESS=Spartanburg County Beekeepers Association 107 Community College Drive Spartanburg SC 29303 United States;X-APPLE-RADIUS=500;X-TITLE=107 Community College Drive:geo:-81.9933,34.97662
END:VEVENT
BEGIN:VEVENT
DTSTART;TZID=UTC:20210610T183000
DTEND;TZID=UTC:20210610T203000
DTSTAMP:20260420T042240
CREATED:20180228T223947Z
LAST-MODIFIED:20250424T032336Z
UID:10002345-1623349800-1623357000@scstatebeekeepers.com
SUMMARY:Spartanburg County Beekeepers Association
DESCRIPTION:2nd Thursday of each month except May (annual picnic) and Dec (annual Christmas party)\nCome early at 6:30pm for meet and greet – Meeting starts at 7:00pm
URL:https://scstatebeekeepers.com/event/spartanburg-county-beekeepers-association/2021-06-10/
LOCATION:Spartanburg County Beekeepers Association\, 107 Community College Drive\, Spartanburg\, SC\, 29303\, United States
GEO:34.97662;-81.9933
X-APPLE-STRUCTURED-LOCATION;VALUE=URI;X-ADDRESS=Spartanburg County Beekeepers Association 107 Community College Drive Spartanburg SC 29303 United States;X-APPLE-RADIUS=500;X-TITLE=107 Community College Drive:geo:-81.9933,34.97662
END:VEVENT
BEGIN:VEVENT
DTSTART;TZID=UTC:20210513T183000
DTEND;TZID=UTC:20210513T203000
DTSTAMP:20260420T042240
CREATED:20180228T223947Z
LAST-MODIFIED:20250424T032336Z
UID:10002344-1620930600-1620937800@scstatebeekeepers.com
SUMMARY:Spartanburg County Beekeepers Association
DESCRIPTION:2nd Thursday of each month except May (annual picnic) and Dec (annual Christmas party)\nCome early at 6:30pm for meet and greet – Meeting starts at 7:00pm
URL:https://scstatebeekeepers.com/event/spartanburg-county-beekeepers-association/2021-05-13/
LOCATION:Spartanburg County Beekeepers Association\, 107 Community College Drive\, Spartanburg\, SC\, 29303\, United States
GEO:34.97662;-81.9933
X-APPLE-STRUCTURED-LOCATION;VALUE=URI;X-ADDRESS=Spartanburg County Beekeepers Association 107 Community College Drive Spartanburg SC 29303 United States;X-APPLE-RADIUS=500;X-TITLE=107 Community College Drive:geo:-81.9933,34.97662
END:VEVENT
BEGIN:VEVENT
DTSTART;TZID=UTC:20210408T183000
DTEND;TZID=UTC:20210408T203000
DTSTAMP:20260420T042240
CREATED:20180228T223947Z
LAST-MODIFIED:20250424T032336Z
UID:10002343-1617906600-1617913800@scstatebeekeepers.com
SUMMARY:Spartanburg County Beekeepers Association
DESCRIPTION:2nd Thursday of each month except May (annual picnic) and Dec (annual Christmas party)\nCome early at 6:30pm for meet and greet – Meeting starts at 7:00pm
URL:https://scstatebeekeepers.com/event/spartanburg-county-beekeepers-association/2021-04-08/
LOCATION:Spartanburg County Beekeepers Association\, 107 Community College Drive\, Spartanburg\, SC\, 29303\, United States
GEO:34.97662;-81.9933
X-APPLE-STRUCTURED-LOCATION;VALUE=URI;X-ADDRESS=Spartanburg County Beekeepers Association 107 Community College Drive Spartanburg SC 29303 United States;X-APPLE-RADIUS=500;X-TITLE=107 Community College Drive:geo:-81.9933,34.97662
END:VEVENT
BEGIN:VEVENT
DTSTART;TZID=UTC:20210311T183000
DTEND;TZID=UTC:20210311T203000
DTSTAMP:20260420T042240
CREATED:20180228T223947Z
LAST-MODIFIED:20250424T032336Z
UID:10002342-1615487400-1615494600@scstatebeekeepers.com
SUMMARY:Spartanburg County Beekeepers Association
DESCRIPTION:2nd Thursday of each month except May (annual picnic) and Dec (annual Christmas party)\nCome early at 6:30pm for meet and greet – Meeting starts at 7:00pm
URL:https://scstatebeekeepers.com/event/spartanburg-county-beekeepers-association/2021-03-11/
LOCATION:Spartanburg County Beekeepers Association\, 107 Community College Drive\, Spartanburg\, SC\, 29303\, United States
GEO:34.97662;-81.9933
X-APPLE-STRUCTURED-LOCATION;VALUE=URI;X-ADDRESS=Spartanburg County Beekeepers Association 107 Community College Drive Spartanburg SC 29303 United States;X-APPLE-RADIUS=500;X-TITLE=107 Community College Drive:geo:-81.9933,34.97662
END:VEVENT
BEGIN:VEVENT
DTSTART;TZID=UTC:20210211T183000
DTEND;TZID=UTC:20210211T203000
DTSTAMP:20260420T042240
CREATED:20180228T223947Z
LAST-MODIFIED:20250424T032336Z
UID:10002341-1613068200-1613075400@scstatebeekeepers.com
SUMMARY:Spartanburg County Beekeepers Association
DESCRIPTION:2nd Thursday of each month except May (annual picnic) and Dec (annual Christmas party)\nCome early at 6:30pm for meet and greet – Meeting starts at 7:00pm
URL:https://scstatebeekeepers.com/event/spartanburg-county-beekeepers-association/2021-02-11/
LOCATION:Spartanburg County Beekeepers Association\, 107 Community College Drive\, Spartanburg\, SC\, 29303\, United States
GEO:34.97662;-81.9933
X-APPLE-STRUCTURED-LOCATION;VALUE=URI;X-ADDRESS=Spartanburg County Beekeepers Association 107 Community College Drive Spartanburg SC 29303 United States;X-APPLE-RADIUS=500;X-TITLE=107 Community College Drive:geo:-81.9933,34.97662
END:VEVENT
BEGIN:VEVENT
DTSTART;TZID=UTC:20210114T183000
DTEND;TZID=UTC:20210114T203000
DTSTAMP:20260420T042240
CREATED:20180228T223947Z
LAST-MODIFIED:20250424T032336Z
UID:10002340-1610649000-1610656200@scstatebeekeepers.com
SUMMARY:Spartanburg County Beekeepers Association
DESCRIPTION:2nd Thursday of each month except May (annual picnic) and Dec (annual Christmas party)\nCome early at 6:30pm for meet and greet – Meeting starts at 7:00pm
URL:https://scstatebeekeepers.com/event/spartanburg-county-beekeepers-association/2021-01-14/
LOCATION:Spartanburg County Beekeepers Association\, 107 Community College Drive\, Spartanburg\, SC\, 29303\, United States
GEO:34.97662;-81.9933
X-APPLE-STRUCTURED-LOCATION;VALUE=URI;X-ADDRESS=Spartanburg County Beekeepers Association 107 Community College Drive Spartanburg SC 29303 United States;X-APPLE-RADIUS=500;X-TITLE=107 Community College Drive:geo:-81.9933,34.97662
END:VEVENT
BEGIN:VEVENT
DTSTART;TZID=UTC:20201210T183000
DTEND;TZID=UTC:20201210T203000
DTSTAMP:20260420T042240
CREATED:20180228T223947Z
LAST-MODIFIED:20250424T032336Z
UID:10002339-1607625000-1607632200@scstatebeekeepers.com
SUMMARY:Spartanburg County Beekeepers Association
DESCRIPTION:2nd Thursday of each month except May (annual picnic) and Dec (annual Christmas party)\nCome early at 6:30pm for meet and greet – Meeting starts at 7:00pm
URL:https://scstatebeekeepers.com/event/spartanburg-county-beekeepers-association/2020-12-10/
LOCATION:Spartanburg County Beekeepers Association\, 107 Community College Drive\, Spartanburg\, SC\, 29303\, United States
GEO:34.97662;-81.9933
X-APPLE-STRUCTURED-LOCATION;VALUE=URI;X-ADDRESS=Spartanburg County Beekeepers Association 107 Community College Drive Spartanburg SC 29303 United States;X-APPLE-RADIUS=500;X-TITLE=107 Community College Drive:geo:-81.9933,34.97662
END:VEVENT
BEGIN:VEVENT
DTSTART;TZID=UTC:20201112T183000
DTEND;TZID=UTC:20201112T203000
DTSTAMP:20260420T042240
CREATED:20180228T223947Z
LAST-MODIFIED:20250424T032336Z
UID:10002338-1605205800-1605213000@scstatebeekeepers.com
SUMMARY:Spartanburg County Beekeepers Association
DESCRIPTION:2nd Thursday of each month except May (annual picnic) and Dec (annual Christmas party)\nCome early at 6:30pm for meet and greet – Meeting starts at 7:00pm
URL:https://scstatebeekeepers.com/event/spartanburg-county-beekeepers-association/2020-11-12/
LOCATION:Spartanburg County Beekeepers Association\, 107 Community College Drive\, Spartanburg\, SC\, 29303\, United States
GEO:34.97662;-81.9933
X-APPLE-STRUCTURED-LOCATION;VALUE=URI;X-ADDRESS=Spartanburg County Beekeepers Association 107 Community College Drive Spartanburg SC 29303 United States;X-APPLE-RADIUS=500;X-TITLE=107 Community College Drive:geo:-81.9933,34.97662
END:VEVENT
BEGIN:VEVENT
DTSTART;TZID=UTC:20201008T183000
DTEND;TZID=UTC:20201008T203000
DTSTAMP:20260420T042240
CREATED:20180228T223947Z
LAST-MODIFIED:20250424T032336Z
UID:10002337-1602181800-1602189000@scstatebeekeepers.com
SUMMARY:Spartanburg County Beekeepers Association
DESCRIPTION:2nd Thursday of each month except May (annual picnic) and Dec (annual Christmas party)\nCome early at 6:30pm for meet and greet – Meeting starts at 7:00pm
URL:https://scstatebeekeepers.com/event/spartanburg-county-beekeepers-association/2020-10-08/
LOCATION:Spartanburg County Beekeepers Association\, 107 Community College Drive\, Spartanburg\, SC\, 29303\, United States
GEO:34.97662;-81.9933
X-APPLE-STRUCTURED-LOCATION;VALUE=URI;X-ADDRESS=Spartanburg County Beekeepers Association 107 Community College Drive Spartanburg SC 29303 United States;X-APPLE-RADIUS=500;X-TITLE=107 Community College Drive:geo:-81.9933,34.97662
END:VEVENT
BEGIN:VEVENT
DTSTART;TZID=UTC:20200910T183000
DTEND;TZID=UTC:20200910T203000
DTSTAMP:20260420T042240
CREATED:20180228T223947Z
LAST-MODIFIED:20250424T032336Z
UID:10002336-1599762600-1599769800@scstatebeekeepers.com
SUMMARY:Spartanburg County Beekeepers Association
DESCRIPTION:2nd Thursday of each month except May (annual picnic) and Dec (annual Christmas party)\nCome early at 6:30pm for meet and greet – Meeting starts at 7:00pm
URL:https://scstatebeekeepers.com/event/spartanburg-county-beekeepers-association/2020-09-10/
LOCATION:Spartanburg County Beekeepers Association\, 107 Community College Drive\, Spartanburg\, SC\, 29303\, United States
GEO:34.97662;-81.9933
X-APPLE-STRUCTURED-LOCATION;VALUE=URI;X-ADDRESS=Spartanburg County Beekeepers Association 107 Community College Drive Spartanburg SC 29303 United States;X-APPLE-RADIUS=500;X-TITLE=107 Community College Drive:geo:-81.9933,34.97662
END:VEVENT
END:VCALENDAR